Shooting information for this photo
Camera: | PENTAX K200D |
Exposure: | 0.004 sec. (1/250) |
Aperture: | f/9.5 |
Focal Length: | 37.0 mm (35 mm equivalent: 55.0 mm) |
Flash: | Off, Did not fire |
Exposure mode: | Program AE |
Resolution: | 300 x 300 dpi |
Original Date: | 2012:07:11 13:44:31 |
Created on: | 2012:07:11 13:44:31 |
Modified on: | 2012:07:11 18:12:50 |
Software: | Adobe Photoshop Lightroom 4.1 (Windows) |
Copyright: | Copyright 2012 by Tobias Bauer |
Already Applied | True |
Artist | Tobias Bauer |
Auto Lateral CA | 0 |
Blacks 2012 | -3 |
Blue Hue | 0 |
Blue Saturation | 0 |
Camera Profile | Adobe Standard |
Circle Of Confusion | 0.020 mm |
City | Waldsassen |
Clarity 2012 | 0 |
Color Noise Reduction | 25 |
Color Noise Reduction Detail | 50 |
Color Temperature | 5500 |
Contrast | High |
Contrast 2012 | -5 |
Convert To Grayscale | False |
Country | Deutschland |
Country Code | DEU |
Creator | Tobias Bauer |
Crop Angle | 0.338 |
Crop Bottom | 1 |
Crop Constrain To Warp | 0 |
Crop Height | 2569 |
Crop Left | 0.006325 |
Crop Right | 0.993675 |
Crop Top | 0 |
Crop Unit | pixels |
Crop Width | 3838 |
Custom Rendered | Normal |
Date Created | 2012:07:11 13:44:31 |
Defringe Green Amount | 0 |
Defringe Green Hue Hi | 60 |
Defringe Green Hue Lo | 40 |
Defringe Purple Amount | 0 |
Defringe Purple Hue Hi | 70 |
Defringe Purple Hue Lo | 30 |
Exposure 2012 | 0.00 |
Exposure Compensation | 0 |
Exposure Mode | Auto |
Field Of View | 36.2 deg |
Focal Length In 35mm Format | 55 mm |
Format | image/jpeg |
Grain Amount | 0 |
Green Hue | 0 |
Green Saturation | 0 |
Has Crop | True |
Has Settings | True |
Highlights 2012 | -39 |
Hue Adjustment Aqua | 0 |
Hue Adjustment Blue | 0 |
Hue Adjustment Green | 0 |
Hue Adjustment Magenta | 0 |
Hue Adjustment Orange | 0 |
Hue Adjustment Purple | 0 |
Hue Adjustment Red | 0 |
Hue Adjustment Yellow | 0 |
Hyperfocal Distance | 7.13 m |
ISO | 100 |
Image Size | 3838x2569 |
Lens | Sigma or Tamron Lens |
Lens ID | Sigma 17-70mm F2.8-4.5 DC Macro or Sigma 18-50mm F3.5-5.6 DC or Tamron 35-90mm F4 AF |
Lens Manual Distortion Amount | 0 |
Lens Model | Sigma or Tamron Lens |
Lens Profile Chromatic Aberration Scale | 100 |
Lens Profile Distortion Scale | 100 |
Lens Profile Enable | 1 |
Lens Profile Filename | PENTAX (Sigma_17-70mm_F2.8-4.5_DC_MAC RO_HSM ) - RAW.lcp |
Lens Profile Name | Adobe (SIGMA 17-70mm F2.8-4.5 DC MACRO / HSM, PENTAX) |
Lens Profile Setup | LensDefaults |
Lens Profile Vignetting Scale | 100 |
Light Value | 14.5 |
Location | Waldsassen |
Luminance Adjustment Aqua | 0 |
Luminance Adjustment Blue | 0 |
Luminance Adjustment Green | 0 |
Luminance Adjustment Magenta | 0 |
Luminance Adjustment Orange | 0 |
Luminance Adjustment Purple | 0 |
Luminance Adjustment Red | 0 |
Luminance Adjustment Yellow | 0 |
Luminance Smoothing | 0 |
Marked | True |
Metering Mode | Multi-segment |
Parametric Darks | 0 |
Parametric Highlight Split | 75 |
Parametric Highlights | 0 |
Parametric Lights | 0 |
Parametric Midtone Split | 50 |
Parametric Shadow Split | 25 |
Parametric Shadows | 0 |
Perspective Horizontal | 0 |
Perspective Rotate | 0.0 |
Perspective Scale | 100 |
Perspective Vertical | 0 |
Post Crop Vignette Amount | 0 |
Primary Chromaticities | 0.64, 0.33, 0.21, 0.71, 0.15, 0.06 |
Process Version | 6.7 |
Red Hue | 0 |
Red Saturation | 0 |
Rights | Copyright 2012 by Tobias Bauer |
Saturation | Normal |
Saturation Adjustment Aqua | 0 |
Saturation Adjustment Blue | 0 |
Saturation Adjustment Green | 0 |
Saturation Adjustment Magenta | 0 |
Saturation Adjustment Orange | 0 |
Saturation Adjustment Purple | 0 |
Saturation Adjustment Red | 0 |
Saturation Adjustment Yellow | 0 |
Scale Factor To 35 mm Equivalent | 1.5 |
Scene Capture Type | Standard |
Sensing Method | One-chip color area |
Shadow Tint | 0 |
Shadows 2012 | +39 |
Sharpen Detail | 25 |
Sharpen Edge Masking | 0 |
Sharpen Radius | +1.0 |
Sharpness | Hard |
Split Toning Balance | 0 |
Split Toning Highlight Hue | 0 |
Split Toning Highlight Saturation | 0 |
Split Toning Shadow Hue | 0 |
Split Toning Shadow Saturation | 0 |
State | Bayern |
Subject | Ausflugsziele, Basilika, Bayern, Deutschland, Orte, St. Maria und St. Johannes, Stiftsbasilika Waldsassen, Waldsassen |
Subject Distance Range | Distant |
Tint | +10 |
Title | Kloster Waldsassen |
Tone Curve Name 2012 | Linear |
Tone Curve PV2012 | 0, 0, 255, 255 |
Tone Curve PV2012 Blue | 0, 0, 255, 255 |
Tone Curve PV2012 Green | 0, 0, 255, 255 |
Tone Curve PV2012 Red | 0, 0, 255, 255 |
Version | 7.1 |
Vibrance | 0 |
Vignette Amount | 0 |
White Balance | Auto |
White Point | 0.313, 0.329 |
Whites 2012 | +36 |
GPS Information |
GPS Altitude | 485 m Above Sea Level |
GPS Altitude Ref | Above Sea Level |
GPS Date Stamp | 2012:07:11 |
GPS Date/Time | 2012:07:11 11:44:31Z |
GPS Latitude | 50 deg 0' 20.06" N |
GPS Latitude Ref | North |
GPS Longitude | 12 deg 18' 26.77" E |
GPS Longitude Ref | East |
GPS Map Datum | WGS-84 |
GPS Position | 50 deg 0' 20.06" N, 12 deg 18' 26.77" E |
GPS Time Stamp | 11:44:31 |
GPS Version ID | 2.2.0.0 |