Shooting information for this photo
Camera: | PENTAX Corporation PENTAX K200D |
Exposure: | 0.5 sec. |
Aperture: | f/2.8 |
Focal Length: | 17.0 mm (35 mm equivalent: 25.0 mm) |
Flash: | Off, Did not fire |
Exposure mode: | Program AE |
Resolution: | 300 x 300 dpi |
Original Date: | 2008:07:15 22:04:44 |
Digitized Date: | 2008:07:15 22:04:44+02:00 |
Created on: | 2008:07:15 22:04:44 |
Modified on: | 2008:07:16 19:26:29 |
Software: | K200D Ver 1.00 |
Copyright: | Copyright 2008 by Tobias Bauer. |
Already Applied | True |
Artist | Tobias Bauer |
Blue Hue | 0 |
Blue Saturation | 0 |
Brightness | +42 |
Camera Profile | ACR 4.4 |
Chromatic Aberration B | 0 |
Chromatic Aberration R | 0 |
Circle Of Confusion | 0.020 mm |
City | Bad Alexandersbad |
Clarity | 0 |
Color Noise Reduction | 25 |
Color Temperature | 6500 |
Contrast | High |
Convert To Grayscale | False |
Country | Deutschland |
Country Code | DEU |
Creator | Tobias Bauer |
Crop Angle | 0 |
Crop Bottom | 0.769697 |
Crop Height | 786 |
Crop Left | 0.208925 |
Crop Right | 0.849899 |
Crop Top | 0.181818 |
Crop Unit | pixels |
Crop Width | 1280 |
Custom Rendered | Normal |
Defringe | 0 |
Exposure | 0.00 |
Exposure Compensation | 0 |
Exposure Mode | Auto |
Field Of View | 71.5 deg |
Fill Light | 0 |
Flash Fired | False |
Flash Function | False |
Flash Mode | Off |
Flash Red Eye Mode | False |
Flash Return | No return detection |
Focal Length In 35mm Format | 25 mm |
Green Hue | 0 |
Green Saturation | 0 |
Has Crop | True |
Has Settings | True |
Hierarchical Subject | Natur|Sonnenuntergang, Orte|Deutschland, Orte|Deutschland|Bayern, Orte|Deutschland|Bayern|Bad Alexandersbad, Orte|Deutschland|Bayern|Bad Alexandersbad|Sichersreuth |
Highlight Recovery | 100 |
Hue Adjustment Aqua | 0 |
Hue Adjustment Blue | 0 |
Hue Adjustment Green | 0 |
Hue Adjustment Magenta | 0 |
Hue Adjustment Orange | 0 |
Hue Adjustment Purple | 0 |
Hue Adjustment Red | 0 |
Hue Adjustment Yellow | 0 |
Hyperfocal Distance | 5.05 m |
ISO | 200 |
Image Size | 1280x786 |
Lens | Tamron 35-90mm F4 AF or various SIGMA models |
Lens ID | Sigma AF 10-20mm F4-5.6 EX DC or Sigma 12-24mm F4.5 EX DG or Sigma 17-70mm F2.8-4.5 DC Macro |
Light Value | 3.0 |
Location | Sichersreuth |
Luminance Adjustment Aqua | 0 |
Luminance Adjustment Blue | -56 |
Luminance Adjustment Green | -8 |
Luminance Adjustment Magenta | 0 |
Luminance Adjustment Orange | -25 |
Luminance Adjustment Purple | 0 |
Luminance Adjustment Red | -38 |
Luminance Adjustment Yellow | -13 |
Luminance Smoothing | 50 |
Marked | True |
Metering Mode | Multi-segment |
Parametric Darks | 0 |
Parametric Highlight Split | 75 |
Parametric Highlights | 0 |
Parametric Lights | 0 |
Parametric Midtone Split | 50 |
Parametric Shadow Split | 25 |
Parametric Shadows | 0 |
Red Hue | 0 |
Red Saturation | 0 |
Rights | Copyright 2008 by Tobias Bauer. |
Saturation | Normal |
Saturation Adjustment Aqua | +30 |
Saturation Adjustment Blue | +63 |
Saturation Adjustment Green | +30 |
Saturation Adjustment Magenta | +56 |
Saturation Adjustment Orange | +30 |
Saturation Adjustment Purple | +60 |
Saturation Adjustment Red | +55 |
Saturation Adjustment Yellow | +15 |
Scale Factor To 35 mm Equivalent | 1.5 |
Scene Capture Type | Standard |
Sensing Method | One-chip color area |
Shadow Tint | 0 |
Shadows | 2 |
Sharpen Detail | 25 |
Sharpen Edge Masking | 0 |
Sharpen Radius | +2.0 |
Sharpness | Hard |
Split Toning Balance | 0 |
Split Toning Highlight Hue | 0 |
Split Toning Highlight Saturation | 0 |
Split Toning Shadow Hue | 0 |
Split Toning Shadow Saturation | 0 |
State | Bayern |
Subject | Bad Alexandersbad, Bayern, Deutschland, Natur, Orte, Sichersreuth, Sonnenuntergang |
Subject Distance Range | Distant |
Tint | -4 |
Tone Curve | 0, 0, 32, 22, 64, 56, 128, 128, 192, 196, 255, 255 |
Tone Curve Name | Medium Contrast |
Version | 4.4.1 |
Vibrance | 0 |
Vignette Amount | 0 |
White Balance | Auto |
GPS Information |
GPS Altitude | 589 m Above Sea Level |
GPS Altitude Ref | Above Sea Level |
GPS Date Stamp | 2008:07:15 |
GPS Date/Time | 2008:07:15 20:04:44Z |
GPS Latitude | 50 deg 1' 15.46" N |
GPS Latitude Ref | North |
GPS Longitude | 12 deg 1' 48.49" E |
GPS Longitude Ref | East |
GPS Map Datum | WGS-84 |
GPS Position | 50 deg 1' 15.46" N, 12 deg 1' 48.49" E |
GPS Satellites | 0 |
GPS Time Stamp | 20:04:44 |
GPS Version ID | 2.2.0.0 |