Shooting information for this photo
Camera: | NIKON CORPORATION NIKON D800 |
Exposure: | 0.00156 sec. (1/640) |
Aperture: | f/14.0 |
Focal Length: | 105.0 mm (35 mm equivalent: 105.0 mm) |
Flash: | Off, Did not fire |
Exposure mode: | Program AE |
Max Aperture: | 2.8 |
Resolution: | 240 x 240 dpi |
Original Date: | 2023:08:07 16:02:02.20 |
Created on: | 2023:08:07 16:02:02.20 |
Modified on: | 2023:08:07 22:03:07 |
Software: | Adobe Photoshop Lightroom Classic 12.4 (Windows) |
Copyright: | Sven Scholz |
Already Applied | True |
Approximate Focus Distance | 4294967295 |
Artist | Sven Scholz |
Auto Lateral CA | 0 |
Blacks 2012 | +4 |
Blue Hue | 0 |
Blue Saturation | +100 |
CFA Pattern | [Red,Green][Green,Blue] |
Camera Profile | Adobe Standard |
Circle Of Confusion | 0.030 mm |
Clarity 2012 | +52 |
Color Grade Blending | 50 |
Color Grade Global Hue | 0 |
Color Grade Global Lum | 0 |
Color Grade Global Sat | 0 |
Color Grade Highlight Lum | 0 |
Color Grade Midtone Hue | 0 |
Color Grade Midtone Lum | 0 |
Color Grade Midtone Sat | 0 |
Color Grade Shadow Lum | 0 |
Color Noise Reduction | 25 |
Color Noise Reduction Detail | 50 |
Color Noise Reduction Smoothness | 50 |
Color Space | sRGB |
Color Temperature | 5262 |
Compatible Version | 251658240 |
Contrast | Normal |
Contrast 2012 | +7 |
Creator | Sven Scholz |
Crop Angle | 0 |
Crop Bottom | 1 |
Crop Constrain To Warp | 0 |
Crop Left | 0 |
Crop Right | 1 |
Crop Top | 0 |
Curve Refine Saturation | 100 |
Custom Rendered | Normal |
Date Created | 2023:08:07 16:02:02.20 |
Defringe Green Amount | 0 |
Defringe Green Hue Hi | 60 |
Defringe Green Hue Lo | 40 |
Defringe Purple Amount | 0 |
Defringe Purple Hue Hi | 70 |
Defringe Purple Hue Lo | 30 |
Dehaze | +5 |
Digital Zoom Ratio | 1 |
Distortion Correction Already Applied | True |
Exposure 2012 | +0.99 |
Exposure Compensation | -1/3 |
Exposure Mode | Auto |
Field Of View | 19.5 deg |
Focal Length In 35mm Format | 105 mm |
Format | image/jpeg |
Gain Control | None |
Grain Amount | 0 |
Green Hue | 0 |
Green Saturation | 0 |
Has Crop | False |
Has Settings | True |
Highlights 2012 | -100 |
Hue Adjustment Aqua | 0 |
Hue Adjustment Blue | 0 |
Hue Adjustment Green | 0 |
Hue Adjustment Magenta | 0 |
Hue Adjustment Orange | 0 |
Hue Adjustment Purple | 0 |
Hue Adjustment Red | 0 |
Hue Adjustment Yellow | 0 |
Hyperfocal Distance | 26.21 m |
ISO | 100 |
Image Number | 19783 |
Image Size | 7360x4912 |
Lens | 105.0 mm f/2.8 |
Lens ID | AF-S VR Micro-Nikkor 105mm f/2.8G IF-ED |
Lens Info | 105mm f/2.8 |
Lens Manual Distortion Amount | 0 |
Lens Model | 105.0 mm f/2.8 |
Lens Profile Distortion Scale | 100 |
Lens Profile Enable | 1 |
Lens Profile Filename | NIKON D3 (Nikon AF-S VR Micro-Nikkor 105mm f2.8G IF-ED) - RAW.lcp |
Lens Profile Is Embedded | False |
Lens Profile Name | Adobe (Nikon AF-S VR Micro-Nikkor 105mm f/2.8G IF-ED) |
Lens Profile Setup | LensDefaults |
Lens Profile Vignetting Scale | 100 |
Light Source | Unknown |
Light Value | 16.9 |
Look Amount | 1 |
Look Group | Profiles |
Look Name | Adobe Color |
Look Parameters Camera Profile | Adobe Standard |
Look Parameters Convert To Grayscale | False |
Look Parameters Look Table | E1095149FDB39D7A057BAB208837E2 E1 |
Look Parameters Process Version | 15.4 |
Look Parameters Tone Curve PV2012 | 0, 0, 22, 16, 40, 35, 127, 127, 224, 230, 240, 246, 255, 255 |
Look Parameters Tone Curve PV2012 Blue | 0, 0, 255, 255 |
Look Parameters Tone Curve PV2012 Green | 0, 0, 255, 255 |
Look Parameters Tone Curve PV2012 Red | 0, 0, 255, 255 |
Look Parameters Version | 15.4 |
Look Supports Amount | false |
Look Supports Monochrome | false |
Look Supports Output Referred | false |
Luminance Adjustment Aqua | 0 |
Luminance Adjustment Blue | 0 |
Luminance Adjustment Green | +21 |
Luminance Adjustment Magenta | 0 |
Luminance Adjustment Orange | +39 |
Luminance Adjustment Purple | 0 |
Luminance Adjustment Red | 0 |
Luminance Adjustment Yellow | +36 |
Luminance Smoothing | 0 |
Metering Mode | Center-weighted average |
Override Look Vignette | False |
Parametric Darks | 0 |
Parametric Highlight Split | 75 |
Parametric Highlights | 0 |
Parametric Lights | 0 |
Parametric Midtone Split | 50 |
Parametric Shadow Split | 25 |
Parametric Shadows | 0 |
Perspective Aspect | 0 |
Perspective Horizontal | 0 |
Perspective Rotate | 0.0 |
Perspective Scale | 100 |
Perspective Upright | 0 |
Perspective Vertical | 0 |
Perspective X | 0.00 |
Perspective Y | 0.00 |
Post Crop Vignette Amount | 0 |
Preserved File Name | _DSC9616.NEF |
Process Version | 15.4 |
Raw File Name | _DSC9616.NEF |
Red Hue | 0 |
Red Saturation | 0 |
Rights | Sven Scholz |
Saturation | Normal |
Saturation Adjustment Aqua | 0 |
Saturation Adjustment Blue | 0 |
Saturation Adjustment Green | +6 |
Saturation Adjustment Magenta | 0 |
Saturation Adjustment Orange | +20 |
Saturation Adjustment Purple | 0 |
Saturation Adjustment Red | 0 |
Saturation Adjustment Yellow | +31 |
Scale Factor To 35 mm Equivalent | 1.0 |
Scene Capture Type | Standard |
Scene Type | Directly photographed |
Sensing Method | One-chip color area |
Sensitivity Type | Recommended Exposure Index |
Shadow Tint | 0 |
Shadows 2012 | +100 |
Sharpen Detail | 25 |
Sharpen Edge Masking | 0 |
Sharpen Radius | +1.0 |
Sharpness | Normal |
Split Toning Balance | 0 |
Split Toning Highlight Hue | 0 |
Split Toning Highlight Saturation | 0 |
Split Toning Shadow Hue | 0 |
Split Toning Shadow Saturation | 0 |
Subject Distance Range | Unknown |
Texture | 0 |
Tint | +7 |
Tone Curve Name 2012 | Custom |
Tone Curve PV2012 | 0, 0, 30, 30, 64, 72, 255, 255 |
Tone Curve PV2012 Blue | 0, 0, 255, 255 |
Tone Curve PV2012 Green | 0, 0, 255, 255 |
Tone Curve PV2012 Red | 0, 0, 255, 255 |
Version | 15.4 |
Vibrance | -21 |
Vignette Amount | 0 |
Vignette Correction Already Applied | True |
White Balance | Auto |
Whites 2012 | +60 |