Shooting information for this photo
Camera: | NIKON CORPORATION NIKON D800 |
Exposure: | 0.025 sec. (1/40) |
Aperture: | f/4.0 |
Focal Length: | 35.0 mm (35 mm equivalent: 35.0 mm) |
Flash: | Off, Did not fire |
Exposure mode: | Program AE |
Max Aperture: | 4.0 |
Resolution: | 300 x 300 dpi |
Original Date: | 2013:08:31 19:25:34.30 |
Created on: | 2013:08:31 19:25:34.30 |
Modified on: | 2013:09:01 14:02:57 |
Software: | Adobe Photoshop Lightroom 5.0 (Windows) |
Copyright: | Sven Scholz |
Already Applied | True |
Approximate Focus Distance | 4294967295 |
Artist | Sven Scholz |
Auto Lateral CA | 0 |
Blacks 2012 | 0 |
Blue Hue | 0 |
Blue Saturation | 0 |
CFA Pattern | [Red,Green][Green,Blue] |
Camera Profile | Adobe Standard |
Circle Of Confusion | 0.030 mm |
Clarity 2012 | +31 |
Color Noise Reduction | 25 |
Color Noise Reduction Detail | 50 |
Color Temperature | 6600 |
Contrast | Normal |
Contrast 2012 | +1 |
Convert To Grayscale | False |
Creator | Sven Scholz |
Crop Angle | 0 |
Crop Bottom | 0.792717 |
Crop Constrain To Warp | 0 |
Crop Left | 0.2 |
Crop Right | 0.609461 |
Crop Top | 0.383256 |
Custom Rendered | Normal |
Date Created | 2013:08:31 19:25:34.30 |
Defringe Green Amount | 0 |
Defringe Green Hue Hi | 60 |
Defringe Green Hue Lo | 40 |
Defringe Purple Amount | 0 |
Defringe Purple Hue Hi | 70 |
Defringe Purple Hue Lo | 30 |
Digital Zoom Ratio | 1 |
Exposure 2012 | -0.22 |
Exposure Compensation | 0 |
Exposure Mode | Auto |
Field Of View | 54.4 deg |
Focal Length In 35mm Format | 35 mm |
Format | image/jpeg |
Gain Control | None |
Grain Amount | 0 |
Green Hue | 0 |
Green Saturation | 0 |
Has Crop | True |
Has Settings | True |
Highlights 2012 | -100 |
Hue Adjustment Aqua | 0 |
Hue Adjustment Blue | 0 |
Hue Adjustment Green | 0 |
Hue Adjustment Magenta | 0 |
Hue Adjustment Orange | 0 |
Hue Adjustment Purple | 0 |
Hue Adjustment Red | 0 |
Hue Adjustment Yellow | 0 |
Hyperfocal Distance | 10.19 m |
ISO | 320 |
Image Number | 2201 |
Image Size | 3014x2012 |
Lens | 16.0-35.0 mm f/4.0 |
Lens ID | AF-S Nikkor 16-35mm f/4G ED VR |
Lens Info | 16-35mm f/4 |
Lens Manual Distortion Amount | 0 |
Lens Model | 16.0-35.0 mm f/4.0 |
Lens Profile Chromatic Aberration Scale | 100 |
Lens Profile Distortion Scale | 100 |
Lens Profile Enable | 1 |
Lens Profile Filename | NIKON D3X (Nikon AF-S NIKKOR 16-35mm f4G ED VR) - RAW.lcp |
Lens Profile Name | Adobe (Nikon AF-S NIKKOR 16-35mm f/4G ED VR) |
Lens Profile Setup | LensDefaults |
Lens Profile Vignetting Scale | 100 |
Light Source | Unknown |
Light Value | 7.6 |
Luminance Adjustment Aqua | 0 |
Luminance Adjustment Blue | 0 |
Luminance Adjustment Green | 0 |
Luminance Adjustment Magenta | 0 |
Luminance Adjustment Orange | 0 |
Luminance Adjustment Purple | 0 |
Luminance Adjustment Red | 0 |
Luminance Adjustment Yellow | 0 |
Luminance Noise Reduction Contrast | 0 |
Luminance Noise Reduction Detail | 50 |
Luminance Smoothing | 15 |
Metering Mode | Center-weighted average |
Parametric Darks | 0 |
Parametric Highlight Split | 75 |
Parametric Highlights | 0 |
Parametric Lights | 0 |
Parametric Midtone Split | 50 |
Parametric Shadow Split | 25 |
Parametric Shadows | 0 |
Perspective Aspect | 0 |
Perspective Horizontal | 0 |
Perspective Rotate | 0.0 |
Perspective Scale | 100 |
Perspective Upright | 0 |
Perspective Vertical | 0 |
Post Crop Vignette Amount | 0 |
Process Version | 6.7 |
Rating | 0 |
Red Hue | 0 |
Red Saturation | 0 |
Rights | Sven Scholz |
Saturation | Normal |
Saturation Adjustment Aqua | 0 |
Saturation Adjustment Blue | -1 |
Saturation Adjustment Green | 0 |
Saturation Adjustment Magenta | 0 |
Saturation Adjustment Orange | 0 |
Saturation Adjustment Purple | 0 |
Saturation Adjustment Red | 0 |
Saturation Adjustment Yellow | 0 |
Scale Factor To 35 mm Equivalent | 1.0 |
Scene Capture Type | Standard |
Scene Type | Directly photographed |
Sensing Method | One-chip color area |
Sensitivity Type | Recommended Exposure Index |
Shadow Tint | 0 |
Shadows 2012 | +100 |
Sharpen Detail | 25 |
Sharpen Edge Masking | 0 |
Sharpen Radius | +1.0 |
Sharpness | Normal |
Split Toning Balance | +12 |
Split Toning Highlight Hue | 238 |
Split Toning Highlight Saturation | 25 |
Split Toning Shadow Hue | 26 |
Split Toning Shadow Saturation | 12 |
Subject Distance Range | Unknown |
Tint | +5 |
Tone Curve Name 2012 | Custom |
Tone Curve PV2012 | 0, 0, 21, 13, 78, 79, 128, 138, 255, 255 |
Tone Curve PV2012 Blue | 0, 0, 255, 255 |
Tone Curve PV2012 Green | 0, 0, 255, 255 |
Tone Curve PV2012 Red | 0, 0, 255, 255 |
Version | 8.1 |
Vibrance | +34 |
Vignette Amount | 0 |
White Balance | Auto |
Whites 2012 | +1 |