Shooting information for this photo
Camera: | NIKON CORPORATION NIKON D200 |
Exposure: | 0.008 sec. (1/125) |
Aperture: | f/4.5 |
Focal Length: | 50.0 mm (35 mm equivalent: 75.0 mm) |
Flash: | Fired, Return detected |
Exposure mode: | Shutter speed priority AE |
Max Aperture: | 4.4 |
Resolution: | 240 x 240 dpi |
Dimension: | 2282 x 3409 pixels |
Original Date: | 2008:02:08 23:30:07.08 |
Digitized Date: | 2008:02:08 23:30:07.08+01:00 |
Created on: | 2008:02:08 23:30:07.08 |
Modified on: | 2009:01:18 18:42:43.08 |
Software: | Adobe Photoshop CS4 Macintosh |
Already Applied | True |
Artist | Thore Siebrands |
Blue Hue | 0 |
Blue Saturation | 0 |
Brightness | +50 |
CFA Pattern | [Green,Red][Blue,Green] |
Camera Profile | Adobe Standard |
Caption Writer | Thore Siebrands |
Chromatic Aberration B | 0 |
Chromatic Aberration R | 0 |
Circle Of Confusion | 0.020 mm |
Clarity | +19 |
Color Mode | RGB |
Color Noise Reduction | 25 |
Color Space | Uncalibrated |
Color Temperature | 5500 |
Contrast | +54 |
Convert To Grayscale | False |
Country | Germany |
Country Code | DE |
Creator | Thore Siebrands |
Custom Rendered | Normal |
Defringe | 0 |
Description | Robert Stadlober, Volkswagen People’s Night |
Digital Zoom Ratio | 1 |
Exposure | 0.00 |
Exposure Compensation | 0 |
Exposure Mode | Auto |
Field Of View | 27.0 deg |
Fill Light | 32 |
Flash Fired | True |
Flash Function | False |
Flash Mode | Unknown |
Flash Red Eye Mode | False |
Flash Return | Return detected |
Focal Length In 35mm Format | 75 mm |
Format | image/jpeg |
Gain Control | None |
Green Hue | 0 |
Green Saturation | 0 |
Has Crop | False |
Has Settings | True |
Highlight Recovery | 0 |
Hue Adjustment Aqua | 0 |
Hue Adjustment Blue | 0 |
Hue Adjustment Green | 0 |
Hue Adjustment Magenta | 0 |
Hue Adjustment Orange | 0 |
Hue Adjustment Purple | 0 |
Hue Adjustment Red | 0 |
Hue Adjustment Yellow | 0 |
Hyperfocal Distance | 27.74 m |
ICC Profile Name | Adobe RGB (1998) |
ISO | 100 |
Image Description | Robert Stadlober, Volkswagen People’s Night |
Image Number | 15075 |
Image Size | 2282x3409 |
Label | gelb |
Lens | 18.0-70.0 mm f/3.5-4.5 |
Lens Info | 18-70mm f/3.5-4.5 |
Light Source | Unknown |
Light Value | 11.3 |
Location | Pariser Platz, Akademie der Künste |
Luminance Adjustment Aqua | 0 |
Luminance Adjustment Blue | 0 |
Luminance Adjustment Green | 0 |
Luminance Adjustment Magenta | 0 |
Luminance Adjustment Orange | 0 |
Luminance Adjustment Purple | 0 |
Luminance Adjustment Red | 0 |
Luminance Adjustment Yellow | 0 |
Luminance Smoothing | 55 |
Marked | True |
Metering Mode | Multi-segment |
Parametric Darks | 0 |
Parametric Highlight Split | 75 |
Parametric Highlights | -10 |
Parametric Lights | 0 |
Parametric Midtone Split | 50 |
Parametric Shadow Split | 25 |
Parametric Shadows | +35 |
Photometric Interpretation | RGB |
Post Crop Vignette Amount | 0 |
Preserved File Name | _08Z4611.NEF |
Rating | 5 |
Raw File Name | _08Z4611.NEF |
Red Hue | 0 |
Red Saturation | 0 |
Samples Per Pixel | 3 |
Saturation | 0 |
Saturation Adjustment Aqua | 0 |
Saturation Adjustment Blue | 0 |
Saturation Adjustment Green | 0 |
Saturation Adjustment Magenta | 0 |
Saturation Adjustment Orange | 0 |
Saturation Adjustment Purple | 0 |
Saturation Adjustment Red | 0 |
Saturation Adjustment Yellow | 0 |
Scale Factor To 35 mm Equivalent | 1.5 |
Scene Capture Type | Standard |
Scene Type | Directly photographed |
Sensing Method | One-chip color area |
Shadow Tint | 0 |
Shadows | 0 |
Sharpen Detail | 25 |
Sharpen Edge Masking | 0 |
Sharpen Radius | +0.7 |
Sharpness | 99 |
Split Toning Balance | 0 |
Split Toning Highlight Hue | 0 |
Split Toning Highlight Saturation | 0 |
Split Toning Shadow Hue | 0 |
Split Toning Shadow Saturation | 0 |
State | Berlin |
Subject | Berlin, Berlinale, 2008, 58. Internationale Filmfestspiele Berlin, 58. Berlinale, 58th Berlin International Film Festival, Volkswagen People’s Night, Robert Stadlober |
Subject Distance Range | Unknown |
Tint | 0 |
Tone Curve | 0, 0, 32, 22, 64, 56, 128, 128, 192, 196, 255, 255 |
Tone Curve Name | Medium Contrast |
User Comment | (C) Thore Siebrands |
Version | 5.2 |
Vibrance | 0 |
Vignette Amount | 0 |
White Balance | Flash |