Shooting information for this photo
Camera: | NIKON CORPORATION NIKON D700 |
Exposure: | 0.01 sec. (1/100) |
Aperture: | f/8.0 |
Focal Length: | 200.0 mm (35 mm equivalent: 200.0 mm) |
Flash: | No Flash |
Exposure mode: | Aperture-priority AE |
Max Aperture: | 2.8 |
Resolution: | 240 x 240 dpi |
Original Date: | 2011:09:01 16:43:59.9 |
Created on: | 2011:09:01 16:43:59.9 |
Modified on: | 2011:12:07 17:02:21 |
Software: | Adobe Photoshop Camera Raw 6.5 (Macintosh) |
Copyright: | Thore Siebrands |
Already Applied | True |
Approximate Focus Distance | 15 |
Artist | Thore Siebrands |
Blue Hue | 0 |
Blue Saturation | 0 |
Brightness | +4 |
CFA Pattern | [Red,Green][Green,Blue] |
Camera Profile | Adobe Standard |
Chromatic Aberration B | 0 |
Chromatic Aberration R | 0 |
Circle Of Confusion | 0.030 mm |
Clarity | +18 |
Color Noise Reduction | 25 |
Color Noise Reduction Detail | 50 |
Color Space | Uncalibrated |
Color Temperature | 5500 |
Contrast | +56 |
Convert To Grayscale | False |
Country | Frankreich |
Country Code | FR |
Creator | Thore Siebrands |
Crop Angle | 0 |
Crop Bottom | 0.903499 |
Crop Constrain To Warp | 1 |
Crop Height | 3 |
Crop Left | 0.129827 |
Crop Right | 0.911584 |
Crop Top | 0.120269 |
Crop Unit | Unknown (3) |
Crop Width | 2 |
Custom Rendered | Normal |
Defringe | 0 |
Depth Of Field | 2.69 m (13.77 - 16.46) |
Digital Zoom Ratio | 1 |
Exposure | +0.15 |
Exposure Compensation | 0 |
Exposure Mode | Auto |
Field Of View | 10.3 deg |
Fill Light | 0 |
Focal Length In 35mm Format | 200 mm |
Format | image/jpeg |
Gain Control | None |
Grain Amount | 0 |
Green Hue | 0 |
Green Saturation | 0 |
Has Crop | True |
Has Settings | True |
Hierarchical Subject | Auvergne, Auvergne|Frankreich, Auvergne|Frankreich|France, Auvergne|Issoire, Auvergne|Issoire|St-Austremoin e d’Issoire, Kamera|D700, Kamera|AF-S VR 70-200 mm/2.8G IF-ED, Auvergne|Kirche, Auvergne|Kirche|church |
Highlight Recovery | 25 |
Hue Adjustment Aqua | 0 |
Hue Adjustment Blue | 0 |
Hue Adjustment Green | 0 |
Hue Adjustment Magenta | 0 |
Hue Adjustment Orange | 0 |
Hue Adjustment Purple | 0 |
Hue Adjustment Red | 0 |
Hue Adjustment Yellow | 0 |
Hyperfocal Distance | 166.41 m |
ISO | 200 |
Image Number | 31157 |
Image Size | 3327x2218 |
Label | grün |
Lens | 70.0-200.0 mm f/2.8 |
Lens ID | AF-S VR Zoom-Nikkor 70-200mm f/2.8G IF-ED |
Lens Info | 70-200mm f/2.8 |
Lens Manual Distortion Amount | 0 |
Lens Model | 70.0-200.0 mm f/2.8 |
Lens Profile Chromatic Aberration Scale | 100 |
Lens Profile Distortion Scale | 100 |
Lens Profile Enable | 1 |
Lens Profile Filename | NIKON D3X (Nikon FX 70-200mm f2.8 G IF ED) - RAW.lcp |
Lens Profile Name | Adobe (Nikon AF-S VR Zoom-Nikkor 70-200mm f/2.8G IF-ED) |
Lens Profile Setup | LensDefaults |
Lens Profile Vignetting Scale | 100 |
Light Source | Unknown |
Light Value | 11.6 |
Location | St-Austremoine d’Issoire |
Luminance Adjustment Aqua | 0 |
Luminance Adjustment Blue | 0 |
Luminance Adjustment Green | 0 |
Luminance Adjustment Magenta | 0 |
Luminance Adjustment Orange | 0 |
Luminance Adjustment Purple | 0 |
Luminance Adjustment Red | 0 |
Luminance Adjustment Yellow | 0 |
Luminance Smoothing | 0 |
Metering Mode | Multi-segment |
Parametric Darks | 0 |
Parametric Highlight Split | 75 |
Parametric Highlights | 0 |
Parametric Lights | 0 |
Parametric Midtone Split | 50 |
Parametric Shadow Split | 25 |
Parametric Shadows | 0 |
Perspective Horizontal | 0 |
Perspective Rotate | 0.0 |
Perspective Scale | 100 |
Perspective Vertical | 0 |
Post Crop Vignette Amount | 0 |
Process Version | 5.7 |
Raw File Name | D7H_9864.NEF |
Red Hue | 0 |
Red Saturation | 0 |
Rights | Thore Siebrands |
Saturation | 0 |
Saturation Adjustment Aqua | 0 |
Saturation Adjustment Blue | 0 |
Saturation Adjustment Green | 0 |
Saturation Adjustment Magenta | 0 |
Saturation Adjustment Orange | 0 |
Saturation Adjustment Purple | 0 |
Saturation Adjustment Red | 0 |
Saturation Adjustment Yellow | 0 |
Scale Factor To 35 mm Equivalent | 1.0 |
Scene Capture Type | Standard |
Scene Type | Directly photographed |
Sensing Method | One-chip color area |
Shadow Tint | 0 |
Shadows | 10 |
Sharpen Detail | 25 |
Sharpen Edge Masking | 0 |
Sharpen Radius | +1.0 |
Sharpness | 50 |
Split Toning Balance | 0 |
Split Toning Highlight Hue | 0 |
Split Toning Highlight Saturation | 0 |
Split Toning Shadow Hue | 0 |
Split Toning Shadow Saturation | 0 |
State | Auvergne |
Subject | AF-S VR 70-200 mm/2.8G IF-ED, Auvergne, church, D700, France, Frankreich, Issoire, Kirche, St-Austremoine d’Issoire |
Subject Distance | 15 m |
Subject Distance Range | Unknown |
Tint | +10 |
Tone Curve | 0, 0, 32, 22, 64, 56, 128, 128, 192, 196, 255, 255 |
Tone Curve Name | Medium Contrast |
Version | 6.5 |
Vibrance | 0 |
Vignette Amount | 0 |
White Balance | Daylight |