Shooting information for this photo
Camera: | NIKON CORPORATION NIKON D700 |
Exposure: | 0.01667 sec. (1/60) |
Aperture: | f/8.0 |
Focal Length: | 45.0 mm (35 mm equivalent: 45.0 mm) |
Flash: | No Flash |
Exposure mode: | Aperture-priority AE |
Max Aperture: | 2.8 |
Resolution: | 240 x 240 dpi |
Dimension: | 2759 x 4139 pixels |
Original Date: | 2011:08:28 11:31:44.81 |
Created on: | 2011:08:28 11:31:44.81 |
Modified on: | 2011:09:22 00:03:37 |
Software: | Adobe Photoshop Camera Raw 6.4.1 |
Copyright: | Thore Siebrands |
Already Applied | True |
Approximate Focus Distance | 5.01 |
Artist | Thore Siebrands |
Blue Hue | 0 |
Blue Saturation | 0 |
Brightness | +60 |
CFA Pattern | [Red,Green][Green,Blue] |
Camera Profile | Adobe Standard |
Chromatic Aberration B | 0 |
Chromatic Aberration R | 0 |
Circle Of Confusion | 0.030 mm |
Clarity | +34 |
Color Noise Reduction | 25 |
Color Noise Reduction Detail | 50 |
Color Space | Uncalibrated |
Color Temperature | 3800 |
Contrast | +34 |
Convert To Grayscale | False |
Country | Frankreich |
Country Code | FR |
Creator | Thore Siebrands |
Crop Angle | 0 |
Crop Bottom | 0.991747 |
Crop Constrain To Warp | 1 |
Crop Height | 3 |
Crop Left | 0.018327 |
Crop Right | 0.990727 |
Crop Top | 0.017515 |
Crop Unit | Unknown (3) |
Crop Width | 2 |
Custom Rendered | Normal |
Defringe | 0 |
Depth Of Field | 9.05 m (3.15 - 12.20) |
Digital Zoom Ratio | 1 |
Exposure | -0.05 |
Exposure Compensation | 0 |
Exposure Mode | Auto |
Field Of View | 43.6 deg |
Fill Light | 59 |
Focal Length In 35mm Format | 45 mm |
Format | image/jpeg |
Gain Control | None |
Grain Amount | 0 |
Green Hue | 0 |
Green Saturation | 0 |
Has Crop | True |
Has Settings | True |
Hierarchical Subject | Auvergne, Auvergne|Frankreich, Auvergne|Frankreich|France, Auvergne|Brioude, Auvergne|Brioude|St-Julien de Brioude, Auvergne|Kirche, Auvergne|Kirche|church, Kamera|D700, Kamera|AF-S 24-70 mm/2.8G ED |
Highlight Recovery | 50 |
Hue Adjustment Aqua | 0 |
Hue Adjustment Blue | 0 |
Hue Adjustment Green | 0 |
Hue Adjustment Magenta | 0 |
Hue Adjustment Orange | 0 |
Hue Adjustment Purple | 0 |
Hue Adjustment Red | 0 |
Hue Adjustment Yellow | 0 |
Hyperfocal Distance | 8.42 m |
ISO | 200 |
Image Number | 30370 |
Image Size | 2759x4139 |
Label | grün |
Lens | 24.0-70.0 mm f/2.8 |
Lens ID | AF-S Zoom-Nikkor 24-70mm f/2.8G ED |
Lens Info | 24-70mm f/2.8 |
Lens Manual Distortion Amount | 0 |
Lens Model | 24.0-70.0 mm f/2.8 |
Lens Profile Chromatic Aberration Scale | 100 |
Lens Profile Distortion Scale | 100 |
Lens Profile Enable | 1 |
Lens Profile Filename | NIKON D3X (Nikon FX 24-70mm f2.8 G ED) - RAW.lcp |
Lens Profile Name | Adobe (Nikon AF-S NIKKOR 24-70mm f/2.8G ED) |
Lens Profile Setup | LensDefaults |
Lens Profile Vignetting Scale | 100 |
Light Source | Unknown |
Light Value | 10.9 |
Location | St-Julien de Brioude |
Luminance Adjustment Aqua | 0 |
Luminance Adjustment Blue | 0 |
Luminance Adjustment Green | 0 |
Luminance Adjustment Magenta | 0 |
Luminance Adjustment Orange | 0 |
Luminance Adjustment Purple | 0 |
Luminance Adjustment Red | 0 |
Luminance Adjustment Yellow | 0 |
Luminance Smoothing | 0 |
Metering Mode | Multi-segment |
Parametric Darks | 0 |
Parametric Highlight Split | 75 |
Parametric Highlights | 0 |
Parametric Lights | 0 |
Parametric Midtone Split | 50 |
Parametric Shadow Split | 25 |
Parametric Shadows | 0 |
Perspective Horizontal | +2 |
Perspective Rotate | -1.0 |
Perspective Scale | 100 |
Perspective Vertical | 0 |
Photometric Interpretation | RGB |
Post Crop Vignette Amount | 0 |
Process Version | 5.7 |
Raw File Name | D7H_9116.NEF |
Red Hue | 0 |
Red Saturation | 0 |
Rights | Thore Siebrands |
Samples Per Pixel | 3 |
Saturation | 0 |
Saturation Adjustment Aqua | 0 |
Saturation Adjustment Blue | 0 |
Saturation Adjustment Green | 0 |
Saturation Adjustment Magenta | 0 |
Saturation Adjustment Orange | 0 |
Saturation Adjustment Purple | 0 |
Saturation Adjustment Red | 0 |
Saturation Adjustment Yellow | 0 |
Scale Factor To 35 mm Equivalent | 1.0 |
Scene Capture Type | Standard |
Scene Type | Directly photographed |
Sensing Method | One-chip color area |
Shadow Tint | 0 |
Shadows | 0 |
Sharpen Detail | 25 |
Sharpen Edge Masking | 0 |
Sharpen Radius | +1.0 |
Sharpness | 53 |
Split Toning Balance | 0 |
Split Toning Highlight Hue | 0 |
Split Toning Highlight Saturation | 0 |
Split Toning Shadow Hue | 0 |
Split Toning Shadow Saturation | 0 |
State | Auvergne |
Subject | AF-S 24-70 mm/2.8G ED, Auvergne, Brioude, church, D700, France, Frankreich, Kirche, St-Julien de Brioude |
Subject Distance | 5.01 m |
Subject Distance Range | Unknown |
Tint | -22 |
Tone Curve | 0, 0, 32, 22, 64, 56, 128, 128, 192, 196, 255, 255 |
Tone Curve Name | Medium Contrast |
Version | 6.4.1 |
Vibrance | +47 |
Vignette Amount | 0 |
White Balance | As Shot |