Shooting information for this photo
Camera: | NIKON CORPORATION NIKON D200 |
Exposure: | 0.008 sec. (1/125) |
Aperture: | f/8.0 |
Focal Length: | 220.0 mm (35 mm equivalent: 330.0 mm) |
Flash: | No Flash |
Exposure mode: | Aperture-priority AE |
Max Aperture: | 5.3 |
Resolution: | 240 x 240 dpi |
Dimension: | 1278 x 855 pixels |
Original Date: | 2007:04:01 12:57:25.65 |
Digitized Date: | 2007:04:01 12:57:25.65+02:00 |
Created on: | 2007:04:01 12:57:25.65 |
Modified on: | 2007:11:25 00:45:22.65 |
Software: | Adobe Photoshop CS3 Windows |
Already Applied | True |
Artist | Thore Siebrands |
Blue Hue | 0 |
Blue Saturation | 0 |
Brightness | +44 |
CFA Pattern | [Green,Red][Blue,Green] |
Camera Profile | ACR 3.3 |
Caption Writer | Thore Siebrands |
Chromatic Aberration B | 0 |
Chromatic Aberration R | 0 |
Circle Of Confusion | 0.020 mm |
Clarity | 54 |
Color Mode | RGB |
Color Noise Reduction | 25 |
Color Space | Uncalibrated |
Color Temperature | 4750 |
Contrast | +40 |
Convert To Grayscale | False |
Country | Germany |
Country Code | DE |
Creator | Thore Siebrands |
Custom Rendered | Normal |
Defringe | 0 |
Digital Zoom Ratio | 1 |
Exposure | +0.20 |
Exposure Compensation | 0 |
Exposure Mode | Auto |
Field Of View | 6.2 deg |
Fill Light | 48 |
Flash Fired | False |
Flash Function | False |
Flash Mode | Unknown |
Flash Red Eye Mode | False |
Flash Return | No return detection |
Focal Length In 35mm Format | 330 mm |
Format | image/jpeg |
Gain Control | None |
Green Hue | 0 |
Green Saturation | 0 |
Has Crop | False |
Has Settings | True |
Highlight Recovery | 34 |
Hue Adjustment Aqua | 0 |
Hue Adjustment Blue | 0 |
Hue Adjustment Green | 0 |
Hue Adjustment Magenta | 0 |
Hue Adjustment Orange | 0 |
Hue Adjustment Purple | 0 |
Hue Adjustment Red | 0 |
Hue Adjustment Yellow | 0 |
Hyperfocal Distance | 302.03 m |
ICC Profile Name | Adobe RGB (1998) |
ISO | 100 |
Image Number | 7112 |
Image Size | 1278x855 |
Label | gelb |
Lens | 80.0-400.0 mm f/4.5-5.6 |
Lens Info | 80-400mm f/4.5-5.6 |
Light Source | Unknown |
Light Value | 13.0 |
Location | Beselerallee |
Luminance Adjustment Aqua | 0 |
Luminance Adjustment Blue | 0 |
Luminance Adjustment Green | 0 |
Luminance Adjustment Magenta | 0 |
Luminance Adjustment Orange | 0 |
Luminance Adjustment Purple | 0 |
Luminance Adjustment Red | 0 |
Luminance Adjustment Yellow | 0 |
Luminance Smoothing | 0 |
Metering Mode | Multi-segment |
Parametric Darks | 0 |
Parametric Highlight Split | 75 |
Parametric Highlights | 0 |
Parametric Lights | 0 |
Parametric Midtone Split | 50 |
Parametric Shadow Split | 25 |
Parametric Shadows | 0 |
Photometric Interpretation | RGB |
Rating | 0 |
Raw File Name | _07Z6656.NEF |
Red Hue | 0 |
Red Saturation | 0 |
Samples Per Pixel | 3 |
Saturation | 0 |
Saturation Adjustment Aqua | 0 |
Saturation Adjustment Blue | 0 |
Saturation Adjustment Green | 0 |
Saturation Adjustment Magenta | 0 |
Saturation Adjustment Orange | 0 |
Saturation Adjustment Purple | 0 |
Saturation Adjustment Red | 0 |
Saturation Adjustment Yellow | 0 |
Scale Factor To 35 mm Equivalent | 1.5 |
Scene Capture Type | Standard |
Scene Type | Directly photographed |
Sensing Method | One-chip color area |
Shadow Tint | 0 |
Shadows | 25 |
Sharpen Detail | 25 |
Sharpen Edge Masking | 0 |
Sharpen Radius | +1.6 |
Sharpness | 122 |
Sidecar For Extension | NEF |
Split Toning Balance | 0 |
Split Toning Highlight Hue | 0 |
Split Toning Highlight Saturation | 0 |
Split Toning Shadow Hue | 0 |
Split Toning Shadow Saturation | 0 |
State | Schleswig-Holstein |
Subject Distance Range | Unknown |
Tint | -5 |
Tone Curve | 0, 0, 32, 22, 64, 56, 128, 128, 192, 196, 255, 255 |
Tone Curve Name | Medium Contrast |
User Comment | (C) Thore Siebrands |
Version | 4.3 |
Vibrance | +29 |
Vignette Amount | 0 |
White Balance | As Shot |