Shooting information for this photo
Camera: | Canon EOS 7D |
Exposure: | 0.01 sec. (1/100) |
Aperture: | f/6.3 |
Focal Length: | 500.0 mm (35 mm equivalent: 1472.4 mm) |
Flash: | Off, Did not fire |
Exposure mode: | Manual |
Max Aperture: | 6.2 |
Resolution: | 240 x 240 dpi |
Original Date: | 2012:03:25 06:28:31.52 |
Created on: | 2012:03:25 06:28:31.52 |
Modified on: | 2012:03:25 15:54:36 |
Software: | picnik.com |
Copyright: | All rights reserved. |
Already Applied | True |
Artist | Rudi Nuissl |
Blue Hue | 0 |
Blue Saturation | 0 |
Brightness | +50 |
Camera Profile | Adobe Standard |
Chromatic Aberration B | 0 |
Chromatic Aberration R | 0 |
Circle Of Confusion | 0.010 mm |
Clarity | 0 |
Color Noise Reduction | 25 |
Color Space | Uncalibrated |
Color Temperature | 5591 |
Contrast | +47 |
Convert To Grayscale | False |
Creator | Rudi Nuissl |
Crop Angle | 0 |
Crop Bottom | 1 |
Crop Height | 3222 |
Crop Left | 0.096492 |
Crop Right | 0.966667 |
Crop Top | 0.067669 |
Crop Unit | pixels |
Crop Width | 4511 |
Custom Rendered | Normal |
Date Created | 2012:03:25 06:28:31.52 |
Defringe | 0 |
Depth Of Field | 0.10 m (14.15 - 14.25) |
Exposure | +0.51 |
Exposure Compensation | 0 |
Exposure Mode | Manual |
Field Of View | 1.4 deg |
Fill Light | 0 |
Firmware | 1.2.5 |
Flash Compensation | 0 |
Format | image/jpeg |
Green Hue | 0 |
Green Saturation | 0 |
Has Crop | True |
Has Settings | True |
Highlight Recovery | 49 |
Hue Adjustment Aqua | 0 |
Hue Adjustment Blue | 0 |
Hue Adjustment Green | 0 |
Hue Adjustment Magenta | 0 |
Hue Adjustment Orange | 0 |
Hue Adjustment Purple | 0 |
Hue Adjustment Red | 0 |
Hue Adjustment Yellow | 0 |
Hyperfocal Distance | 3889.12 m |
ISO | 2500 |
Image Number | 0 |
Image Size | 2705x1932 |
Lens | 50-500mm |
Lens ID | Sigma 50-500mm f/4.5-6.3 APO DG OS HSM |
Lens Info | 50-500mm f/? |
Light Value | 7.3 |
Luminance Adjustment Aqua | 0 |
Luminance Adjustment Blue | 0 |
Luminance Adjustment Green | 0 |
Luminance Adjustment Magenta | 0 |
Luminance Adjustment Orange | 0 |
Luminance Adjustment Purple | 0 |
Luminance Adjustment Red | 0 |
Luminance Adjustment Yellow | 0 |
Luminance Smoothing | 0 |
Metering Mode | Multi-segment |
Parametric Darks | 0 |
Parametric Highlight Split | 75 |
Parametric Highlights | 0 |
Parametric Lights | 0 |
Parametric Midtone Split | 50 |
Parametric Shadow Split | 25 |
Parametric Shadows | 0 |
Post Crop Vignette Amount | 0 |
Red Hue | 0 |
Red Saturation | 0 |
Rights | All rights reserved. |
Saturation | 0 |
Saturation Adjustment Aqua | 0 |
Saturation Adjustment Blue | 0 |
Saturation Adjustment Green | 0 |
Saturation Adjustment Magenta | 0 |
Saturation Adjustment Orange | 0 |
Saturation Adjustment Purple | 0 |
Saturation Adjustment Red | 0 |
Saturation Adjustment Yellow | 0 |
Scale Factor To 35 mm Equivalent | 2.9 |
Scene Capture Type | Standard |
Shadow Tint | 0 |
Shadows | 5 |
Sharpen Detail | 25 |
Sharpen Edge Masking | 0 |
Sharpen Radius | +1.0 |
Sharpness | 25 |
Split Toning Balance | 0 |
Split Toning Highlight Hue | 0 |
Split Toning Highlight Saturation | 0 |
Split Toning Shadow Hue | 0 |
Split Toning Shadow Saturation | 0 |
Subject Distance | 14.2 m |
Tint | +8 |
Tone Curve | 0, 0, 32, 22, 64, 56, 128, 128, 192, 196, 255, 255 |
Tone Curve Name | Medium Contrast |
Version | 6.6 |
Vibrance | 0 |
Vignette Amount | 0 |
White Balance | Auto |