Shooting information for this photo
Camera: | PENTAX K-5 II s |
Exposure: | 0.02 sec. (1/50) |
Aperture: | f/4.5 |
Focal Length: | 50.0 mm (35 mm equivalent: 75.0 mm) |
Flash: | Off, Did not fire |
Exposure mode: | Aperture-priority AE |
Resolution: | 240 x 240 dpi |
Dimension: | 1500 x 994 pixels |
Original Date: | 2018:08:14 09:44:19 |
Digitized Date: | 2018:08:14 09:44:19-04:00 |
Created on: | 2018:08:14 09:44:19 |
Modified on: | 2018:08:14 20:19:45 |
Software: | Adobe Photoshop CS3 Macintosh |
Already Applied | True |
Blue Hue | +8 |
Blue Saturation | +11 |
Brightness | +45 |
Camera Profile | Embedded |
Chromatic Aberration B | 0 |
Chromatic Aberration R | 0 |
Circle Of Confusion | 0.020 mm |
Color Mode | RGB |
Color Noise Reduction | 0 |
Color Space | Uncalibrated |
Color Temperature | 6500 |
Contrast | High |
Convert To Grayscale | False |
Custom Rendered | Normal |
Exposure | +1.15 |
Exposure Compensation | 0 |
Exposure Mode | Auto |
Field Of View | 27.0 deg |
Fill Light | 25 |
Flash Fired | False |
Flash Function | False |
Flash Mode | Off |
Flash Red Eye Mode | False |
Flash Return | No return detection |
Focal Length In 35mm Format | 75 mm |
Format | image/jpeg |
Green Hue | +15 |
Green Saturation | +15 |
Has Crop | False |
Has Settings | True |
Highlight Recovery | 25 |
Hue Adjustment Aqua | +13 |
Hue Adjustment Blue | +27 |
Hue Adjustment Green | +23 |
Hue Adjustment Magenta | +32 |
Hue Adjustment Orange | +20 |
Hue Adjustment Purple | -43 |
Hue Adjustment Red | +15 |
Hue Adjustment Yellow | +19 |
Hyperfocal Distance | 27.74 m |
ICC Profile Name | Adobe RGB (1998) |
ISO | 100 |
Image Size | 1500x994 |
Light Value | 10.0 |
Luminance Adjustment Aqua | +23 |
Luminance Adjustment Blue | +31 |
Luminance Adjustment Green | +38 |
Luminance Adjustment Magenta | +17 |
Luminance Adjustment Orange | +27 |
Luminance Adjustment Purple | +26 |
Luminance Adjustment Red | +27 |
Luminance Adjustment Yellow | -30 |
Luminance Smoothing | 0 |
Metering Mode | Center-weighted average |
Parametric Darks | +13 |
Parametric Highlight Split | 75 |
Parametric Highlights | +13 |
Parametric Lights | +12 |
Parametric Midtone Split | 50 |
Parametric Shadow Split | 25 |
Parametric Shadows | +22 |
Rating | 0 |
Raw File Name | IMGP2013.DNG |
Red Hue | +4 |
Red Saturation | +28 |
Saturation | Normal |
Saturation Adjustment Aqua | +18 |
Saturation Adjustment Blue | +19 |
Saturation Adjustment Green | +18 |
Saturation Adjustment Magenta | +40 |
Saturation Adjustment Orange | +21 |
Saturation Adjustment Purple | +22 |
Saturation Adjustment Red | +35 |
Saturation Adjustment Yellow | +17 |
Scale Factor To 35 mm Equivalent | 1.5 |
Scene Capture Type | Standard |
Sensing Method | One-chip color area |
Shadow Tint | +7 |
Shadows | 10 |
Sharpness | Hard |
Split Toning Balance | -33 |
Split Toning Highlight Hue | 35 |
Split Toning Highlight Saturation | 23 |
Split Toning Shadow Hue | 50 |
Split Toning Shadow Saturation | 30 |
Subject Distance Range | Distant |
Time Zone Offset | -4 -4 |
Tint | +10 |
Tone Curve | 0, 0, 32, 22, 64, 56, 128, 128, 192, 196, 255, 255 |
Tone Curve Name | Medium Contrast |
Version | 4.0 |
Vibrance | +12 |
Vignette Amount | 0 |
White Balance | Auto |