Shooting information for this photo
Camera: | PENTAX K-5 II s |
Exposure: | 0.01667 sec. (1/60) |
Aperture: | f/11.0 |
Focal Length: | 17.0 mm (35 mm equivalent: 25.0 mm) |
Flash: | Off, Did not fire |
Exposure mode: | Aperture-priority AE |
Resolution: | 240 x 240 dpi |
Dimension: | 1500 x 994 pixels |
Original Date: | 2018:08:15 10:48:12 |
Digitized Date: | 2018:08:15 10:48:12-04:00 |
Created on: | 2018:08:15 10:48:12 |
Modified on: | 2018:08:15 14:37:42 |
Software: | Adobe Photoshop CS3 Macintosh |
Already Applied | True |
Blue Hue | +17 |
Blue Saturation | +20 |
Brightness | +66 |
Camera Profile | Embedded |
Chromatic Aberration B | 0 |
Chromatic Aberration R | 0 |
Circle Of Confusion | 0.020 mm |
Color Mode | RGB |
Color Noise Reduction | 25 |
Color Space | Uncalibrated |
Color Temperature | 6500 |
Contrast | High |
Convert To Grayscale | False |
Custom Rendered | Normal |
Exposure | +0.80 |
Exposure Compensation | 0 |
Exposure Mode | Auto |
Field Of View | 71.5 deg |
Fill Light | 23 |
Flash Fired | False |
Flash Function | False |
Flash Mode | Off |
Flash Red Eye Mode | False |
Flash Return | No return detection |
Focal Length In 35mm Format | 25 mm |
Format | image/jpeg |
Green Hue | +18 |
Green Saturation | -18 |
Has Crop | False |
Has Settings | True |
Highlight Recovery | 40 |
Hue Adjustment Aqua | -21 |
Hue Adjustment Blue | +21 |
Hue Adjustment Green | -23 |
Hue Adjustment Magenta | -18 |
Hue Adjustment Orange | +15 |
Hue Adjustment Purple | -16 |
Hue Adjustment Red | +18 |
Hue Adjustment Yellow | +33 |
Hyperfocal Distance | 1.29 m |
ICC Profile Name | Adobe RGB (1998) |
ISO | 400 |
Image Size | 1500x994 |
Light Value | 10.8 |
Luminance Adjustment Aqua | 0 |
Luminance Adjustment Blue | -27 |
Luminance Adjustment Green | +15 |
Luminance Adjustment Magenta | +18 |
Luminance Adjustment Orange | +15 |
Luminance Adjustment Purple | +18 |
Luminance Adjustment Red | +15 |
Luminance Adjustment Yellow | +31 |
Luminance Smoothing | 6 |
Metering Mode | Center-weighted average |
Parametric Darks | +16 |
Parametric Highlight Split | 75 |
Parametric Highlights | +27 |
Parametric Lights | +15 |
Parametric Midtone Split | 50 |
Parametric Shadow Split | 25 |
Parametric Shadows | +16 |
Rating | 0 |
Raw File Name | IMGP2080.DNG |
Red Hue | +7 |
Red Saturation | -21 |
Saturation | Normal |
Saturation Adjustment Aqua | 0 |
Saturation Adjustment Blue | +17 |
Saturation Adjustment Green | +20 |
Saturation Adjustment Magenta | +18 |
Saturation Adjustment Orange | +11 |
Saturation Adjustment Purple | +18 |
Saturation Adjustment Red | +12 |
Saturation Adjustment Yellow | +24 |
Scale Factor To 35 mm Equivalent | 1.5 |
Scene Capture Type | Standard |
Sensing Method | One-chip color area |
Shadow Tint | +9 |
Shadows | 6 |
Sharpness | Hard |
Split Toning Balance | -45 |
Split Toning Highlight Hue | 42 |
Split Toning Highlight Saturation | 18 |
Split Toning Shadow Hue | 248 |
Split Toning Shadow Saturation | 12 |
Subject Distance Range | Distant |
Time Zone Offset | -4 -4 |
Tint | +10 |
Tone Curve | 0, 0, 32, 22, 64, 56, 128, 128, 192, 196, 255, 255 |
Tone Curve Name | Medium Contrast |
Version | 4.0 |
Vibrance | +8 |
Vignette Amount | 0 |
White Balance | Auto |