Shooting information for this photo
Camera: | OLYMPUS IMAGING CORP. E-M1 |
Exposure: | 0.04 sec. (1/25) |
Aperture: | f/2.8 |
Focal Length: | 12.0 mm (35 mm equivalent: 24.0 mm) |
Flash: | Auto, Did not fire |
Exposure mode: | Program AE |
Max Aperture: | 2.8 |
Resolution: | 300 x 300 dpi |
Dimension: | 3200 x 2560 pixels |
Original Date: | 2015:10:21 12:58:48 |
Created on: | 2015:10:21 12:58:48 |
Modified on: | 2016:01:07 10:35:57 |
Software: | Adobe Photoshop CS6 (Windows) |
Copyright: | Andre Szymczyk |
Already Applied | True |
Approximate Focus Distance | 4294967295 |
Artist | Pilago |
Auto Lateral CA | 0 |
Auto White Version | 134348800 |
Blacks 2012 | -12 |
Blue Hue | 0 |
Blue Saturation | 0 |
CFA Pattern | [Blue,Green][Green,Red] |
Camera Profile | Adobe Standard |
Circle Of Confusion | 0.015 mm |
Clarity 2012 | +33 |
Color Mode | RGB |
Color Noise Reduction | 25 |
Color Noise Reduction Detail | 50 |
Color Noise Reduction Smoothness | 50 |
Color Space | sRGB |
Color Temperature | 4950 |
Contrast | Normal |
Contrast 2012 | +13 |
Convert To Grayscale | False |
Creator | Pilago, Andre Szymczyk |
Custom Rendered | Normal |
Defringe Green Amount | 0 |
Defringe Green Hue Hi | 60 |
Defringe Green Hue Lo | 40 |
Defringe Purple Amount | 0 |
Defringe Purple Hue Hi | 70 |
Defringe Purple Hue Lo | 30 |
Dehaze | 0 |
Description | Sri Lanka tour - the fifth day, Dambulla cave temple, UNESCO World Heritage |
Digital Zoom Ratio | 1 |
Distortion Correction Already Applied | True |
Exposure 2012 | +0.20 |
Exposure Compensation | 0 |
Exposure Mode | Auto |
Field Of View | 73.7 deg |
Flash Compensation | 0 |
Focal Length In 35mm Format | 24 mm |
Format | image/jpeg |
Gain Control | High gain up |
Grain Amount | 0 |
Green Hue | 0 |
Green Saturation | 0 |
Has Crop | False |
Has Settings | True |
Highlights 2012 | 0 |
Hue Adjustment Aqua | 0 |
Hue Adjustment Blue | 0 |
Hue Adjustment Green | 0 |
Hue Adjustment Magenta | 0 |
Hue Adjustment Orange | 0 |
Hue Adjustment Purple | 0 |
Hue Adjustment Red | 0 |
Hue Adjustment Yellow | 0 |
Hyperfocal Distance | 3.42 m |
ICC Profile Name | sRGB IEC61966-2.1 |
ISO | 1600 |
Image Description | Sri Lanka tour - the fifth day, Dambulla cave temple, UNESCO World Heritage |
Image Size | 3200x2560 |
Lateral Chromatic Aberration Correction Already Applied | True |
Lens | OLYMPUS M.12-40mm F2.8 |
Lens Info | 12-40mm f/2.8 |
Lens Manual Distortion Amount | 0 |
Lens Model | OLYMPUS M.12-40mm F2.8 |
Lens Profile Enable | 0 |
Lens Profile Setup | LensDefaults |
Light Source | Unknown |
Light Value | 3.6 |
Luminance Adjustment Aqua | 0 |
Luminance Adjustment Blue | 0 |
Luminance Adjustment Green | 0 |
Luminance Adjustment Magenta | 0 |
Luminance Adjustment Orange | 0 |
Luminance Adjustment Purple | 0 |
Luminance Adjustment Red | 0 |
Luminance Adjustment Yellow | 0 |
Luminance Smoothing | 0 |
Metering Mode | Multi-segment |
Parametric Darks | 0 |
Parametric Highlight Split | 75 |
Parametric Highlights | 0 |
Parametric Lights | 0 |
Parametric Midtone Split | 50 |
Parametric Shadow Split | 25 |
Parametric Shadows | 0 |
Perspective Aspect | 0 |
Perspective Horizontal | 0 |
Perspective Rotate | 0.0 |
Perspective Scale | 100 |
Perspective Upright | 0 |
Perspective Vertical | 0 |
Photometric Interpretation | RGB |
Post Crop Vignette Amount | 0 |
Process Version | 6.7 |
Raw File Name | PA210463.ORF |
Red Hue | 0 |
Red Saturation | 0 |
Rights | Andre Szymczyk |
Samples Per Pixel | 3 |
Saturation | Normal |
Saturation Adjustment Aqua | 0 |
Saturation Adjustment Blue | 0 |
Saturation Adjustment Green | 0 |
Saturation Adjustment Magenta | 0 |
Saturation Adjustment Orange | 0 |
Saturation Adjustment Purple | 0 |
Saturation Adjustment Red | 0 |
Saturation Adjustment Yellow | 0 |
Scale Factor To 35 mm Equivalent | 2.0 |
Scene Capture Type | Standard |
Sensitivity Type | Standard Output Sensitivity |
Shadow Tint | 0 |
Shadows 2012 | 0 |
Sharpen Detail | 25 |
Sharpen Edge Masking | 0 |
Sharpen Radius | +1.0 |
Sharpness | Normal |
Split Toning Balance | 0 |
Split Toning Highlight Hue | 0 |
Split Toning Highlight Saturation | 0 |
Split Toning Shadow Hue | 0 |
Split Toning Shadow Saturation | 0 |
Subject | :: SRI LANKA, LK-Dambulla, Sri Lanka tour - the 5. day, 〔2015〕, interior, UNESCO World Heritage, Statue, Sakral, panoramio_555362_127314781, panoramio_indoor, Dambulla Cave Temple @ (7.856644 80.648553), GooglePlace_CmRSAAAALl5_k-FH6x Jkxk9Kczg2BrYEEFjBgCD5XfXvKB_m nH18zIw7upcH9XrmXRmKISBwJAgm-k sXWG68gyffPgMJNQvBu3LiSqQgGi1J bhvG829IBfIDc-ChRx4me0bZ_e5REh Ab2p_VxylqxUL_o7zFKdqIGhRC5rZ5 EJ5mb9jCmsZmbRW6HHnvyA |
Tint | +17 |
Tone Curve | 0, 0, 32, 22, 64, 56, 128, 128, 192, 196, 255, 255 |
Tone Curve Blue | 0, 0, 255, 255 |
Tone Curve Green | 0, 0, 255, 255 |
Tone Curve Name | Medium Contrast |
Tone Curve Name 2012 | Linear |
Tone Curve PV2012 | 0, 0, 255, 255 |
Tone Curve PV2012 Blue | 0, 0, 255, 255 |
Tone Curve PV2012 Green | 0, 0, 255, 255 |
Tone Curve PV2012 Red | 0, 0, 255, 255 |
Tone Curve Red | 0, 0, 255, 255 |
Tone Map Strength | 0 |
Version | 9.1.1 |
Vibrance | +33 |
Vignette Amount | 0 |
White Balance | Auto |
Whites 2012 | +1 |
GPS Information |
GPS Altitude Ref | Above Sea Level |
GPS Latitude | 7 deg 51' 23.79" N |
GPS Latitude Ref | North |
GPS Longitude | 80 deg 38' 54.18" E |
GPS Longitude Ref | East |
GPS Position | 7 deg 51' 23.79" N, 80 deg 38' 54.18" E |
GPS Version ID | 2.2.0.0 |