Shooting information for this photo
Camera: | NIKON CORPORATION NIKON D7100 |
Exposure: | 0.004 sec. (1/250) |
Aperture: | f/8.0 |
Focal Length: | 18.0 mm |
Flash: | Off, Did not fire |
Exposure mode: | Not Defined |
Max Aperture: | 3.5 |
Resolution: | 240 x 240 dpi |
Dimension: | 2400 x 3600 pixels |
Original Date: | 2013:10:28 17:14:50 |
Created on: | 2013:10:28 17:14:50 |
Modified on: | 2013:12:17 19:26:15 |
Software: | Adobe Photoshop CS4 Macintosh |
Already Applied | True |
Blue Hue | 0 |
Blue Saturation | 0 |
Brightness | 0 |
Camera Profile | Embedded |
Chromatic Aberration B | 0 |
Chromatic Aberration R | 0 |
Clarity | +45 |
Color Mode | RGB |
Color Noise Reduction | 0 |
Color Space | Uncalibrated |
Contrast | -8 |
Convert To Grayscale | False |
Defringe | 0 |
Description | La Palma – The Garten of Salt - Salinas Teneguía ¦ pilago |
Exposure | +0.65 |
Exposure Compensation | 0 |
Fill Light | 0 |
Flash Fired | False |
Flash Function | False |
Flash Mode | Off |
Flash Red Eye Mode | False |
Flash Return | No return detection |
Format | image/jpeg |
Grain Amount | 0 |
Green Hue | 0 |
Green Saturation | 0 |
Has Crop | False |
Has Settings | True |
Highlight Recovery | 30 |
Hue Adjustment Aqua | 0 |
Hue Adjustment Blue | 0 |
Hue Adjustment Green | 0 |
Hue Adjustment Magenta | 0 |
Hue Adjustment Orange | 0 |
Hue Adjustment Purple | 0 |
Hue Adjustment Red | 0 |
Hue Adjustment Yellow | 0 |
ICC Profile Name | Adobe RGB (1998) |
ISO | 200 |
Image Description | La Palma – The Garten of Salt - Salinas Teneguía ¦ pilago |
Image Size | 2400x3600 |
Incremental Temperature | 0 |
Incremental Tint | 0 |
Light Source | Unknown |
Light Value | 13.0 |
Luminance Adjustment Aqua | 0 |
Luminance Adjustment Blue | 0 |
Luminance Adjustment Green | 0 |
Luminance Adjustment Magenta | 0 |
Luminance Adjustment Orange | 0 |
Luminance Adjustment Purple | 0 |
Luminance Adjustment Red | 0 |
Luminance Adjustment Yellow | 0 |
Luminance Smoothing | 0 |
Metering Mode | Multi-segment |
Parametric Darks | 0 |
Parametric Highlight Split | 75 |
Parametric Highlights | 0 |
Parametric Lights | 0 |
Parametric Midtone Split | 50 |
Parametric Shadow Split | 25 |
Parametric Shadows | 0 |
Post Crop Vignette Amount | 0 |
Process Version | 5.0 |
Rating | 0 |
Raw File Name | _DSC1370 2400x.jpg |
Red Hue | 0 |
Red Saturation | 0 |
Saturation | +15 |
Saturation Adjustment Aqua | 0 |
Saturation Adjustment Blue | 0 |
Saturation Adjustment Green | 0 |
Saturation Adjustment Magenta | 0 |
Saturation Adjustment Orange | 0 |
Saturation Adjustment Purple | 0 |
Saturation Adjustment Red | 0 |
Saturation Adjustment Yellow | 0 |
Sensing Method | One-chip color area |
Shadow Tint | 0 |
Shadows | 3 |
Sharpen Detail | 25 |
Sharpen Edge Masking | 0 |
Sharpen Radius | +1.0 |
Sharpness | 0 |
Split Toning Balance | 0 |
Split Toning Highlight Hue | 0 |
Split Toning Highlight Saturation | 0 |
Split Toning Shadow Hue | 0 |
Split Toning Shadow Saturation | 0 |
Subject | :: CANARY ISLANDS, :: ESPAÑA, clouds, La Palma, sky, 〔2013〕, coastline landscapes, Rhythm and Harmony, ocean, water, panoramio_555362_100645814, Salinas de Fuencaliente @ (28.453722 -17.842158), GooglePlace_CmRRAAAA2kBosOQL9T -kmFrm6Em_lr9JvuByIdmdD6wAW9cu 618TxhcuGIFeHt1MBbyOu219ux-tDH JLgc0rZ0t2DKH8UPnXSD5SrFrzbzO_ uCkCfx24i_yMc7RdvMZWnlQt-XgpEh CRDC8paUJxOJZbVD7KMygnGhSUsu4Z vi_at_yCFGxRjOOALTmD2A |
Tone Curve | 0, 0, 255, 255 |
Tone Curve Name | Linear |
Version | 5.7 |
Vibrance | +33 |
Vignette Amount | 0 |
White Balance | As Shot |
GPS Information |
GPS Altitude Ref | Above Sea Level |
GPS Latitude | 28 deg 27' 12.87" N |
GPS Latitude Ref | North |
GPS Longitude | 17 deg 50' 29.16" W |
GPS Longitude Ref | West |
GPS Position | 28 deg 27' 12.87" N, 17 deg 50' 29.16" W |
GPS Version ID | 2.2.0.0 |