Shooting information for this photo
Camera: | NIKON CORPORATION NIKON D90 |
Exposure: | 0.001 sec. (1/1000) |
Aperture: | f/13.0 |
Focal Length: | 75.0 mm (35 mm equivalent: 112.0 mm) |
Flash: | Auto, Did not fire |
Exposure mode: | Not Defined |
Max Aperture: | 5.1 |
Resolution: | 240 x 240 dpi |
Dimension: | 1594 x 2400 pixels |
Original Date: | 2010:10:24 17:42:19.00 |
Created on: | 2010:10:24 17:42:19.00 |
Modified on: | 2010:11:22 08:51:21 |
Software: | Adobe Photoshop CS4 Macintosh |
Already Applied | True |
Blue Hue | 0 |
Blue Saturation | 0 |
Brightness | +52 |
CFA Pattern | [Green,Blue][Red,Green] |
Camera Profile | Adobe Standard |
Chromatic Aberration B | 0 |
Chromatic Aberration R | 0 |
Circle Of Confusion | 0.020 mm |
Clarity | +30 |
Color Mode | RGB |
Color Noise Reduction | 25 |
Color Space | Uncalibrated |
Color Temperature | 4500 |
Contrast | Normal |
Convert To Grayscale | False |
Crop Angle | 0.570656 |
Crop Bottom | 1 |
Crop Left | 0.010646 |
Crop Right | 0.989354 |
Crop Top | -0 |
Custom Rendered | Normal |
Defringe | 0 |
Depth Of Field | inf (21.51 m - inf) |
Description | Sunset of the beach Jimbaran, Bali ¦ by pilago |
Digital Zoom Ratio | 1 |
Exposure | -0.05 |
Exposure Compensation | 0 |
Exposure Mode | Auto |
Field Of View | 18.3 deg |
Fill Light | 0 |
Flash Fired | False |
Flash Function | False |
Flash Mode | Auto |
Flash Red Eye Mode | False |
Flash Return | No return detection |
Focal Length In 35mm Format | 112 mm |
Format | image/jpeg |
Gain Control | None |
Grain Amount | 0 |
Green Hue | 0 |
Green Saturation | 0 |
Has Crop | True |
Has Settings | True |
Highlight Recovery | 60 |
Hue Adjustment Aqua | 0 |
Hue Adjustment Blue | 0 |
Hue Adjustment Green | 0 |
Hue Adjustment Magenta | 0 |
Hue Adjustment Orange | 0 |
Hue Adjustment Purple | 0 |
Hue Adjustment Red | 0 |
Hue Adjustment Yellow | 0 |
Hyperfocal Distance | 21.51 m |
ICC Profile Name | Adobe RGB (1998) |
ISO | 200 |
Image Description | Sunset of the beach Jimbaran, Bali ¦ by pilago |
Image Number | 9986 |
Image Size | 1594x2400 |
Lens | 18.0-200.0 mm f/3.5-5.6 |
Lens ID | AF-S DX VR Zoom-Nikkor 18-200mm f/3.5-5.6G IF-ED [II] or AF-S DX VR Zoom-Nikkor 18-200mm f/3.5-5.6G IF-ED |
Lens Info | 18-200mm f/3.5-5.6 |
Light Source | Unknown |
Light Value | 16.4 |
Luminance Adjustment Aqua | 0 |
Luminance Adjustment Blue | 0 |
Luminance Adjustment Green | 0 |
Luminance Adjustment Magenta | 0 |
Luminance Adjustment Orange | 0 |
Luminance Adjustment Purple | 0 |
Luminance Adjustment Red | 0 |
Luminance Adjustment Yellow | 0 |
Luminance Smoothing | 0 |
Metering Mode | Multi-segment |
Parametric Darks | 0 |
Parametric Highlight Split | 75 |
Parametric Highlights | 0 |
Parametric Lights | 0 |
Parametric Midtone Split | 50 |
Parametric Shadow Split | 25 |
Parametric Shadows | 0 |
Post Crop Vignette Amount | 0 |
Process Version | 5.0 |
Rating | 0 |
Raw File Name | 2010-10-24 Jimbaran_Sunset5.NEF |
Red Hue | 0 |
Red Saturation | 0 |
Saturation | Normal |
Saturation Adjustment Aqua | 0 |
Saturation Adjustment Blue | 0 |
Saturation Adjustment Green | 0 |
Saturation Adjustment Magenta | 0 |
Saturation Adjustment Orange | 0 |
Saturation Adjustment Purple | 0 |
Saturation Adjustment Red | 0 |
Saturation Adjustment Yellow | 0 |
Scale Factor To 35 mm Equivalent | 1.5 |
Scene Capture Type | Landscape |
Scene Type | Directly photographed |
Sensing Method | One-chip color area |
Shadow Tint | 0 |
Shadows | 10 |
Sharpen Detail | 25 |
Sharpen Edge Masking | 0 |
Sharpen Radius | +1.0 |
Sharpness | Normal |
Split Toning Balance | 0 |
Split Toning Highlight Hue | 0 |
Split Toning Highlight Saturation | 0 |
Split Toning Shadow Hue | 0 |
Split Toning Shadow Saturation | 0 |
Subject | :: BALI, beach, :: INDONESIA, ocean, RI-Jimbaran, sky, South-East Asia, sunset, 〔2010〕, Balinese people, ✿ best of Bali, ✿ the best of 2010, The Colours of Bali, Silhouette, People of the World, ✿ the 24 most popular, ✿ 50 plus YS, coastline landscapes, boats, >100.000, best, panoramio_555362_44025330, Belmond Jimbaran Puri @ (-8.772763 115.168884), GooglePlace_CmRSAAAAp1omvcJoun kdAWEFlx1fXGvnsD9EMvKuEie71018 xB-gT9itaDKJm2gIayr1I45uxLyvyB oZmCVv4DuVrdzrSoSdtqusY_-USlUd fnR5nqMEiDCIa01ccql5StFdlUytEh B_J89t4Vsqlzwt9sK66EUKGhRT6tvB 6e8mwHaJu5gSznGDxvAYEg |
Subject Distance | 4294967295 m |
Subject Distance Range | Unknown |
Tint | +3 |
Tone Curve | 0, 0, 32, 22, 64, 56, 128, 128, 192, 196, 255, 255 |
Tone Curve Name | Medium Contrast |
Version | 5.7 |
Vibrance | +63 |
Vignette Amount | 0 |
White Balance | Auto |
GPS Information |
GPS Altitude Ref | Above Sea Level |
GPS Latitude | 8 deg 46' 52.08" S |
GPS Latitude Ref | South |
GPS Longitude | 115 deg 9' 48.13" E |
GPS Longitude Ref | East |
GPS Position | 8 deg 46' 52.08" S, 115 deg 9' 48.13" E |
GPS Version ID | 2.2.0.0 |