Shooting information for this photo
Camera: | SONY SLT-A77V |
Exposure: | 0.00133 sec. (1/750) |
Aperture: | f/5.6 |
Focal Length: | 135.0 mm (35 mm equivalent: 202.0 mm) |
Flash: | Off, Did not fire |
Exposure mode: | Aperture-priority AE |
Max Aperture: | 5.6 |
Resolution: | 96 x 96 dpi |
Dimension: | 1000 x 667 pixels |
Original Date: | 2013:12:04 14:06:07 |
Created on: | 2013:12:04 14:06:07 |
Modified on: | 2015:06:07 15:34:38 |
Software: | Adobe Photoshop Elements 12.0 Windows |
Copyright: | © M. Winslow-Cole 2013 (redlofa@gmail.com) |
Already Applied | True |
Artist | M. Winslow-Cole (redlofa@gmail.com) |
Auto Lateral CA | 1 |
Auto White Version | 134348800 |
Blacks 2012 | +81 |
Blue Hue | 0 |
Blue Saturation | 0 |
Brightness Value | 9.13046875 |
Camera Profile | Embedded |
Circle Of Confusion | 0.020 mm |
Clarity 2012 | +33 |
Color Mode | RGB |
Color Noise Reduction | 100 |
Color Noise Reduction Detail | 100 |
Color Noise Reduction Smoothness | 100 |
Color Space | sRGB |
Contrast | Normal |
Contrast 2012 | +29 |
Convert To Grayscale | False |
Creator | M. Winslow-Cole (redlofa@gmail.com) |
Crop Angle | -1.33222 |
Crop Bottom | 0.627689 |
Crop Constrain To Warp | 0 |
Crop Left | 0.313701 |
Crop Right | 0.608859 |
Crop Top | 0.347177 |
Custom Rendered | Normal |
Date Created | 2013:12:04 14:06:07 |
Defringe Green Amount | 0 |
Defringe Green Hue Hi | 60 |
Defringe Green Hue Lo | 40 |
Defringe Purple Amount | 0 |
Defringe Purple Hue Hi | 70 |
Defringe Purple Hue Lo | 30 |
Description | Across the road and a field from my driveway, Etowah County, Alabama (DSC00263) |
Exposure 2012 | +0.12 |
Exposure Compensation | 0 |
Exposure Mode | Auto |
Field Of View | 10.2 deg |
Focal Length In 35mm Format | 202 mm |
Format | image/jpeg |
Grain Amount | 0 |
Green Hue | 0 |
Green Saturation | 0 |
Has Crop | True |
Has Settings | True |
Highlights 2012 | +5 |
Hue Adjustment Aqua | 0 |
Hue Adjustment Blue | 0 |
Hue Adjustment Green | 0 |
Hue Adjustment Magenta | 0 |
Hue Adjustment Orange | 0 |
Hue Adjustment Purple | 0 |
Hue Adjustment Red | 0 |
Hue Adjustment Yellow | 0 |
Hyperfocal Distance | 162.07 m |
ICC Profile Name | sRGB IEC61966-2.1 |
ISO | 100 |
Image Description | Across the road and a field from my driveway, Etowah County, Alabama (DSC00263) |
Image Size | 1000x667 |
Incremental Temperature | 0 |
Incremental Tint | 0 |
Lens | DT 18-135mm F3.5-5.6 SAM |
Lens Info | 18-135mm f/3.5-5.6 |
Lens Manual Distortion Amount | 0 |
Lens Model | DT 18-135mm F3.5-5.6 SAM |
Lens Profile Enable | 0 |
Lens Profile Setup | LensDefaults |
Light Source | Unknown |
Light Value | 14.5 |
Luminance Adjustment Aqua | 0 |
Luminance Adjustment Blue | 0 |
Luminance Adjustment Green | 0 |
Luminance Adjustment Magenta | 0 |
Luminance Adjustment Orange | 0 |
Luminance Adjustment Purple | 0 |
Luminance Adjustment Red | 0 |
Luminance Adjustment Yellow | 0 |
Luminance Smoothing | 0 |
Marked | True |
Metering Mode | Center-weighted average |
Parametric Darks | 0 |
Parametric Highlight Split | 75 |
Parametric Highlights | -51 |
Parametric Lights | -36 |
Parametric Midtone Split | 50 |
Parametric Shadow Split | 25 |
Parametric Shadows | -40 |
Perspective Aspect | 0 |
Perspective Horizontal | 0 |
Perspective Rotate | 0.0 |
Perspective Scale | 100 |
Perspective Upright | 0 |
Perspective Vertical | 0 |
Photometric Interpretation | RGB |
Post Crop Vignette Amount | 0 |
Process Version | 6.7 |
Recommended Exposure Index | 100 |
Red Hue | 0 |
Red Saturation | 0 |
Rights | © M. Winslow-Cole 2013 (redlofa@gmail.com) |
Samples Per Pixel | 3 |
Saturation | Normal |
Saturation Adjustment Aqua | 0 |
Saturation Adjustment Blue | 0 |
Saturation Adjustment Green | 0 |
Saturation Adjustment Magenta | 0 |
Saturation Adjustment Orange | 0 |
Saturation Adjustment Purple | 0 |
Saturation Adjustment Red | 0 |
Saturation Adjustment Yellow | 0 |
Scale Factor To 35 mm Equivalent | 1.5 |
Scene Capture Type | Standard |
Scene Type | Directly photographed |
Sensitivity Type | Recommended Exposure Index |
Shadow Tint | 0 |
Shadows 2012 | -43 |
Sharpen Detail | 25 |
Sharpen Edge Masking | 0 |
Sharpen Radius | +0.5 |
Sharpness | Normal |
Split Toning Balance | 0 |
Split Toning Highlight Hue | 0 |
Split Toning Highlight Saturation | 0 |
Split Toning Shadow Hue | 0 |
Split Toning Shadow Saturation | 0 |
Subject | hose, barn, dilapidated, Etowah County, Alabama, SONY a77 |
Title | Horse Barn |
Tone Curve Name 2012 | Linear |
Tone Curve PV2012 | 0, 0, 255, 255 |
Tone Curve PV2012 Blue | 0, 0, 255, 255 |
Tone Curve PV2012 Green | 0, 0, 255, 255 |
Tone Curve PV2012 Red | 0, 0, 255, 255 |
Version | 8.2 |
Vibrance | +2 |
Vignette Amount | 0 |
White Balance | Auto |
Whites 2012 | +21 |