Shooting information for this photo
Camera: | Apple iPhone 13 |
Exposure: | 0.00133 sec. (1/750) |
Aperture: | f/1.6 |
Focal Length: | 5.1 mm (35 mm equivalent: 33.0 mm) |
Flash: | Off, Did not fire |
Exposure mode: | Program AE |
Resolution: | 240 x 240 dpi |
Original Date: | 2024:01:19 15:15:05.046 |
Created on: | 2024:01:19 15:15:05.046 |
Modified on: | 2024:03:17 13:41:04 |
Software: | Adobe Photoshop Lightroom Classic 13.2 (Macintosh) |
Already Applied | True |
Auto Lateral CA | 0 |
Blacks 2012 | -9 |
Blue Hue | 0 |
Blue Saturation | 0 |
Brightness Value | 7.865638952 |
Camera Profile | Embedded |
Circle Of Confusion | 0.005 mm |
Clarity 2012 | +15 |
Color Grade Blending | 100 |
Color Grade Global Hue | 0 |
Color Grade Global Lum | 0 |
Color Grade Global Sat | 0 |
Color Grade Highlight Lum | 0 |
Color Grade Midtone Hue | 0 |
Color Grade Midtone Lum | 0 |
Color Grade Midtone Sat | 0 |
Color Grade Shadow Lum | 0 |
Color Noise Reduction | 0 |
Color Space | sRGB |
Contrast 2012 | +21 |
Convert To Grayscale | False |
Crop Angle | 0 |
Crop Bottom | 0.96368 |
Crop Constrain To Warp | 0 |
Crop Left | 0 |
Crop Right | 1 |
Crop Top | 0.000287 |
Curve Refine Saturation | 100 |
Date Created | 2024:01:19 15:15:05.046+01:00 |
Defringe Green Amount | 0 |
Defringe Green Hue Hi | 60 |
Defringe Green Hue Lo | 40 |
Defringe Purple Amount | 0 |
Defringe Purple Hue Hi | 70 |
Defringe Purple Hue Lo | 30 |
Dehaze | +35 |
Digital Zoom Ratio | 1.293413174 |
Exposure 2012 | 0.00 |
Exposure Compensation | 0 |
Exposure Mode | Auto |
Field Of View | 57.2 deg |
Focal Length In 35mm Format | 33 mm |
Format | image/jpeg |
Grain Amount | 0 |
Green Hue | 0 |
Green Saturation | 0 |
HDR Edit Mode | 0 |
Has Crop | True |
Has Settings | True |
Highlights 2012 | -56 |
Hue Adjustment Aqua | 0 |
Hue Adjustment Blue | 0 |
Hue Adjustment Green | -56 |
Hue Adjustment Magenta | 0 |
Hue Adjustment Orange | 0 |
Hue Adjustment Purple | 0 |
Hue Adjustment Red | 0 |
Hue Adjustment Yellow | 0 |
Hyperfocal Distance | 3.50 m |
ISO | 50 |
Image Size | 723x1000 |
Incremental Temperature | 0 |
Incremental Tint | 0 |
Lens | iPhone 13 back dual wide camera 5.1mm f/1.6 |
Lens Info | 1.53999996185121-5.1mm f/1.6-2.4 |
Lens Make | Apple |
Lens Manual Distortion Amount | 0 |
Lens Model | iPhone 13 back dual wide camera 5.1mm f/1.6 |
Lens Profile Enable | 0 |
Light Value | 11.9 |
Luminance Adjustment Aqua | 0 |
Luminance Adjustment Blue | +33 |
Luminance Adjustment Green | -40 |
Luminance Adjustment Magenta | 0 |
Luminance Adjustment Orange | -6 |
Luminance Adjustment Purple | 0 |
Luminance Adjustment Red | 0 |
Luminance Adjustment Yellow | -71 |
Luminance Smoothing | 0 |
Metering Mode | Multi-segment |
Override Look Vignette | False |
Parametric Darks | +17 |
Parametric Highlight Split | 75 |
Parametric Highlights | 0 |
Parametric Lights | 0 |
Parametric Midtone Split | 50 |
Parametric Shadow Split | 25 |
Parametric Shadows | -33 |
Perspective Aspect | 0 |
Perspective Horizontal | 0 |
Perspective Rotate | 0.0 |
Perspective Scale | 100 |
Perspective Upright | 0 |
Perspective Vertical | 0 |
Perspective X | 0.00 |
Perspective Y | 0.00 |
Pick | 0 |
Point Colors | -1.000000, -1.000000, -1.000000, -1.000000, -1.000000, -1.000000, -1.000000, -1.000000, -1.000000, -1.000000, -1.000000, -1.000000, -1.000000, -1.000000, -1.000000, -1.000000, -1.000000, -1.000000, -1.000000 |
Post Crop Vignette Amount | 0 |
Preserved File Name | IMG_0174.HEIC |
Process Version | 15.4 |
Raw File Name | Landskrona 4.HEIC |
Red Hue | 0 |
Red Saturation | 0 |
Saturation | -40 |
Saturation Adjustment Aqua | -61 |
Saturation Adjustment Blue | -68 |
Saturation Adjustment Green | -19 |
Saturation Adjustment Magenta | -49 |
Saturation Adjustment Orange | +4 |
Saturation Adjustment Purple | -46 |
Saturation Adjustment Red | 0 |
Saturation Adjustment Yellow | +1 |
Scale Factor To 35 mm Equivalent | 6.5 |
Scene Type | Directly photographed |
Sensing Method | One-chip color area |
Shadow Tint | 0 |
Shadows 2012 | +56 |
Sharpness | 0 |
Split Toning Balance | 0 |
Split Toning Highlight Hue | 31 |
Split Toning Highlight Saturation | 7 |
Split Toning Shadow Hue | 221 |
Split Toning Shadow Saturation | 9 |
Subject | landskrona, mobilfoton, monokrom, snö |
Subject Area | 2011 1502 2315 1330 |
Texture | +13 |
Tone Curve Name 2012 | Custom |
Tone Curve PV2012 | 0, 0, 56, 52, 96, 96, 120, 143, 184, 194, 232, 230, 255, 255 |
Tone Curve PV2012 Blue | 0, 0, 155, 153, 255, 255 |
Tone Curve PV2012 Green | 0, 0, 255, 255 |
Tone Curve PV2012 Red | 0, 0, 107, 102, 255, 255 |
Version | 16.2 |
Vibrance | +10 |
Vignette Amount | 0 |
Weighted Flat Subject | landskrona, snö, mobilfoton, monokrom |
White Balance | Auto |
Whites 2012 | +24 |