Shooting information for this photo
Camera: | Canon PowerShot S95 |
Exposure: | 0.05 sec. (1/20) |
Aperture: | f/4.0 |
Focal Length: | 15.0 mm (35 mm equivalent: 69.9 mm) |
Flash: | Off, Did not fire |
Max Aperture: | 4.0 |
Resolution: | 240 x 240 dpi |
Original Date: | 2015:05:09 21:03:43 |
Created on: | 2015:05:09 21:03:43 |
Modified on: | 2015:05:10 10:46:50 |
Software: | Adobe Photoshop Lightroom 5.7 (Macintosh) |
Already Applied | True |
Approximate Focus Distance | 1.84 |
Auto Lateral CA | 0 |
Auto White Version | 134348800 |
Blacks 2012 | 0 |
Blue Hue | 0 |
Blue Saturation | 0 |
Camera Profile | Adobe Standard |
Circle Of Confusion | 0.006 mm |
Clarity 2012 | +34 |
Color Noise Reduction | 25 |
Color Noise Reduction Detail | 50 |
Color Noise Reduction Smoothness | 50 |
Color Space | sRGB |
Color Temperature | 2952 |
Contrast 2012 | -42 |
Convert To Grayscale | False |
Crop Angle | 0 |
Crop Bottom | 1 |
Crop Constrain To Warp | 0 |
Crop Left | 0 |
Crop Right | 0.97514 |
Crop Top | 0 |
Custom Rendered | Normal |
Date Created | 2015:05:09 21:03:43 |
Defringe Green Amount | 0 |
Defringe Green Hue Hi | 60 |
Defringe Green Hue Lo | 40 |
Defringe Purple Amount | 0 |
Defringe Purple Hue Hi | 70 |
Defringe Purple Hue Lo | 30 |
Digital Zoom Ratio | 1 |
Exposure 2012 | 0.00 |
Exposure Compensation | 0 |
Exposure Mode | Auto |
Field Of View | 28.9 deg |
Firmware | 1.00 |
Flash Compensation | 0 |
Format | image/jpeg |
Grain Amount | 0 |
Green Hue | 0 |
Green Saturation | 0 |
Has Crop | True |
Has Settings | True |
Highlights 2012 | -93 |
Hue Adjustment Aqua | -76 |
Hue Adjustment Blue | -55 |
Hue Adjustment Green | 0 |
Hue Adjustment Magenta | 0 |
Hue Adjustment Orange | 0 |
Hue Adjustment Purple | 0 |
Hue Adjustment Red | 0 |
Hue Adjustment Yellow | 0 |
Hyperfocal Distance | 8.71 m |
ISO | 1600 |
Image Size | 999x768 |
Lens | 6.0-22.5 mm |
Lens Info | 6-22.5mm f/? |
Lens Manual Distortion Amount | 0 |
Lens Model | 6.0-22.5 mm |
Lens Profile Enable | 0 |
Lens Profile Setup | LensDefaults |
Light Value | 4.3 |
Luminance Adjustment Aqua | 0 |
Luminance Adjustment Blue | 0 |
Luminance Adjustment Green | 0 |
Luminance Adjustment Magenta | 0 |
Luminance Adjustment Orange | 0 |
Luminance Adjustment Purple | 0 |
Luminance Adjustment Red | 0 |
Luminance Adjustment Yellow | 0 |
Luminance Smoothing | 0 |
Metering Mode | Multi-segment |
Parametric Darks | +14 |
Parametric Highlight Split | 86 |
Parametric Highlights | +36 |
Parametric Lights | +52 |
Parametric Midtone Split | 41 |
Parametric Shadow Split | 15 |
Parametric Shadows | +2 |
Perspective Aspect | 0 |
Perspective Horizontal | 0 |
Perspective Rotate | 0.0 |
Perspective Scale | 100 |
Perspective Upright | 0 |
Perspective Vertical | 0 |
Post Crop Vignette Amount | 0 |
Process Version | 6.7 |
Red Hue | 0 |
Red Saturation | 0 |
Saturation | -67 |
Saturation Adjustment Aqua | 0 |
Saturation Adjustment Blue | -100 |
Saturation Adjustment Green | 0 |
Saturation Adjustment Magenta | 0 |
Saturation Adjustment Orange | 0 |
Saturation Adjustment Purple | 0 |
Saturation Adjustment Red | 0 |
Saturation Adjustment Yellow | 0 |
Scale Factor To 35 mm Equivalent | 4.7 |
Scene Capture Type | Standard |
Sensing Method | One-chip color area |
Sensitivity Type | Standard Output Sensitivity and Recommended Exposure Index |
Shadow Tint | 0 |
Shadows 2012 | -46 |
Sharpen Detail | 25 |
Sharpen Edge Masking | 0 |
Sharpen Radius | +1.0 |
Sharpness | 25 |
Split Toning Balance | 0 |
Split Toning Highlight Hue | 169 |
Split Toning Highlight Saturation | 31 |
Split Toning Shadow Hue | 321 |
Split Toning Shadow Saturation | 21 |
Tint | -14 |
Tone Curve | 0, 0, 255, 255 |
Tone Curve Blue | 0, 0, 255, 255 |
Tone Curve Green | 0, 0, 255, 255 |
Tone Curve Name | Linear |
Tone Curve Name 2012 | Linear |
Tone Curve PV2012 | 0, 0, 255, 255 |
Tone Curve PV2012 Blue | 0, 0, 255, 255 |
Tone Curve PV2012 Green | 0, 0, 255, 255 |
Tone Curve PV2012 Red | 0, 0, 255, 255 |
Tone Curve Red | 0, 0, 255, 255 |
Version | 8.7 |
Vibrance | -5 |
Vignette Amount | -2 |
Vignette Midpoint | 50 |
White Balance | Auto |
Whites 2012 | -80 |