Shooting information for this photo
Camera: | Canon EOS 5D Mark IV |
Exposure: | 0.0025 sec. (1/400) |
Aperture: | f/4.0 |
Focal Length: | 11.0 mm (35 mm equivalent: 13.3 mm) |
Flash: | Off, Did not fire |
Exposure mode: | Aperture-priority AE |
Max Aperture: | 4.2 |
Resolution: | 94 x 94 dpi |
Original Date: | 2018:04:02 18:55:21.00 |
Created on: | 2018:04:02 18:55:21.00 |
Modified on: | 2023:12:31 00:29:48 |
Software: | Adobe Photoshop Lightroom Classic 13.1 (Windows) |
Already Applied | True |
Auto Lateral CA | 0 |
Blacks 2012 | -23 |
Blue Hue | 0 |
Blue Saturation | 0 |
Camera Profile | Embedded |
Circle Of Confusion | 0.025 mm |
Clarity 2012 | 0 |
Color Grade Blending | 50 |
Color Grade Global Hue | 0 |
Color Grade Global Lum | 0 |
Color Grade Global Sat | 0 |
Color Grade Highlight Lum | 0 |
Color Grade Midtone Hue | 0 |
Color Grade Midtone Lum | 0 |
Color Grade Midtone Sat | 0 |
Color Grade Shadow Lum | 0 |
Color Noise Reduction | 0 |
Color Space | sRGB |
Compatible Version | 234881024 |
Contrast 2012 | +17 |
Convert To Grayscale | True |
Crop Angle | -11.679 |
Crop Bottom | 0.763323 |
Crop Constrain To Warp | 0 |
Crop Left | 0.054603 |
Crop Right | 0.923115 |
Crop Top | 0.236677 |
Custom Rendered | Normal |
Date Created | 2018:04:02 18:55:21.00 |
Dehaze | 0 |
Exposure 2012 | +1.37 |
Exposure Compensation | -1/3 |
Exposure Mode | Auto |
Field Of View | 107.2 deg |
Firmware | 1.0.4 |
Flash Compensation | 0 |
Format | image/jpeg |
Grain Amount | 0 |
Gray Mixer Aqua | -18 |
Gray Mixer Blue | +11 |
Gray Mixer Green | +64 |
Gray Mixer Magenta | -38 |
Gray Mixer Orange | -19 |
Gray Mixer Purple | +16 |
Gray Mixer Red | +61 |
Gray Mixer Yellow | -21 |
Green Hue | 0 |
Green Saturation | 0 |
HDR Edit Mode | 0 |
Has Crop | True |
Has Settings | True |
Highlights 2012 | -100 |
Hyperfocal Distance | 1.22 m |
ISO | 2000 |
Image Number | 0 |
Image Size | 5238x3492 |
Incremental Temperature | 0 |
Incremental Tint | 0 |
Lens | 11mm |
Lens ID | Canon 11mm |
Lens Info | 11mm f/? |
Lens Manual Distortion Amount | 0 |
Lens Model | 11mm |
Lens Profile Enable | 0 |
Light Value | 8.3 |
Luminance Adjustment Aqua | +4 |
Luminance Adjustment Blue | +1 |
Luminance Adjustment Magenta | -100 |
Luminance Adjustment Orange | +13 |
Luminance Adjustment Purple | -100 |
Luminance Adjustment Red | -100 |
Luminance Adjustment Yellow | +20 |
Luminance Noise Reduction Contrast | 0 |
Luminance Noise Reduction Detail | 89 |
Luminance Smoothing | 27 |
Metering Mode | Multi-segment |
Override Look Vignette | False |
Parametric Darks | +14 |
Parametric Highlight Split | 75 |
Parametric Highlights | +31 |
Parametric Lights | +3 |
Parametric Midtone Split | 50 |
Parametric Shadow Split | 25 |
Parametric Shadows | -20 |
Perspective Aspect | 0 |
Perspective Horizontal | 0 |
Perspective Rotate | 0.0 |
Perspective Scale | 100 |
Perspective Upright | 0 |
Perspective Vertical | 0 |
Perspective X | 0.00 |
Perspective Y | 0.00 |
Point Colors | -1.000000, -1.000000, -1.000000, -1.000000, -1.000000, -1.000000, -1.000000, -1.000000, -1.000000, -1.000000, -1.000000, -1.000000, -1.000000, -1.000000, -1.000000, -1.000000, -1.000000, -1.000000, -1.000000 |
Post Crop Vignette Amount | +11 |
Post Crop Vignette Feather | 50 |
Post Crop Vignette Midpoint | 8 |
Post Crop Vignette Roundness | +25 |
Post Crop Vignette Style | 2 |
Process Version | 15.4 |
Range Mask Map Info Range Mask Map Info Lab Max | 0.999283 0.527504 0.548898 |
Range Mask Map Info Range Mask Map Info Lab Min | 0.000549 0.486748 0.471275 |
Range Mask Map Info Range Mask Map Info RGB Max | 0.481001 0.488214 0.519234 |
Range Mask Map Info Range Mask Map Info RGB Min | 0.002701 0.002643 0.002224 |
Raw File Name | _D3A8036.JPG |
Recommended Exposure Index | 2000 |
Red Hue | 0 |
Red Saturation | 0 |
Scale Factor To 35 mm Equivalent | 1.2 |
Scene Capture Type | Standard |
Sensitivity Type | Recommended Exposure Index |
Shadow Tint | 0 |
Shadows 2012 | +100 |
Sharpness | 0 |
Split Toning Balance | 0 |
Split Toning Highlight Hue | 0 |
Split Toning Highlight Saturation | 0 |
Split Toning Shadow Hue | 0 |
Split Toning Shadow Saturation | 0 |
Subject | Architektur, Excire (de), Farben, Fenster, Fotografie, Inhalt, Symmetrie, Ungesättigt, grau, schwarz, weiß |
Texture | 0 |
Title | St. Josef Church ++ Holzkirchen |
Tone Curve Name 2012 | Linear |
Tone Curve PV2012 | 0, 0, 255, 255 |
Tone Curve PV2012 Blue | 0, 0, 255, 255 |
Tone Curve PV2012 Green | 0, 0, 255, 255 |
Tone Curve PV2012 Red | 0, 0, 255, 255 |
Version | 16.1 |
Vignette Amount | 0 |
Weighted Flat Subject | schwarz, Farben, Excire (de), grau, Ungesättigt, Fotografie, Architektur, Inhalt, Fenster, Symmetrie, weiß |
White Balance | Auto |
Whites 2012 | +62 |