Shooting information for this photo
Camera: | NIKON CORPORATION NIKON D300 |
Exposure: | 0.0004 sec. (1/2500) |
Aperture: | f/1.8 |
Focal Length: | 35.0 mm (35 mm equivalent: 52.0 mm) |
Flash: | No Flash |
Exposure mode: | Aperture-priority AE |
Max Aperture: | 1.7 |
Resolution: | 240 x 240 dpi |
Dimension: | 797 x 1200 pixels |
Original Date: | 2011:12:24 14:57:01.36 |
Digitized Date: | 2011:12:24 14:57:01.36+01:00 |
Created on: | 2011:12:24 14:57:01.36 |
Modified on: | 2011:12:24 15:56:34 |
Software: | Ver.1.00 |
Already Applied | True |
Blue Hue | 0 |
Blue Saturation | 0 |
Brightness | +50 |
CFA Pattern | [Red,Green][Green,Blue] |
Camera Profile | Adobe Standard |
Chromatic Aberration B | 0 |
Chromatic Aberration R | 0 |
Circle Of Confusion | 0.020 mm |
Clarity | 0 |
Color Noise Reduction | 25 |
Color Temperature | 6587 |
Contrast | +25 |
Convert To Grayscale | False |
Crop Angle | 4.69299 |
Crop Bottom | 1 |
Crop Height | 797 |
Crop Left | 0.083903 |
Crop Right | 0.925375 |
Crop Top | 0 |
Crop Unit | pixels |
Crop Width | 1200 |
Custom Rendered | Normal |
Defringe | 0 |
Depth Of Field | 0.01 m (0.44 - 0.46) |
Digital Zoom Ratio | 1 |
Exposure | +0.84 |
Exposure Compensation | -5/3 |
Exposure Mode | Auto |
Field Of View | 38.2 deg |
Fill Light | 0 |
Flash Fired | False |
Flash Function | False |
Flash Mode | Unknown |
Flash Red Eye Mode | False |
Flash Return | No return detection |
Focal Length In 35mm Format | 52 mm |
Gain Control | None |
Green Hue | 0 |
Green Saturation | 0 |
Has Crop | True |
Has Settings | True |
Highlight Recovery | 0 |
Hue Adjustment Aqua | 0 |
Hue Adjustment Blue | 0 |
Hue Adjustment Green | 0 |
Hue Adjustment Magenta | 0 |
Hue Adjustment Orange | 0 |
Hue Adjustment Purple | 0 |
Hue Adjustment Red | 0 |
Hue Adjustment Yellow | 0 |
Hyperfocal Distance | 33.65 m |
ISO | 200 |
Image Number | 17931 |
Image Size | 797x1200 |
Lens | 35.0 mm f/1.8 |
Lens ID | AF-S DX Nikkor 35mm f/1.8G |
Lens Info | 35mm f/1.8 |
Light Source | Fine Weather |
Light Value | 12.0 |
Luminance Adjustment Aqua | 0 |
Luminance Adjustment Blue | 0 |
Luminance Adjustment Green | 0 |
Luminance Adjustment Magenta | 0 |
Luminance Adjustment Orange | 0 |
Luminance Adjustment Purple | 0 |
Luminance Adjustment Red | 0 |
Luminance Adjustment Yellow | 0 |
Luminance Smoothing | 0 |
Metering Mode | Spot |
Parametric Darks | +23 |
Parametric Highlight Split | 88 |
Parametric Highlights | +28 |
Parametric Lights | -19 |
Parametric Midtone Split | 72 |
Parametric Shadow Split | 18 |
Parametric Shadows | -38 |
Post Crop Vignette Amount | -58 |
Post Crop Vignette Feather | 74 |
Post Crop Vignette Midpoint | 84 |
Post Crop Vignette Roundness | +100 |
Red Hue | 0 |
Red Saturation | 0 |
Saturation | -34 |
Saturation Adjustment Aqua | 0 |
Saturation Adjustment Blue | 0 |
Saturation Adjustment Green | 0 |
Saturation Adjustment Magenta | 0 |
Saturation Adjustment Orange | 0 |
Saturation Adjustment Purple | 0 |
Saturation Adjustment Red | 0 |
Saturation Adjustment Yellow | 0 |
Scale Factor To 35 mm Equivalent | 1.5 |
Scene Capture Type | Standard |
Scene Type | Directly photographed |
Sensing Method | One-chip color area |
Shadow Tint | 0 |
Shadows | 5 |
Sharpen Detail | 25 |
Sharpen Edge Masking | 0 |
Sharpen Radius | +1.0 |
Sharpness | 25 |
Split Toning Balance | 0 |
Split Toning Highlight Hue | 0 |
Split Toning Highlight Saturation | 0 |
Split Toning Shadow Hue | 0 |
Split Toning Shadow Saturation | 0 |
Subject | Herbst, Ural |
Subject Distance | 0.45 m |
Subject Distance Range | Unknown |
Tint | +1 |
Title | Pistonhead |
Tone Curve | 0, 0, 32, 22, 64, 56, 128, 128, 192, 196, 255, 255 |
Tone Curve Name | Medium Contrast |
User Comment | by LGW, lgw@dark-reality.de |
Version | 5.7 |
Vibrance | 0 |
Vignette Amount | 0 |
White Balance | Custom |