Shooting information for this photo
Camera: | RICOH IMAGING COMPANY, LTD. PENTAX K-3 |
Exposure: | 1 sec. |
Focal Length: | 55.0 mm (35 mm equivalent: 82.0 mm) |
Flash: | Off, Did not fire |
Exposure mode: | Manual |
Resolution: | 300 x 300 dpi |
Original Date: | 2020:12:03 23:40:40 |
Created on: | 2020:12:03 23:40:40 |
Modified on: | 2020:12:04 17:47:13 |
Software: | Adobe Photoshop Lightroom 4.4 (Windows) |
Copyright: | KRIS LOCKYEAR |
Already Applied | True |
Artist | KRIS LOCKYEAR |
Auto Lateral CA | 0 |
Black Clip | 0.000000 |
Blacks 2012 | -29 |
Blend With EV | 0.0 |
Blending Opacity | 0.0 |
Blue Hue | 0 |
Blue Saturation | 0 |
Brightness | 0.0 |
Brightness Individual Colors | 0.0,0.0,0.0,0.0,0.0,0.0,0.0,0. 0 |
Camera Profile | Embedded |
Circle Of Confusion | 0.020 mm |
Clarity 2012 | 0 |
Color Noise Reduction | 0 |
Color Temperature | 0.0 |
Contrast | Normal |
Contrast 2012 | 0 |
Convert To Grayscale | False |
Creator | KRIS LOCKYEAR |
Crop Angle | -0.252873 |
Crop Bottom | 0.737707 |
Crop Constrain To Warp | 0 |
Crop Height | 1200 |
Crop Left | 0.057028 |
Crop Right | 1 |
Crop Top | 0.115983 |
Crop Unit | pixels |
Crop Width | 1200 |
Custom Rendered | Normal |
Date Created | 2020:12:03 23:40:40 |
Defringe Green Amount | 0 |
Defringe Green Hue Hi | 60 |
Defringe Green Hue Lo | 40 |
Defringe Purple Amount | 0 |
Defringe Purple Hue Hi | 70 |
Defringe Purple Hue Lo | 30 |
Exposure 2012 | -0.46 |
Exposure Balance | 0.0 |
Exposure Compensation | 0 |
Exposure Mode | Manual |
Field Of View | 24.8 deg |
Focal Length In 35mm Format | 82 mm |
Format | image/jpeg |
Grain Amount | 0 |
Green Hue | 0 |
Green Saturation | 0 |
Has Crop | True |
Has Settings | True |
Highlights 2012 | -29 |
Hue Adjustment Aqua | 0 |
Hue Adjustment Blue | 0 |
Hue Adjustment Green | 0 |
Hue Adjustment Magenta | 0 |
Hue Adjustment Orange | 0 |
Hue Adjustment Purple | 0 |
Hue Adjustment Red | 0 |
Hue Adjustment Yellow | 0 |
ISO | 400 |
Image Size | 1200x1200 |
Incremental Temperature | -11 |
Incremental Tint | +2 |
Is Pano 360 | No |
Lens | K or M Lens |
Lens ID | Unknown (1 0) |
Lens Manual Distortion Amount | 0 |
Lens Model | K or M Lens |
Lens Profile Enable | 0 |
Lens Profile Setup | LensDefaults |
Luminance Adjustment Aqua | 0 |
Luminance Adjustment Blue | 0 |
Luminance Adjustment Green | 0 |
Luminance Adjustment Magenta | 0 |
Luminance Adjustment Orange | 0 |
Luminance Adjustment Purple | 0 |
Luminance Adjustment Red | 0 |
Luminance Adjustment Yellow | 0 |
Luminance Smoothing | 0 |
Metering Mode | Center-weighted average |
Method | Fusion/Natural |
Parametric Darks | 0 |
Parametric Highlight Split | 75 |
Parametric Highlights | 0 |
Parametric Lights | 0 |
Parametric Midtone Split | 50 |
Parametric Shadow Split | 25 |
Parametric Shadows | 0 |
Perspective Horizontal | 0 |
Perspective Rotate | 0.0 |
Perspective Scale | 100 |
Perspective Vertical | 0 |
Post Crop Vignette Amount | 0 |
Process Version | 6.7 |
Red Hue | 0 |
Red Saturation | 0 |
Rights | KRIS LOCKYEAR |
Saturation | 0.0 |
Saturation Adjustment Aqua | 0 |
Saturation Adjustment Blue | 0 |
Saturation Adjustment Green | -100 |
Saturation Adjustment Magenta | 0 |
Saturation Adjustment Orange | 0 |
Saturation Adjustment Purple | 0 |
Saturation Adjustment Red | 0 |
Saturation Adjustment Yellow | 0 |
Saturation Individual Colors | 0.0,0.0,0.0,0.0,0.0,0.0,0.0,0. 0 |
Scale Factor To 35 mm Equivalent | 1.5 |
Scene Capture Type | Standard |
Sensing Method | One-chip color area |
Sensitivity Type | Standard Output Sensitivity |
Shadow Tint | 0 |
Shadows 2012 | 0 |
Shadows Contrast | 0.0 |
Sharpen Detail | 25 |
Sharpen Edge Masking | 0 |
Sharpen Radius | +1.0 |
Sharpness | 2.0 |
Split Toning Balance | 0 |
Split Toning Highlight Hue | 0 |
Split Toning Highlight Saturation | 0 |
Split Toning Shadow Hue | 0 |
Split Toning Shadow Saturation | 0 |
Standard Output Sensitivity | 400 |
Strength | 0.0 |
Subject | Advent calendar, Pentax K-3, SMC Pentax 55mm f/2, Single in December 2020 |
Subject Distance Range | Distant |
Temperature Individual Colors | 0.0,0.0,0.0,0.0,0.0,0.0,0.0,0. 0 |
Tone Curve Name 2012 | Custom |
Tone Curve PV2012 | 0, 0, 110, 94, 173, 165, 255, 255 |
Tone Curve PV2012 Blue | 0, 0, 255, 255 |
Tone Curve PV2012 Green | 0, 0, 255, 255 |
Tone Curve PV2012 Red | 0, 0, 255, 255 |
Version | 7.4 |
Vibrance | 0 |
Vignette Amount | 0 |
White Balance | Auto |
White Clip | 0.000000 |
Whites 2012 | 0 |