Shooting information for this photo
Camera: | PENTAX K20D |
Exposure: | 0.008 sec. (1/125) |
Focal Length: | 100.0 mm (35 mm equivalent: 150.0 mm) |
Flash: | On, Fired |
Exposure mode: | Manual |
Resolution: | 240 x 240 dpi |
Original Date: | 2011:07:06 18:17:33 |
Digitized Date: | 2011:07:06 18:17:33+01:00 |
Created on: | 2011:07:06 18:17:33 |
Modified on: | 2011:07:06 20:26:18 |
Software: | K20D Ver 1.03 |
Copyright: | Kris Lockyear |
Already Applied | True |
Blue Hue | 0 |
Blue Saturation | 0 |
Brightness | +50 |
CFA Pattern | [Blue,Green][Green,Red] |
Camera Profile | ACR 4.4 |
Chromatic Aberration B | 0 |
Chromatic Aberration R | 0 |
Circle Of Confusion | 0.020 mm |
Clarity | 0 |
Color Noise Reduction | 25 |
Color Temperature | 5100 |
Contrast | High |
Convert To Grayscale | True |
Creator | Kris Lockyear |
Crop Angle | 0 |
Crop Bottom | 1 |
Crop Height | 800 |
Crop Left | 0.077485 |
Crop Right | 0.741869 |
Crop Top | 0 |
Crop Unit | pixels |
Crop Width | 800 |
Custom Rendered | Normal |
Defringe | 0 |
Exposure | +0.67 |
Exposure Compensation | 0 |
Exposure Mode | Manual |
Field Of View | 13.7 deg |
Fill Light | 0 |
Flash Fired | True |
Flash Function | False |
Flash Mode | On |
Flash Red Eye Mode | False |
Flash Return | No return detection |
Focal Length In 35mm Format | 150 mm |
Gray Mixer Aqua | -25 |
Gray Mixer Blue | -3 |
Gray Mixer Green | -19 |
Gray Mixer Magenta | +18 |
Gray Mixer Orange | +2 |
Gray Mixer Purple | +15 |
Gray Mixer Red | +15 |
Gray Mixer Yellow | -6 |
Green Hue | 0 |
Green Saturation | 0 |
Has Crop | True |
Has Settings | True |
Highlight Recovery | 0 |
ISO | 400 |
Image Size | 800x800 |
Lens ID | M-42 or No Lens |
Luminance Smoothing | 0 |
Marked | True |
Metering Mode | Spot |
Parametric Darks | +6 |
Parametric Highlight Split | 75 |
Parametric Highlights | 0 |
Parametric Lights | +17 |
Parametric Midtone Split | 50 |
Parametric Shadow Split | 25 |
Parametric Shadows | -17 |
Red Hue | 0 |
Red Saturation | 0 |
Rights | Kris Lockyear |
Saturation | Normal |
Scale Factor To 35 mm Equivalent | 1.5 |
Scene Capture Type | Standard |
Sensing Method | One-chip color area |
Shadow Tint | 0 |
Shadows | 14 |
Sharpen Detail | 25 |
Sharpen Edge Masking | 0 |
Sharpen Radius | +1.0 |
Sharpness | Hard |
Split Toning Balance | 0 |
Split Toning Highlight Hue | 0 |
Split Toning Highlight Saturation | 0 |
Split Toning Shadow Hue | 0 |
Split Toning Shadow Saturation | 0 |
Subject | Lily, Pentax, Pentax K20D, Pringles, SMC M 100mm f/2.8, extension tubes, macro |
Subject Distance Range | Unknown |
Tint | -8 |
Tone Curve | 0, 0, 32, 22, 64, 56, 128, 128, 192, 196, 255, 255 |
Tone Curve Name | Medium Contrast |
Usage Terms | all rights reserved |
Version | 4.4.1 |
Vignette Amount | 0 |
White Balance | Auto |