Shooting information for this photo
Camera: | PENTAX K20D |
Exposure: | 0.00063 sec. (1/1600) |
Aperture: | f/4.0 |
Focal Length: | 63.0 mm (35 mm equivalent: 94.0 mm) |
Flash: | Off, Did not fire |
Exposure mode: | Aperture-priority AE |
Resolution: | 240 x 240 dpi |
Dimension: | 800 x 469 pixels |
Original Date: | 2010:04:03 17:20:10 |
Digitized Date: | 2010:04:03 17:20:10+01:00 |
Created on: | 2010:04:03 17:20:10 |
Modified on: | 2010:04:26 03:17:09 |
Software: | K20D Ver 1.03 |
Copyright: | Kris Lockyear |
Already Applied | True |
Blue Hue | 0 |
Blue Saturation | 0 |
Brightness | +50 |
CFA Pattern | [Blue,Green][Green,Red] |
Camera Profile | Adobe Standard |
Chromatic Aberration B | 0 |
Chromatic Aberration R | 0 |
Circle Of Confusion | 0.020 mm |
Clarity | +17 |
Color Noise Reduction | 25 |
Color Noise Reduction Detail | 50 |
Color Temperature | 4750 |
Contrast | High |
Convert To Grayscale | False |
Creator | Kris Lockyear |
Crop Angle | 0 |
Crop Bottom | 0.883212 |
Crop Height | 469 |
Crop Left | 0 |
Crop Right | 1 |
Crop Top | 0 |
Crop Unit | pixels |
Crop Width | 800 |
Custom Rendered | Normal |
Defringe | 0 |
Exposure | 0.00 |
Exposure Compensation | 0 |
Exposure Mode | Auto |
Field Of View | 21.7 deg |
Fill Light | 10 |
Flash Fired | False |
Flash Function | False |
Flash Mode | Off |
Flash Red Eye Mode | False |
Flash Return | No return detection |
Focal Length In 35mm Format | 94 mm |
Grain Amount | 0 |
Green Hue | 0 |
Green Saturation | 0 |
Has Crop | True |
Has Settings | True |
Highlight Recovery | 53 |
Hue Adjustment Aqua | 0 |
Hue Adjustment Blue | 0 |
Hue Adjustment Green | 0 |
Hue Adjustment Magenta | 0 |
Hue Adjustment Orange | 0 |
Hue Adjustment Purple | 0 |
Hue Adjustment Red | 0 |
Hue Adjustment Yellow | 0 |
Hyperfocal Distance | 49.27 m |
ISO | 400 |
Image Size | 800x469 |
Lens | smc PENTAX-DA* 50-135mm F2.8 ED [IF] SDM |
Lens ID | smc PENTAX-DA* 50-135mm F2.8 ED [IF] SDM |
Lens Info | 50-135mm f/2.8 |
Light Value | 12.6 |
Luminance Adjustment Aqua | 0 |
Luminance Adjustment Blue | 0 |
Luminance Adjustment Green | 0 |
Luminance Adjustment Magenta | 0 |
Luminance Adjustment Orange | 0 |
Luminance Adjustment Purple | 0 |
Luminance Adjustment Red | 0 |
Luminance Adjustment Yellow | 0 |
Luminance Noise Reduction Contrast | 0 |
Luminance Noise Reduction Detail | 50 |
Luminance Smoothing | 13 |
Marked | True |
Metering Mode | Center-weighted average |
Parametric Darks | 0 |
Parametric Highlight Split | 75 |
Parametric Highlights | 0 |
Parametric Lights | 0 |
Parametric Midtone Split | 50 |
Parametric Shadow Split | 25 |
Parametric Shadows | 0 |
Post Crop Vignette Amount | 0 |
Process Version | 5.7 |
Red Hue | 0 |
Red Saturation | 0 |
Rights | Kris Lockyear |
Saturation | Normal |
Saturation Adjustment Aqua | 0 |
Saturation Adjustment Blue | 0 |
Saturation Adjustment Green | 0 |
Saturation Adjustment Magenta | 0 |
Saturation Adjustment Orange | 0 |
Saturation Adjustment Purple | 0 |
Saturation Adjustment Red | 0 |
Saturation Adjustment Yellow | 0 |
Scale Factor To 35 mm Equivalent | 1.5 |
Scene Capture Type | Standard |
Sensing Method | One-chip color area |
Shadow Tint | 0 |
Shadows | 2 |
Sharpen Detail | 25 |
Sharpen Edge Masking | 0 |
Sharpen Radius | +1.4 |
Sharpness | Hard |
Split Toning Balance | 0 |
Split Toning Highlight Hue | 0 |
Split Toning Highlight Saturation | 0 |
Split Toning Shadow Hue | 0 |
Split Toning Shadow Saturation | 0 |
Subject | USA |
Subject Distance Range | Distant |
Tint | -3 |
Tone Curve | 0, 0, 32, 22, 64, 56, 128, 128, 192, 196, 255, 255 |
Tone Curve Name | Medium Contrast |
Version | 6.0 |
Vibrance | +29 |
Vignette Amount | 0 |
White Balance | Auto |