Shooting information for this photo
Camera: | PENTAX K20D |
Exposure: | 0.0125 sec. (1/80) |
Focal Length: | 200.0 mm (35 mm equivalent: 300.0 mm) |
Flash: | Off, Did not fire |
Exposure mode: | Manual |
Resolution: | 150 x 150 dpi |
Original Date: | 2010:02:20 18:50:00 |
Digitized Date: | 2010:02:20 18:50:00Z |
Created on: | 2010:02:20 18:50:00 |
Modified on: | 2010:03:17 22:19:54 |
Software: | K20D Ver 1.03 |
Copyright: | Kris Lockyear |
Already Applied | True |
Artist | Kris Lockyear |
Blue Hue | 0 |
Blue Saturation | 0 |
Brightness | +50 |
CFA Pattern | [Blue,Green][Green,Red] |
Camera Profile | ACR 4.4 |
Chromatic Aberration B | 0 |
Chromatic Aberration R | 0 |
Circle Of Confusion | 0.020 mm |
Clarity | 0 |
Color Noise Reduction | 25 |
Color Temperature | 4850 |
Contrast | Normal |
Convert To Grayscale | True |
Creator | Kris Lockyear |
Custom Rendered | Normal |
Defringe | 0 |
Exposure | 0.00 |
Exposure Compensation | 0 |
Exposure Mode | Manual |
Field Of View | 6.9 deg |
Fill Light | 0 |
Flash Fired | False |
Flash Function | False |
Flash Mode | Off |
Flash Red Eye Mode | False |
Flash Return | No return detection |
Focal Length In 35mm Format | 300 mm |
Gray Mixer Aqua | -18 |
Gray Mixer Blue | +10 |
Gray Mixer Green | -27 |
Gray Mixer Magenta | +4 |
Gray Mixer Orange | -19 |
Gray Mixer Purple | +16 |
Gray Mixer Red | -10 |
Gray Mixer Yellow | -23 |
Green Hue | 0 |
Green Saturation | 0 |
Has Crop | False |
Has Settings | True |
Highlight Recovery | 0 |
ISO | 400 |
Image Size | 800x532 |
Lens | K,M Lens |
Lens ID | K or M Lens |
Luminance Smoothing | 0 |
Marked | True |
Metering Mode | Center-weighted average |
Parametric Darks | -7 |
Parametric Highlight Split | 75 |
Parametric Highlights | 0 |
Parametric Lights | +7 |
Parametric Midtone Split | 50 |
Parametric Shadow Split | 25 |
Parametric Shadows | 0 |
Red Hue | 0 |
Red Saturation | 0 |
Rights | Kris Lockyear |
Saturation | Normal |
Scale Factor To 35 mm Equivalent | 1.5 |
Scene Capture Type | Standard |
Sensing Method | One-chip color area |
Shadow Tint | 0 |
Shadows | 13 |
Sharpen Detail | 25 |
Sharpen Edge Masking | 0 |
Sharpen Radius | +1.4 |
Sharpness | Soft |
Split Toning Balance | 0 |
Split Toning Highlight Hue | 30 |
Split Toning Highlight Saturation | 15 |
Split Toning Shadow Hue | 30 |
Split Toning Shadow Saturation | 15 |
Subject | New York |
Subject Distance Range | Distant |
Tint | -13 |
Tone Curve | 0, 0, 32, 16, 64, 50, 128, 128, 192, 202, 255, 255 |
Tone Curve Name | Strong Contrast |
Version | 4.4.1 |
Vignette Amount | 0 |
White Balance | Auto |