Shooting information for this photo
Camera: | OLYMPUS IMAGING CORP. E-330 |
Exposure: | 0.005 sec. (1/200) |
Aperture: | f/13.0 |
Focal Length: | 105.0 mm (35 mm equivalent: 210.0 mm) |
Flash: | On, Did not fire |
Exposure mode: | Manual |
Max Aperture: | 2.8 |
Resolution: | 240 x 240 dpi |
Dimension: | 1500 x 2000 pixels |
Original Date: | 2011:02:05 12:00:03 |
Created on: | 2011:02:05 12:00:03 |
Modified on: | 2011:02:06 21:37:28 |
Software: | Adobe Photoshop CS5 Macintosh |
Already Applied | True |
Blue Hue | 0 |
Blue Saturation | 0 |
Brightness | +55 |
CFA Pattern | [Red,Green][Green,Blue] |
Camera Profile | Adobe Standard |
Chromatic Aberration B | 0 |
Chromatic Aberration R | 0 |
Circle Of Confusion | 0.015 mm |
Clarity | +25 |
Color Mode | RGB |
Color Noise Reduction | 30 |
Color Noise Reduction Detail | 50 |
Color Space | Uncalibrated |
Color Temperature | 4850 |
Contrast | +30 |
Convert To Grayscale | False |
Crop Angle | 0 |
Crop Bottom | 0.964951 |
Crop Constrain To Warp | 1 |
Crop Height | 4 |
Crop Left | 0.327271 |
Crop Right | 0.805644 |
Crop Top | 0.114509 |
Crop Unit | Unknown (3) |
Crop Width | 3 |
Custom Rendered | Normal |
Date Created | 2011:02:05 12:00:03 |
Defringe | 0 |
Description | OLYMPUS DIGITAL CAMERA |
Digital Zoom Ratio | 1 |
Exposure | +0.50 |
Exposure Compensation | 0 |
Exposure Mode | Manual |
Field Of View | 9.8 deg |
Fill Light | 0 |
Flash Compensation | 0 |
Focal Length In 35mm Format | 210 mm |
Format | image/jpeg |
Gain Control | None |
Grain Amount | 0 |
Green Hue | 0 |
Green Saturation | 0 |
Has Crop | True |
Has Settings | True |
Highlight Recovery | 26 |
Hue Adjustment Aqua | 0 |
Hue Adjustment Blue | 0 |
Hue Adjustment Green | 0 |
Hue Adjustment Magenta | 0 |
Hue Adjustment Orange | 0 |
Hue Adjustment Purple | 0 |
Hue Adjustment Red | 0 |
Hue Adjustment Yellow | 0 |
Hyperfocal Distance | 56.45 m |
ICC Profile Name | Adobe RGB (1998) |
ISO | 100 |
Image Description | OLYMPUS DIGITAL CAMERA |
Image Size | 1500x2000 |
Lens | 105.0 mm f/2.8 |
Lens Info | 105mm f/2.8 |
Lens Manual Distortion Amount | 0 |
Lens Profile Enable | 0 |
Lens Profile Setup | LensDefaults |
Light Source | Unknown |
Light Value | 15.0 |
Luminance Adjustment Aqua | 0 |
Luminance Adjustment Blue | 0 |
Luminance Adjustment Green | 0 |
Luminance Adjustment Magenta | 0 |
Luminance Adjustment Orange | 0 |
Luminance Adjustment Purple | 0 |
Luminance Adjustment Red | 0 |
Luminance Adjustment Yellow | 0 |
Luminance Noise Reduction Contrast | 0 |
Luminance Noise Reduction Detail | 50 |
Luminance Smoothing | 48 |
Metering Mode | Spot |
Parametric Darks | 0 |
Parametric Highlight Split | 75 |
Parametric Highlights | 0 |
Parametric Lights | 0 |
Parametric Midtone Split | 50 |
Parametric Shadow Split | 25 |
Parametric Shadows | 0 |
Perspective Horizontal | 0 |
Perspective Rotate | 0.0 |
Perspective Scale | 100 |
Perspective Vertical | 0 |
Post Crop Vignette Amount | 0 |
Process Version | 5.7 |
Rating | 0 |
Raw File Name | P2052937.ORF |
Red Hue | 0 |
Red Saturation | 0 |
Saturation | 0 |
Saturation Adjustment Aqua | 0 |
Saturation Adjustment Blue | 0 |
Saturation Adjustment Green | 0 |
Saturation Adjustment Magenta | 0 |
Saturation Adjustment Orange | 0 |
Saturation Adjustment Purple | 0 |
Saturation Adjustment Red | 0 |
Saturation Adjustment Yellow | 0 |
Scale Factor To 35 mm Equivalent | 2.0 |
Scene Capture Type | Standard |
Shadow Tint | 0 |
Shadows | 3 |
Sharpen Detail | 25 |
Sharpen Edge Masking | 0 |
Sharpen Radius | +1.0 |
Sharpness | 25 |
Sidecar For Extension | ORF |
Split Toning Balance | 0 |
Split Toning Highlight Hue | 0 |
Split Toning Highlight Saturation | 0 |
Split Toning Shadow Hue | 0 |
Split Toning Shadow Saturation | 0 |
Tint | +10 |
Tone Curve | 0, 0, 32, 22, 64, 56, 128, 128, 192, 196, 255, 255 |
Tone Curve Name | Medium Contrast |
Version | 6.1 |
Vibrance | 0 |
Vignette Amount | 0 |
White Balance | As Shot |