Shooting information for this photo
Camera: | OLYMPUS IMAGING CORP. E-300 |
Exposure: | 0.00625 sec. (1/160) |
Aperture: | f/13.0 |
Focal Length: | 105.0 mm |
Flash: | Off, Did not fire |
Exposure mode: | Aperture-priority AE |
Max Aperture: | 2.8 |
Resolution: | 240 x 240 dpi |
Dimension: | 1546 x 1159 pixels |
Original Date: | 2008:06:21 11:52:18 |
Digitized Date: | 2008:06:21 11:52:18+01:00 |
Created on: | 2008:06:21 11:52:18 |
Modified on: | 2008:06:21 14:56:43 |
Software: | Adobe Photoshop CS3 Windows |
Already Applied | True |
Blue Hue | 0 |
Blue Saturation | 0 |
Brightness | +34 |
CFA Pattern | [Red,Green][Green,Blue] |
Camera Profile | ACR 4.4 |
Chromatic Aberration B | 0 |
Chromatic Aberration R | 0 |
Clarity | 48 |
Color Mode | RGB |
Color Noise Reduction | 25 |
Color Space | sRGB |
Color Temperature | 5150 |
Contrast | +37 |
Convert To Grayscale | False |
Crop Angle | 0 |
Crop Bottom | 0.74602 |
Crop Height | 4 |
Crop Left | 0.286734 |
Crop Right | 0.760343 |
Crop Top | 0.272411 |
Crop Unit | Unknown (3) |
Crop Width | 3 |
Custom Rendered | Normal |
Defringe | 0 |
Description | OLYMPUS DIGITAL CAMERA |
Digital Zoom Ratio | 1 |
Exposure | +0.15 |
Exposure Compensation | 0 |
Exposure Mode | Auto |
Fill Light | 0 |
Flash Compensation | 0 |
Flash Fired | False |
Flash Function | False |
Flash Mode | Off |
Flash Red Eye Mode | False |
Flash Return | No return detection |
Format | image/jpeg |
Gain Control | Low gain up |
Green Hue | 0 |
Green Saturation | 0 |
Has Crop | True |
Has Settings | True |
Highlight Recovery | 8 |
Hue Adjustment Aqua | 0 |
Hue Adjustment Blue | 0 |
Hue Adjustment Green | 0 |
Hue Adjustment Magenta | 0 |
Hue Adjustment Orange | 0 |
Hue Adjustment Purple | 0 |
Hue Adjustment Red | 0 |
Hue Adjustment Yellow | 0 |
ICC Profile Name | sRGB IEC61966-2.1 |
ISO | 200 |
Image Description | OLYMPUS DIGITAL CAMERA |
Image Size | 1546x1159 |
Lens | 105.0 mm f/2.8 |
Lens Info | 105mm f/2.8 |
Light Source | Unknown |
Light Value | 13.7 |
Luminance Adjustment Aqua | 0 |
Luminance Adjustment Blue | 0 |
Luminance Adjustment Green | 0 |
Luminance Adjustment Magenta | 0 |
Luminance Adjustment Orange | 0 |
Luminance Adjustment Purple | 0 |
Luminance Adjustment Red | 0 |
Luminance Adjustment Yellow | 0 |
Luminance Smoothing | 0 |
Metering Mode | Spot |
Parametric Darks | 0 |
Parametric Highlight Split | 75 |
Parametric Highlights | 0 |
Parametric Lights | 0 |
Parametric Midtone Split | 50 |
Parametric Shadow Split | 25 |
Parametric Shadows | 0 |
Rating | 0 |
Raw File Name | P6211658.ORF |
Red Hue | 0 |
Red Saturation | 0 |
Saturation | -5 |
Saturation Adjustment Aqua | 0 |
Saturation Adjustment Blue | 0 |
Saturation Adjustment Green | 0 |
Saturation Adjustment Magenta | 0 |
Saturation Adjustment Orange | 0 |
Saturation Adjustment Purple | 0 |
Saturation Adjustment Red | 0 |
Saturation Adjustment Yellow | 0 |
Scene Capture Type | Standard |
Shadow Tint | 0 |
Shadows | 8 |
Sharpen Detail | 25 |
Sharpen Edge Masking | 0 |
Sharpen Radius | +1.0 |
Sharpness | 25 |
Split Toning Balance | 0 |
Split Toning Highlight Hue | 0 |
Split Toning Highlight Saturation | 0 |
Split Toning Shadow Hue | 0 |
Split Toning Shadow Saturation | 0 |
Tint | -1 |
Tone Curve | 0, 0, 32, 22, 64, 56, 128, 128, 192, 196, 255, 255 |
Tone Curve Name | Medium Contrast |
Version | 4.4.1 |
Vibrance | +13 |
Vignette Amount | 0 |
White Balance | As Shot |