Shooting information for this photo
Camera: | OLYMPUS IMAGING CORP. E-3 |
Exposure: | 0.00125 sec. (1/800) |
Aperture: | f/6.3 |
Focal Length: | 500.0 mm (35 mm equivalent: 1002.0 mm) |
Flash: | Auto, Did not fire |
Exposure mode: | Aperture-priority AE |
Max Aperture: | 4.0 |
Resolution: | 999 x 999 dpi |
Dimension: | 2887 x 2166 pixels |
Original Date: | 2012:06:10 11:10:21 |
Created on: | 2012:06:10 11:10:21 |
Modified on: | 2012:06:11 13:24:03 |
Software: | Adobe Photoshop CS5 Macintosh |
Already Applied | True |
Artist | Picasa |
Blue Hue | 0 |
Blue Saturation | 0 |
Brightness | +55 |
CFA Pattern | [Red,Green][Green,Blue] |
Camera Profile | Adobe Standard |
Chromatic Aberration B | 0 |
Chromatic Aberration R | 0 |
Circle Of Confusion | 0.015 mm |
Clarity | +25 |
Color Mode | RGB |
Color Noise Reduction | 30 |
Color Noise Reduction Detail | 50 |
Color Space | Uncalibrated |
Color Temperature | 4850 |
Contrast | +50 |
Convert To Grayscale | False |
Creator | Picasa |
Crop Angle | 0 |
Crop Bottom | 0.743804 |
Crop Constrain To Warp | 1 |
Crop Height | 4 |
Crop Left | 0.331165 |
Crop Right | 0.801115 |
Crop Top | 0.273854 |
Crop Unit | Unknown (3) |
Crop Width | 3 |
Custom Rendered | Normal |
Defringe | 0 |
Digital Zoom Ratio | 1 |
Exposure | -0.25 |
Exposure Compensation | +0.3 |
Exposure Mode | Manual |
Field Of View | 2.1 deg |
Fill Light | 0 |
Flash Compensation | 0 |
Focal Length In 35mm Format | 1002 mm |
Format | image/jpeg |
Gain Control | High gain up |
Grain Amount | 0 |
Green Hue | 0 |
Green Saturation | 0 |
Has Crop | True |
Has Settings | True |
Highlight Recovery | 17 |
Hue Adjustment Aqua | 0 |
Hue Adjustment Blue | 0 |
Hue Adjustment Green | 0 |
Hue Adjustment Magenta | 0 |
Hue Adjustment Orange | 0 |
Hue Adjustment Purple | 0 |
Hue Adjustment Red | 0 |
Hue Adjustment Yellow | 0 |
Hyperfocal Distance | 2646.71 m |
ICC Profile Name | Adobe RGB (1998) |
ISO | 400 |
Image Description | OLYMPUS DIGITAL CAMERA |
Image Size | 2887x2166 |
Lens | 50.0-500.0 mm f/4.0-6.3 |
Lens Info | 50-500mm f/4-6.3 |
Lens Manual Distortion Amount | 0 |
Lens Model | 50.0-500.0 mm f/4.0-6.3 |
Lens Profile Chromatic Aberration Scale | 100 |
Lens Profile Distortion Scale | 100 |
Lens Profile Enable | 1 |
Lens Profile Filename | OLYMPUS IMAGING CORP (Sigma_50-500mm_F4-6.3_APO_EX_ DG_HSM ) - RAW.lcp |
Lens Profile Name | Adobe (SIGMA APO 50-500mm F4-6.3 EX DG / HSM, OLYMPUS IMAGING CORP.) |
Lens Profile Setup | Custom |
Lens Profile Vignetting Scale | 100 |
Light Source | Unknown |
Light Value | 13.0 |
Luminance Adjustment Aqua | 0 |
Luminance Adjustment Blue | 0 |
Luminance Adjustment Green | 0 |
Luminance Adjustment Magenta | 0 |
Luminance Adjustment Orange | 0 |
Luminance Adjustment Purple | 0 |
Luminance Adjustment Red | 0 |
Luminance Adjustment Yellow | 0 |
Luminance Noise Reduction Contrast | 0 |
Luminance Noise Reduction Detail | 50 |
Luminance Smoothing | 50 |
Metering Mode | Spot |
Parametric Darks | 0 |
Parametric Highlight Split | 75 |
Parametric Highlights | 0 |
Parametric Lights | 0 |
Parametric Midtone Split | 50 |
Parametric Shadow Split | 25 |
Parametric Shadows | 0 |
Perspective Horizontal | 0 |
Perspective Rotate | 0.0 |
Perspective Scale | 100 |
Perspective Vertical | 0 |
Post Crop Vignette Amount | 0 |
Process Version | 5.7 |
Rating | 0 |
Raw File Name | _6105232.ORF |
Red Hue | 0 |
Red Saturation | 0 |
Related Image Height | 2166 |
Related Image Width | 2887 |
Saturation | 0 |
Saturation Adjustment Aqua | 0 |
Saturation Adjustment Blue | 0 |
Saturation Adjustment Green | 0 |
Saturation Adjustment Magenta | 0 |
Saturation Adjustment Orange | 0 |
Saturation Adjustment Purple | 0 |
Saturation Adjustment Red | 0 |
Saturation Adjustment Yellow | 0 |
Scale Factor To 35 mm Equivalent | 2.0 |
Scene Capture Type | Standard |
Sensitivity Type | Unknown |
Shadow Tint | 0 |
Shadows | 8 |
Sharpen Detail | 25 |
Sharpen Edge Masking | 0 |
Sharpen Radius | +1.0 |
Sharpness | 45 |
Sidecar For Extension | ORF |
Split Toning Balance | 0 |
Split Toning Highlight Hue | 0 |
Split Toning Highlight Saturation | 0 |
Split Toning Shadow Hue | 0 |
Split Toning Shadow Saturation | 0 |
Tint | +5 |
Tone Curve | 0, 0, 32, 22, 64, 56, 128, 128, 192, 196, 255, 255 |
Tone Curve Name | Medium Contrast |
Version | 6.3 |
Vibrance | 0 |
Vignette Amount | 0 |
White Balance | As Shot |