Shooting information for this photo
Camera: | SONY DSLR-A580 |
Exposure: | 0.001 sec. (1/1000) |
Aperture: | f/8.0 |
Focal Length: | 500.0 mm (35 mm equivalent: 750.0 mm) |
Flash: | Off, Did not fire |
Exposure mode: | Aperture-priority AE |
Max Aperture: | 8.0 |
Resolution: | 240 x 240 dpi |
Dimension: | 3603 x 2402 pixels |
Original Date: | 2011:05:22 12:13:28 |
Created on: | 2011:05:22 12:13:28 |
Modified on: | 2011:05:22 19:33:41 |
Software: | Adobe Photoshop CS5 Macintosh |
Already Applied | True |
Blue Hue | 0 |
Blue Saturation | 0 |
Brightness | +45 |
Brightness Value | 8.12 |
Camera Profile | Adobe Standard |
Chromatic Aberration B | 0 |
Chromatic Aberration R | 0 |
Circle Of Confusion | 0.020 mm |
Clarity | +25 |
Color Mode | RGB |
Color Noise Reduction | 30 |
Color Noise Reduction Detail | 50 |
Color Space | Uncalibrated |
Color Temperature | 5050 |
Contrast | +30 |
Convert To Grayscale | False |
Crop Angle | 0 |
Crop Bottom | 0.902304 |
Crop Constrain To Warp | 1 |
Crop Height | 3 |
Crop Left | 0.05854 |
Crop Right | 0.791982 |
Crop Top | 0.166466 |
Crop Unit | Unknown (3) |
Crop Width | 2 |
Custom Rendered | Normal |
Date Created | 2011:05:22 12:13:28 |
Defringe | 0 |
Description | SONY DSC |
Exposure | -1.05 |
Exposure Compensation | +0.3 |
Exposure Mode | Auto |
Field Of View | 2.7 deg |
Fill Light | 0 |
Focal Length In 35mm Format | 750 mm |
Format | image/jpeg |
Grain Amount | 0 |
Green Hue | 0 |
Green Saturation | 0 |
Has Crop | True |
Has Settings | True |
Highlight Recovery | 25 |
Hue Adjustment Aqua | 0 |
Hue Adjustment Blue | 0 |
Hue Adjustment Green | 0 |
Hue Adjustment Magenta | 0 |
Hue Adjustment Orange | 0 |
Hue Adjustment Purple | 0 |
Hue Adjustment Red | 0 |
Hue Adjustment Yellow | 0 |
Hyperfocal Distance | 1560.09 m |
ICC Profile Name | Adobe RGB (1998) |
ISO | 800 |
Image Description | SONY DSC |
Image Size | 3603x2402 |
Lens | 500mm F8 Reflex |
Lens ID | Minolta/Sony AF 500mm F8 Reflex |
Lens Info | 500mm f/8 |
Lens Manual Distortion Amount | 0 |
Lens Model | 500mm F8 Reflex |
Lens Profile Enable | 0 |
Lens Profile Setup | LensDefaults |
Light Source | Unknown |
Light Value | 13.0 |
Luminance Adjustment Aqua | 0 |
Luminance Adjustment Blue | 0 |
Luminance Adjustment Green | 0 |
Luminance Adjustment Magenta | 0 |
Luminance Adjustment Orange | 0 |
Luminance Adjustment Purple | 0 |
Luminance Adjustment Red | 0 |
Luminance Adjustment Yellow | 0 |
Luminance Noise Reduction Contrast | 0 |
Luminance Noise Reduction Detail | 50 |
Luminance Smoothing | 50 |
Metering Mode | Spot |
Parametric Darks | 0 |
Parametric Highlight Split | 75 |
Parametric Highlights | 0 |
Parametric Lights | 0 |
Parametric Midtone Split | 50 |
Parametric Shadow Split | 25 |
Parametric Shadows | 0 |
Perspective Horizontal | 0 |
Perspective Rotate | 0.0 |
Perspective Scale | 100 |
Perspective Vertical | 0 |
Post Crop Vignette Amount | 0 |
Process Version | 5.7 |
Rating | 0 |
Raw File Name | DSC00450.ARW |
Recommended Exposure Index | 800 |
Red Hue | 0 |
Red Saturation | 0 |
Saturation | 0 |
Saturation Adjustment Aqua | 0 |
Saturation Adjustment Blue | 0 |
Saturation Adjustment Green | 0 |
Saturation Adjustment Magenta | 0 |
Saturation Adjustment Orange | 0 |
Saturation Adjustment Purple | 0 |
Saturation Adjustment Red | 0 |
Saturation Adjustment Yellow | 0 |
Scale Factor To 35 mm Equivalent | 1.5 |
Scene Capture Type | Standard |
Scene Type | Directly photographed |
Sensitivity Type | Recommended Exposure Index |
Shadow Tint | 0 |
Shadows | 9 |
Sharpen Detail | 25 |
Sharpen Edge Masking | 0 |
Sharpen Radius | +1.0 |
Sharpness | 25 |
Sidecar For Extension | ARW |
Split Toning Balance | 0 |
Split Toning Highlight Hue | 0 |
Split Toning Highlight Saturation | 0 |
Split Toning Shadow Hue | 0 |
Split Toning Shadow Saturation | 0 |
Tint | +6 |
Tone Curve | 0, 0, 32, 22, 64, 56, 128, 128, 192, 196, 255, 255 |
Tone Curve Name | Medium Contrast |
Version | 6.3 |
Vibrance | 0 |
Vignette Amount | 0 |
White Balance | As Shot |