Shooting information for this photo
Camera: | NIKON CORPORATION NIKON D700 |
Exposure: | 0.005 sec. (1/200) |
Aperture: | f/5.6 |
Focal Length: | 24.0 mm (35 mm equivalent: 24.0 mm) |
Flash: | No Flash |
Exposure mode: | Manual |
Max Aperture: | 1.4 |
Resolution: | 300 x 300 dpi |
Dimension: | 4256 x 2832 pixels |
Original Date: | 2014:03:19 09:44:20.90 |
Digitized Date: | 2014:03:19 09:44:20.90+01:00 |
Created on: | 2014:03:19 09:44:20.90 |
Modified on: | 2014:03:24 11:28:52.90 |
Software: | Adobe Photoshop CS4 Windows |
Copyright: | Klaus-Dietmar Gabbert |
Already Applied | True |
Artist | Klaus-Dietmar Gabbert |
Blue Hue | 0 |
Blue Saturation | 0 |
Brightness | +50 |
CFA Pattern | [Red,Green][Green,Blue] |
Camera Profile | Adobe Standard |
Caption Writer | kdg |
Category | VM |
Chromatic Aberration B | 0 |
Chromatic Aberration R | 0 |
Circle Of Confusion | 0.030 mm |
City | Gueterfelde |
Clarity | 0 |
Color Mode | RGB |
Color Noise Reduction | 25 |
Color Space | sRGB |
Color Temperature | 5550 |
Contrast | Normal |
Convert To Grayscale | False |
Country | Deutschland |
Creator | Klaus-Dietmar Gabbert |
Credit | dpa |
Custom Rendered | Normal |
Date Created | 2014:03:19 |
Defringe | 0 |
Depth Of Field | 1.19 m (0.96 - 2.15) |
Description | Der Krötenexperte Jörg Dorowski überprüft im Auftrag des Naturschutzbundes NABU am 19.03.2014 in Güterfelde eine Amphibienfalle am Strassenrand. Foto: Klaus-Dietmar Gabbert |
Digital Zoom Ratio | 1 |
Exposure | +0.35 |
Exposure Compensation | +2/3 |
Exposure Mode | Manual |
Field Of View | 73.7 deg |
Fill Light | 0 |
Flash Fired | False |
Flash Function | False |
Flash Mode | Unknown |
Flash Red Eye Mode | False |
Flash Return | No return detection |
Focal Length In 35mm Format | 24 mm |
Format | image/jpeg |
Gain Control | High gain up |
Grain Amount | 0 |
Green Hue | 0 |
Green Saturation | 0 |
Has Crop | False |
Has Settings | True |
Headline | Amphibienwanderung |
Highlight Recovery | 10 |
Hue Adjustment Aqua | 0 |
Hue Adjustment Blue | 0 |
Hue Adjustment Green | 0 |
Hue Adjustment Magenta | 0 |
Hue Adjustment Orange | 0 |
Hue Adjustment Purple | 0 |
Hue Adjustment Red | 0 |
Hue Adjustment Yellow | 0 |
Hyperfocal Distance | 3.42 m |
ICC Profile Name | sRGB IEC61966-2.1 |
ISO | 1250 |
Image Description | Der Krötenexperte Jörg Dorowski überprüft im Auftrag des Naturschutzbundes NABU am 19.03.2014 in Güterfelde eine Amphibienfalle am Strassenrand. Foto: Klaus-Dietmar Gabbert |
Image Number | 208563 |
Image Size | 4256x2832 |
Lens | 24.0 mm f/1.4 |
Lens ID | AF-S Nikkor 24mm f/1.4G ED |
Lens Info | 24mm f/1.4 |
Light Source | Unknown |
Light Value | 9.0 |
Luminance Adjustment Aqua | 0 |
Luminance Adjustment Blue | 0 |
Luminance Adjustment Green | 0 |
Luminance Adjustment Magenta | 0 |
Luminance Adjustment Orange | 0 |
Luminance Adjustment Purple | 0 |
Luminance Adjustment Red | 0 |
Luminance Adjustment Yellow | 0 |
Luminance Smoothing | 0 |
Metering Mode | Multi-segment |
Parametric Darks | 0 |
Parametric Highlight Split | 75 |
Parametric Highlights | 0 |
Parametric Lights | 0 |
Parametric Midtone Split | 50 |
Parametric Shadow Split | 25 |
Parametric Shadows | 0 |
Photometric Interpretation | RGB |
Post Crop Vignette Amount | 0 |
Prefs | Tagged:1, ColorClass:1, Rating:0, FrameNum:004885 |
Preserved File Name | _KDG6678.NEF |
Process Version | 5.0 |
Rating | 1 |
Raw File Name | _KDG6678.NEF |
Red Hue | 0 |
Red Saturation | 0 |
Rights | Klaus-Dietmar Gabbert |
Samples Per Pixel | 3 |
Saturation | Normal |
Saturation Adjustment Aqua | 0 |
Saturation Adjustment Blue | 0 |
Saturation Adjustment Green | 0 |
Saturation Adjustment Magenta | 0 |
Saturation Adjustment Orange | 0 |
Saturation Adjustment Purple | 0 |
Saturation Adjustment Red | 0 |
Saturation Adjustment Yellow | 0 |
Scale Factor To 35 mm Equivalent | 1.0 |
Scene Capture Type | Standard |
Scene Type | Directly photographed |
Sensing Method | One-chip color area |
Shadow Tint | 0 |
Shadows | 5 |
Sharpen Detail | 25 |
Sharpen Edge Masking | 0 |
Sharpen Radius | +1.0 |
Sharpness | Hard |
Source | dpa |
Split Toning Balance | 0 |
Split Toning Highlight Hue | 0 |
Split Toning Highlight Saturation | 0 |
Split Toning Shadow Hue | 0 |
Split Toning Shadow Saturation | 0 |
State | Brandenburg |
Subject | Frosch, Kroete, Kröte, Erdkroete, Erdkröte, Bufo bufo Komplex, Bufo_ bufo_Komplex, Amphibien, Amphibienwanderung, Verkehr, Strassenverkehr, Fruehjahr, Frühjahr, Kroetenfalle, Krötenfalle |
Subject Distance | 1.33 m |
Subject Distance Range | Unknown |
Tint | -7 |
Tone Curve | 0, 0, 32, 22, 64, 56, 128, 128, 192, 196, 255, 255 |
Tone Curve Name | Medium Contrast |
Version | 5.7 |
Vibrance | 0 |
Vignette Amount | 0 |
White Balance | Auto |