Shooting information for this photo
Camera: | PENTAX K-5 |
Exposure: | 0.008 sec. (1/125) |
Aperture: | f/7.1 |
Focal Length: | 47.5 mm (35 mm equivalent: 72.0 mm) |
Flash: | Off, Did not fire |
Exposure mode: | Not Defined |
Resolution: | 300 x 300 dpi |
Original Date: | 2015:02:04 16:00:52 |
Created on: | 2015:02:04 16:00:52 |
Modified on: | 2015:02:26 22:20:14 |
Software: | Adobe Photoshop Lightroom 3.6 (Windows) |
Copyright: | Creative Commons: Attribution, Non Commercial, No Derivative Works |
Already Applied | True |
Approximate Focus Distance | 0.71 |
Artist | John Sheldon |
Blue Hue | 0 |
Blue Saturation | 0 |
Brightness | +37 |
Camera Profile | Cloudy Dull NAT setting |
Chromatic Aberration B | 0 |
Chromatic Aberration R | 0 |
Circle Of Confusion | 0.020 mm |
Clarity | 0 |
Color Noise Reduction | 25 |
Color Noise Reduction Detail | 50 |
Color Temperature | 5600 |
Contrast | Normal |
Convert To Grayscale | False |
Creator | John Sheldon |
Crop Angle | 0 |
Crop Bottom | 0.941293 |
Crop Constrain To Warp | 0 |
Crop Height | 3048 |
Crop Left | 0.066198 |
Crop Right | 0.995037 |
Crop Top | 0.007491 |
Crop Unit | pixels |
Crop Width | 4577 |
Custom Rendered | Normal |
Date Created | 2015:02:04 16:00:52 |
Defringe | 0 |
Exposure | +0.62 |
Exposure Compensation | +0.3 |
Exposure Mode | Auto bracket |
Field Of View | 28.1 deg |
Fill Light | 14 |
Focal Length In 35mm Format | 72 mm |
Format | image/jpeg |
Gradient Based Corr Active | true |
Gradient Based Corr Amount | 1.000000 |
Gradient Based Corr Brightness | 0.000000 |
Gradient Based Corr Clarity | 0.000000 |
Gradient Based Corr Contrast | 0.000000 |
Gradient Based Corr Exposure | 0.000000 |
Gradient Based Corr Hue | 50.000000 |
Gradient Based Corr Mask Full X | 0.067350 |
Gradient Based Corr Mask Full Y | 0.506562 |
Gradient Based Corr Mask Value | 1.000000 |
Gradient Based Corr Mask What | Mask/Gradient |
Gradient Based Corr Mask Zero X | 0.483369 |
Gradient Based Corr Mask Zero Y | 0.506562 |
Gradient Based Corr Saturation | 0.250000 |
Gradient Based Corr Sharpness | 0.000000 |
Gradient Based Corr What | Correction |
Grain Amount | 0 |
Green Hue | 0 |
Green Saturation | 0 |
Has Crop | True |
Has Settings | True |
Highlight Recovery | 0 |
Hue Adjustment Aqua | 0 |
Hue Adjustment Blue | 0 |
Hue Adjustment Green | 0 |
Hue Adjustment Magenta | 0 |
Hue Adjustment Orange | +2 |
Hue Adjustment Purple | 0 |
Hue Adjustment Red | +4 |
Hue Adjustment Yellow | 0 |
Hyperfocal Distance | 16.03 m |
ISO | 400 |
Image Size | 3048x4577 |
Lens | smc PENTAX-DA 18-55mm F3.5-5.6 AL WR |
Lens ID | smc PENTAX-DA 18-55mm F3.5-5.6 AL WR |
Lens Info | 18-55mm f/3.5-5.6 |
Lens Manual Distortion Amount | 0 |
Lens Model | smc PENTAX-DA 18-55mm F3.5-5.6 AL WR |
Lens Profile Enable | 0 |
Lens Profile Setup | LensDefaults |
Light Value | 10.6 |
Luminance Adjustment Aqua | 0 |
Luminance Adjustment Blue | 0 |
Luminance Adjustment Green | 0 |
Luminance Adjustment Magenta | 0 |
Luminance Adjustment Orange | 0 |
Luminance Adjustment Purple | 0 |
Luminance Adjustment Red | 0 |
Luminance Adjustment Yellow | 0 |
Luminance Smoothing | 0 |
Marked | True |
Metering Mode | Center-weighted average |
Paint Correction Active | true |
Paint Correction Amount | 1.000000 |
Paint Correction Brightness | 0.000000 |
Paint Correction Clarity | 0.000000 |
Paint Correction Contrast | -0.830510 |
Paint Correction Exposure | 0.000000 |
Paint Correction Hue | 50.000000 |
Paint Correction Mask Center Weight | 0.753799 |
Paint Correction Mask Flow | 0.348000 |
Paint Correction Mask Radius | 0.087327 |
Paint Correction Mask Value | 1.000000 |
Paint Correction Mask What | Mask/Paint |
Paint Correction Saturation | 0.000000 |
Paint Correction Sharpness | -0.796610 |
Paint Correction What | Correction |
Parametric Darks | 0 |
Parametric Highlight Split | 75 |
Parametric Highlights | 0 |
Parametric Lights | 0 |
Parametric Midtone Split | 50 |
Parametric Shadow Split | 25 |
Parametric Shadows | 0 |
Perspective Horizontal | 0 |
Perspective Rotate | 0.0 |
Perspective Scale | 100 |
Perspective Vertical | 0 |
Post Crop Vignette Amount | 0 |
Process Version | 5.7 |
Red Hue | 0 |
Red Saturation | 0 |
Rights | Creative Commons: Attribution, Non Commercial, No Derivative Works |
Saturation | Normal |
Saturation Adjustment Aqua | 0 |
Saturation Adjustment Blue | 0 |
Saturation Adjustment Green | 0 |
Saturation Adjustment Magenta | 0 |
Saturation Adjustment Orange | 0 |
Saturation Adjustment Purple | 0 |
Saturation Adjustment Red | 0 |
Saturation Adjustment Yellow | 0 |
Scale Factor To 35 mm Equivalent | 1.5 |
Scene Capture Type | Standard |
Sensing Method | One-chip color area |
Shadow Tint | 0 |
Shadows | 0 |
Sharpen Detail | 25 |
Sharpen Edge Masking | 0 |
Sharpen Radius | +1.0 |
Sharpness | Normal |
Split Toning Balance | 0 |
Split Toning Highlight Hue | 0 |
Split Toning Highlight Saturation | 0 |
Split Toning Shadow Hue | 0 |
Split Toning Shadow Saturation | 0 |
Subject Distance Range | Macro |
Tint | +3 |
Tone Curve | 0, 0, 32, 22, 64, 56, 128, 128, 192, 196, 255, 255 |
Tone Curve Name | Medium Contrast |
Version | 6.6 |
Vibrance | 0 |
Vignette Amount | 0 |
White Balance | Manual |