Shooting information for this photo
Camera: | NIKON CORPORATION NIKON D7100 |
Exposure: | 0.004 sec. (1/250) |
Aperture: | f/8.0 |
Focal Length: | 18.0 mm (35 mm equivalent: 18.0 mm) |
Flash: | Off, Did not fire |
Exposure mode: | Aperture-priority AE |
Max Aperture: | 3.6 |
Resolution: | 300 x 300 dpi |
Dimension: | 970 x 1920 pixels |
Original Date: | 2013:06:07 13:12:08.50 |
Created on: | 2013:06:07 13:12:08.50 |
Modified on: | 2013:07:15 08:50:23.50 |
Software: | DxO PhotoLab 4.2 |
Copyright: | (C) Jean-Pierre Roche, tous droits réservés |
AF Aperture | 3.7 |
AF Area Mode | Single Area |
AF Fine Tune | Off |
AF Fine Tune Adj | 0 |
AF Fine Tune Index | n/a |
AF Info 2 Version | 0100 |
AF Points Used | C6 |
Already Applied | True |
Approximate Focus Distance | 7.08 |
Artist | Jean-Pierre ROCHE |
Authors Position | journaliste _ photographe |
Auto Distortion Control | Off |
Auto Focus | On |
Auto Lateral CA | 1 |
Auto White Version | 134348800 |
Blacks 2012 | 0 |
Blue Balance | 1.871094 |
Blue Hue | 0 |
Blue Saturation | 0 |
Brightness | Normal |
CFA Pattern | [Red,Green][Green,Blue] |
Camera Profile | Adobe Standard |
Circle Of Confusion | 0.030 mm |
City | Saint-Benoît-sur-Loire |
Clarity 2012 | +40 |
Color Balance Unknown | 0218.LÇ%(.¶_zîh.ÝØþOËrD Ai¼:ã·¶à5µ`67cº<éÁÄ KÏ~X]èn[...] |
Color Noise Reduction | 15 |
Color Noise Reduction Detail | 50 |
Color Noise Reduction Smoothness | 50 |
Color Space | sRGB |
Color Temperature | 4727 |
Contrast | Normal |
Contrast 2012 | 0 |
Contrast Detect AF | Off |
Contrast Detect AF In Focus | No |
Convert To Grayscale | False |
Country | France |
Creator | Jean-Pierre Roche |
Crop Angle | 0 |
Crop Bottom | 0.886463 |
Crop Constrain To Warp | 0 |
Crop Hi Speed | Off (6036x4020 cropped to 6036x4020 at pixel 0,0) |
Crop Left | 0.120388 |
Crop Right | 1 |
Crop Top | 0.113537 |
Custom Rendered | Normal |
Date Created | 2013:06:07 13:12:08.50 |
Defringe Green Amount | 0 |
Defringe Green Hue Hi | 60 |
Defringe Green Hue Lo | 40 |
Defringe Purple Amount | 0 |
Defringe Purple Hue Hi | 70 |
Defringe Purple Hue Lo | 30 |
Dehaze | 0 |
Depth Of Field | inf (1.13 m - inf) |
Digital Zoom Ratio | 1 |
Effective Max Aperture | 3.7 |
Exit Pupil Position | 128.0 mm |
Exposure 2012 | +0.56 |
Exposure Bracket Value | 0 |
Exposure Compensation | -1 |
Exposure Difference | 0 |
Exposure Mode | Auto |
Exposure Tuning | 0 |
Field Of View | 89.9 deg (14.12 m) |
Filter Effect | n/a |
Firmware Version | 1.00 |
Flash Fired | False |
Flash Function | False |
Flash Mode | Did Not Fire |
Flash Red Eye Mode | False |
Flash Return | No return detection |
Focal Length In 35mm Format | 18 mm |
Focus Distance | 7.08 m |
Focus Mode | AF-S |
Focus Position | 0xff |
Format | image/x-nikon-nef |
Gain Control | High gain up |
Grain Amount | 0 |
Green Hue | 0 |
Green Saturation | 0 |
Has Crop | True |
Has Settings | True |
Headline | Abbaye de Saint-Benoît-sur-Loire |
Hierarchical Subject | Centre-Val de Loire, France, Saint-Benoît-sur-Loire |
High ISO Noise Reduction | Normal |
Highlights 2012 | -49 |
Hue Adjustment | None |
Hue Adjustment Aqua | 0 |
Hue Adjustment Blue | 0 |
Hue Adjustment Green | 0 |
Hue Adjustment Magenta | 0 |
Hue Adjustment Orange | 0 |
Hue Adjustment Purple | 0 |
Hue Adjustment Red | 0 |
Hue Adjustment Yellow | 0 |
Hyperfocal Distance | 1.35 m |
IFD0 Offset | 8 |
ISO | 1600 |
ISO2 | 1600 |
ISO Expansion | Off |
ISO Expansion 2 | Off |
ISO Setting | 1600 |
Image Number | 2573 |
Image Size | 970x1920 |
Label | Vert |
Lens | 18-300mm f/3.5-5.6 G VR |
Lens Data Version | 0204 |
Lens F Stops | 5.33 |
Lens ID | AF-S DX Nikkor 18-300mm 3.5-5.6G ED VR |
Lens ID Number | 173 |
Lens Info | 18-300mm f/3.5-5.6 |
Lens Manual Distortion Amount | 0 |
Lens Profile Chromatic Aberration Scale | 100 |
Lens Profile Distortion Scale | 100 |
Lens Profile Enable | 1 |
Lens Profile Filename | NIKON D200 (Nikon AF-S DX NIKKOR 18-300mm f3.5-5.6G ED VR) - RAW.lcp |
Lens Profile Name | Adobe (Nikon AF-S DX NIKKOR 18-300mm f/3.5-5.6G ED VR) |
Lens Profile Setup | LensDefaults |
Lens Profile Vignetting Scale | 100 |
Lens Type | G VR |
Light Source | Unknown |
Light Value | 10.0 |
Luminance Adjustment Aqua | 0 |
Luminance Adjustment Blue | 0 |
Luminance Adjustment Green | 0 |
Luminance Adjustment Magenta | 0 |
Luminance Adjustment Orange | 0 |
Luminance Adjustment Purple | 0 |
Luminance Adjustment Red | 0 |
Luminance Adjustment Yellow | 0 |
Luminance Noise Reduction Contrast | 0 |
Luminance Noise Reduction Detail | 50 |
Luminance Smoothing | 45 |
MCU Version | 175 |
Maker Note Version | 2.11 |
Max Aperture At Max Focal | 5.7 |
Max Aperture At Min Focal | 3.6 |
Max Focal Length | 302.0 mm |
Metering Mode | Multi-segment |
Min Focal Length | 18.3 mm |
Multi Exposure Auto Gain | Off |
Multi Exposure Mode | Off |
Multi Exposure Shots | 0 |
Multi Exposure Version | 0100 |
Parametric Darks | 0 |
Parametric Highlight Split | 75 |
Parametric Highlights | 0 |
Parametric Lights | 0 |
Parametric Midtone Split | 50 |
Parametric Shadow Split | 25 |
Parametric Shadows | 0 |
Perspective Aspect | -17 |
Perspective Horizontal | +68 |
Perspective Rotate | 0.0 |
Perspective Scale | 106 |
Perspective Upright | 0 |
Perspective Vertical | 0 |
Perspective X | 0.00 |
Perspective Y | 0.00 |
Phase Detect AF | On (51-point) |
Picture Control Adjust | Default Settings |
Picture Control Base | Standard |
Picture Control Name | Standard |
Picture Control Quick Adjust | Normal |
Picture Control Version | 0100 |
Post Crop Vignette Amount | 0 |
Preview IFD Offset | 5944 |
Primary AF Point | C6 (Center) |
Process Version | 6.7 |
Program Shift | 0 |
Quality | Fine |
Rating | 3 |
Rating Percent | 50 |
Raw File Name | _7SC2562.NEF |
Red Balance | 2.085938 |
Red Hue | 0 |
Red Saturation | 0 |
Rights | (C) Jean-Pierre Roche, tous droits réservés |
Saturation | Normal |
Saturation Adjustment Aqua | 0 |
Saturation Adjustment Blue | 0 |
Saturation Adjustment Green | 0 |
Saturation Adjustment Magenta | 0 |
Saturation Adjustment Orange | 0 |
Saturation Adjustment Purple | 0 |
Saturation Adjustment Red | 0 |
Saturation Adjustment Yellow | 0 |
Scale Factor To 35 mm Equivalent | 1.0 |
Scene Capture Type | Standard |
Scene Type | Directly photographed |
Sensing Method | One-chip color area |
Sensitivity Type | Recommended Exposure Index |
Shadow Tint | 0 |
Shadows 2012 | +33 |
Sharpen Detail | 70 |
Sharpen Edge Masking | 20 |
Sharpen Radius | +1.5 |
Sharpness | Normal |
Shooting Mode | Single-Frame |
Shot Info Version | 0227 |
Shutter Count | 2573 |
Sidecar For Extension | nef |
Split Toning Balance | 0 |
Split Toning Highlight Hue | 0 |
Split Toning Highlight Saturation | 0 |
Split Toning Shadow Hue | 0 |
Split Toning Shadow Saturation | 0 |
State | Centre-Val de Loire |
Subject | Centre-Val de Loire, France, Saint-Benoît-sur-Loire |
Subject Distance | 7.08 m |
Subject Distance Range | Unknown |
TIFF-EP Standard ID | 1 0 0 0 |
Tint | +17 |
Title | Abbaye de Saint-Benoît-sur-Loire |
Tone Curve | 0, 0, 32, 22, 64, 56, 128, 128, 192, 196, 255, 255 |
Tone Curve Blue | 0, 0, 255, 255 |
Tone Curve Green | 0, 0, 255, 255 |
Tone Curve Name | Medium Contrast |
Tone Curve Name 2012 | Linear |
Tone Curve PV2012 | 0, 0, 255, 255 |
Tone Curve PV2012 Blue | 0, 0, 255, 255 |
Tone Curve PV2012 Green | 0, 0, 255, 255 |
Tone Curve PV2012 Red | 0, 0, 255, 255 |
Tone Curve Red | 0, 0, 255, 255 |
Tone Map Strength | 0 |
Toning Effect | n/a |
Toning Saturation | n/a |
Urgency | 1 (most urgent) |
Usage Terms | Pour étude uniquement, reproduction interdite sans autorisation |
User Flag | 0 |
VR Info Version | 0100 |
Version | 9.12 |
Vibrance | +30 |
Vibration Reduction | On |
Vignette Amount | 0 |
WB RB Levels | 2.0859375 1.87109375 1 1 |
White Balance | Auto1 |
White Balance Fine Tune | 0 0 |
Whites 2012 | -41 |
GPS Information |
GPS Latitude | 47 deg 48' 34.65" N |
GPS Latitude Ref | North |
GPS Longitude | 2 deg 18' 21.13" E |
GPS Longitude Ref | East |
GPS Map Datum | WGS-84 |
GPS Position | 47 deg 48' 34.65" N, 2 deg 18' 21.13" E |
GPS Version ID | 2.3.0.0 |