Shooting information for this photo
Camera: | Canon EOS 6D |
Exposure: | 0.01667 sec. (1/60) |
Focal Length: | 50.0 mm (35 mm equivalent: 49.4 mm) |
Flash: | Off, Did not fire |
Exposure mode: | Aperture-priority AE |
Max Aperture: | 1.8 |
Resolution: | 72 x 72 dpi |
Dimension: | 2048 x 1415 pixels |
Original Date: | 2015:12:31 07:29:00 |
Created on: | 2015:12:31 07:29:00.00 |
Modified on: | 2022:11:02 21:31:08 |
Software: | DxO PhotoLab 5.5 |
Copyright: | www.krehl-herz.de |
AEB Auto Cancel | On |
AEB Sequence | 0,-,+ |
AEB Shot Count | 7; 0 |
AF Area Mode | Off (Manual Focus) |
AF Assist Beam | Emits |
AF Image Height | 3648 |
AF Image Width | 5472 |
AF Micro Adj Mode | Disable |
AF Micro Adj Value | 0 |
AF Microadjustment | Disable; 255; 0; 0; 255; 0; 255; 255; 255; 255; 255; 255; 255; 255; 255; 255 |
AF Points In Focus | (none) |
AF Points Selected | 5 |
AI Servo First Image Priority | Equal priority |
AI Servo Second Image Priority | Equal priority |
AI Servo Tracking Sensitivity | Standard |
Acceleration Tracking | 0 |
Already Applied | True |
Ambience Selection | Standard |
Artist | Ingo Krehl |
Aspect Ratio | 3:2 |
Auto Lateral CA | 0 |
Auto Lighting Optimizer | Off |
Blacks 2012 | -3 |
Blue Hue | 0 |
Blue Saturation | 0 |
Camera ISO | Auto |
Camera Profile | Adobe Standard |
Camera Temperature | 11 C |
Camera Type | EOS High-end |
Canon Exposure Mode | Aperture-priority AE |
Canon Firmware Version | Firmware Version 1.1.6 |
Canon Flash Mode | Off |
Canon Image Size | Large |
Canon Model ID | 6D |
Chromatic Aberration Corr | Off |
Chromatic Aberration Setting | Off |
Circle Of Confusion | 0.030 mm |
Clarity 2012 | +15 |
Color Data Version | Unknown (10) |
Color Grade Blending | 50 |
Color Grade Global Hue | 0 |
Color Grade Global Lum | 0 |
Color Grade Global Sat | 0 |
Color Grade Highlight Lum | 0 |
Color Grade Midtone Hue | 0 |
Color Grade Midtone Lum | 0 |
Color Grade Midtone Sat | 0 |
Color Grade Shadow Lum | 0 |
Color Mode | RGB |
Color Noise Reduction | 25 |
Color Noise Reduction Detail | 50 |
Color Noise Reduction Smoothness | 50 |
Color Space | sRGB |
Color Tone | Normal |
Continuous Drive | Single |
Contrast | Normal |
Contrast 2012 | -14 |
Convert To Grayscale | False |
Creator | Ingo Krehl |
Crop Angle | -2.347457 |
Crop Bottom | 0.942071 |
Crop Bottom Margin | 0 |
Crop Constrain To Warp | 1 |
Crop Left | 0.016091 |
Crop Left Margin | 0 |
Crop Right | 0.983909 |
Crop Right Margin | 0 |
Crop Top | 0.057929 |
Crop Top Margin | 0 |
Cropped Image Height | 3648 |
Cropped Image Left | 0 |
Cropped Image Top | 0 |
Cropped Image Width | 5472 |
Custom Controls | 0 0 0 5 0 0 0 9 0 0 0 0 0 0 0 0 0 1 0 |
Custom Rendered | Normal |
Date Created | 2015:12:31 07:29 |
Defringe Green Amount | 0 |
Defringe Green Hue Hi | 60 |
Defringe Green Hue Lo | 40 |
Defringe Purple Amount | 0 |
Defringe Purple Hue Hi | 70 |
Defringe Purple Hue Lo | 30 |
Dehaze | 0 |
Dial Direction Tv Av | Normal |
Digital Zoom | None |
Drive Mode | Single-frame Shooting |
Easy Mode | Manual |
Exposure 2012 | 0.00 |
Exposure Level Increments | 1/3 Stop |
Exposure Mode | Auto |
Field Of View | 40.1 deg |
Firmware | 1.1.6 |
Flash Activity | 0 |
Flash Bits | (none) |
Flash Compensation | 0 |
Flash Fired | False |
Flash Function | False |
Flash Mode | Off |
Flash Red Eye Mode | False |
Flash Return | No return detection |
Focal Units | 1/mm |
Focus Mode | Manual Focus (3) |
Focus Range | Not Known |
Focusing Screen | Eg-A II |
Format | image/x-canon-cr2 |
Grain Amount | 0 |
Green Hue | 0 |
Green Saturation | 0 |
Has Crop | True |
Has Settings | True |
Hierarchical Subject | 1 Art|Nacht, 2 Was|Wasser|Spree, Objektive|Pentacon_50mm_1.8, Orte|Berlin|Bln-Mitte |
Highlights 2012 | -10 |
Hue Adjustment Aqua | 0 |
Hue Adjustment Blue | 0 |
Hue Adjustment Green | 0 |
Hue Adjustment Magenta | 0 |
Hue Adjustment Orange | 0 |
Hue Adjustment Purple | 0 |
Hue Adjustment Red | 0 |
Hue Adjustment Yellow | 0 |
Hyperfocal Distance | inf m |
ISO | 5000 |
ISO Speed Increments | 1/3 Stop |
Image Number | 0 |
Image Size | 2048x1415 |
Lens | 0.0 mm (35 mm equivalent: 0.0 mm) |
Lens Drive No AF | Focus search on |
Lens Info | 0mm f/0 |
Lens Manual Distortion Amount | 0 |
Lens Model | Pentacon (Oreston) MC 50 mm 1.8 |
Lens Profile Enable | 0 |
Luminance Adjustment Aqua | 0 |
Luminance Adjustment Blue | 0 |
Luminance Adjustment Green | 0 |
Luminance Adjustment Magenta | 0 |
Luminance Adjustment Orange | 0 |
Luminance Adjustment Purple | 0 |
Luminance Adjustment Red | 0 |
Luminance Adjustment Yellow | 0 |
Luminance Smoothing | 0 |
Macro Mode | Normal |
Manual Flash Output | n/a |
Max Focal Length | 0 mm |
Measured RGGB | 1000 1024 1024 1017 |
Metering Mode | Evaluative |
Min Focal Length | 0 mm |
Multi Function Lock | Off; Quick control dial, Multi-controller |
Num AF Points | 11 |
Optical Zoom Code | n/a |
Orientation Linked AF Point | Same for verical and horizontal |
Original Image Height | 3648 |
Original Image Width | 5472 |
Override Look Vignette | False |
Parametric Darks | 0 |
Parametric Highlight Split | 75 |
Parametric Highlights | 0 |
Parametric Lights | 0 |
Parametric Midtone Split | 50 |
Parametric Shadow Split | 25 |
Parametric Shadows | 0 |
Peripheral Lighting | Off |
Peripheral Lighting Setting | Off |
Peripheral Lighting Value | 0 |
Perspective Aspect | 0 |
Perspective Horizontal | 0 |
Perspective Rotate | 0.0 |
Perspective Scale | 100 |
Perspective Upright | 0 |
Perspective Vertical | 0 |
Perspective X | 0.00 |
Perspective Y | 0.00 |
Photometric Interpretation | RGB |
Post Crop Vignette Amount | 0 |
Process Version | 6.7 |
Quality | Fine |
Rating | 3 |
Recommended Exposure Index | 5000 |
Record Mode | CR2 |
Red Hue | 0 |
Red Saturation | 0 |
Rights | www.krehl-herz.de |
SRAW Quality | n/a |
Safety Shift | Disable |
Samples Per Pixel | 3 |
Saturation | Normal |
Saturation Adjustment Aqua | 0 |
Saturation Adjustment Blue | 0 |
Saturation Adjustment Green | 0 |
Saturation Adjustment Magenta | 0 |
Saturation Adjustment Orange | 0 |
Saturation Adjustment Purple | 0 |
Saturation Adjustment Red | 0 |
Saturation Adjustment Yellow | 0 |
Scale Factor To 35 mm Equivalent | 1.0 |
Scene Capture Type | Standard |
Self Timer | Off |
Sensitivity Type | Recommended Exposure Index |
Shadow Tint | 0 |
Shadows 2012 | +10 |
Sharpen Detail | 25 |
Sharpen Edge Masking | 0 |
Sharpen Radius | +1.0 |
Sharpness | 25 |
Shooting Mode | Aperture-priority AE |
Sidecar For Extension | CR2 |
Split Toning Balance | 0 |
Split Toning Highlight Hue | 0 |
Split Toning Highlight Saturation | 0 |
Split Toning Shadow Hue | 0 |
Split Toning Shadow Saturation | 0 |
Subject | Bln-Mitte, Nacht, Pentacon_50mm_1.8, Spree |
Superimposed Display | On |
Texture | 0 |
Tone Curve Name 2012 | Linear |
Tone Curve PV2012 | 0, 0, 255, 255 |
Tone Curve PV2012 Blue | 0, 0, 255, 255 |
Tone Curve PV2012 Green | 0, 0, 255, 255 |
Tone Curve PV2012 Red | 0, 0, 255, 255 |
VRD Offset | 0 |
Valid AF Points | 11 |
Version | 13.3 |
Vibrance | 0 |
Viewfinder Warnings | Monochrome, WB corrected, Spot metering |
Vignette Amount | +40 |
Vignette Midpoint | 50 |
Whites 2012 | +4 |
Zoom Source Width | 0 |
Zoom Target Width | 0 |
GPS Information |
GPS Version ID | 2.3.0.0 |