Shooting information for this photo
Camera: | Canon EOS 500D |
Exposure: | 0.05 sec. (1/20) |
Aperture: | f/5.6 |
Focal Length: | 24.0 mm (35 mm equivalent: 38.1 mm) |
Flash: | Off, Did not fire |
Exposure mode: | Aperture-priority AE |
Max Aperture: | 5.7 |
Resolution: | 72 x 72 dpi |
Dimension: | 2048 x 1808 pixels |
Original Date: | 2016:11:26 14:23:23.21 |
Created on: | 2016:11:26 14:23:23.21 |
Software: | DxO OpticsPro 10.5.4 build 174 |
Copyright: | Copyright: www.krehl-herz.de |
AF Area Mode | Single-point AF |
AF Assist Beam | Emits |
AF Image Height | 2848 |
AF Image Width | 4272 |
AF Points In Focus | 4 |
AF Points Selected | 8 |
Add Original Decision Data | Off |
Already Applied | True |
Approximate Focus Distance | 0.67 |
Artist | Photographer: Ingo Krehl |
Auto Lateral CA | 0 |
Auto Lighting Optimizer | Standard |
Blacks 2012 | -3 |
Blue Balance | 1.393555 |
Blue Hue | 0 |
Blue Saturation | 0 |
Camera ISO | Auto |
Camera Orientation | Horizontal (normal) |
Camera Profile | Adobe Standard |
Camera Temperature | 15 C |
Camera Type | EOS High-end |
Canon Exposure Mode | Aperture-priority AE |
Canon Firmware Version | Firmware Version 1.1.0 |
Canon Flash Mode | Off |
Canon Image Size | Large |
Canon Model ID | EOS Rebel T1i / 500D / Kiss X3 |
Chromatic Aberration Corr | Off |
Circle Of Confusion | 0.019 mm |
Clarity 2012 | +37 |
Color Data Version | 7 (500D/550D/7D/1DmkIV) |
Color Mode | RGB |
Color Noise Reduction | 25 |
Color Noise Reduction Detail | 50 |
Color Space | sRGB |
Color Temp As Shot | 5187 |
Color Temp Auto | 5187 |
Color Temp Cloudy | 6000 |
Color Temp Daylight | 5200 |
Color Temp Flash | 6224 |
Color Temp Fluorescent | 3822 |
Color Temp Kelvin | 5200 |
Color Temp Measured | 5187 |
Color Temp Shade | 7000 |
Color Temp Tungsten | 3200 |
Color Temperature | 5200 |
Color Tone | Normal |
Color Tone Faithful | 0 |
Color Tone Landscape | 0 |
Color Tone Neutral | 0 |
Color Tone Portrait | 0 |
Color Tone Standard | 0 |
Color Tone User Def 1 | 0 |
Color Tone User Def 2 | 0 |
Color Tone User Def 3 | 0 |
Continuous Drive | Single |
Contrast | Normal |
Contrast 2012 | -25 |
Contrast Faithful | 0 |
Contrast Landscape | 0 |
Contrast Monochrome | 0 |
Contrast Neutral | 0 |
Contrast Portrait | 0 |
Contrast Standard | 0 |
Contrast User Def 1 | 0 |
Contrast User Def 2 | 0 |
Contrast User Def 3 | 0 |
Convert To Grayscale | False |
Creator | Photographer: Ingo Krehl |
Crop Angle | 0.815543 |
Crop Bottom | 0.927347 |
Crop Bottom Margin | 0 |
Crop Constrain To Warp | 1 |
Crop Left | 0.23358 |
Crop Left Margin | 0 |
Crop Right | 0.668407 |
Crop Right Margin | 0 |
Crop Top | 0.46757 |
Crop Top Margin | 0 |
Custom Rendered | Normal |
Date Created | 2016:11:26 14:23:23.21 |
Defringe Green Amount | 0 |
Defringe Green Hue Hi | 60 |
Defringe Green Hue Lo | 40 |
Defringe Purple Amount | 0 |
Defringe Purple Hue Hi | 70 |
Defringe Purple Hue Lo | 30 |
Depth Of Field | 0.18 m (0.63 - 0.81) |
Digital Zoom | None |
Drive Mode | Single-frame Shooting |
Easy Mode | Manual |
Exposure 2012 | -0.15 |
Exposure Level Increments | 1/2 Stop |
Exposure Mode | Auto |
Field Of View | 50.6 deg |
File Number | 103-0249 |
Filter Effect Monochrome | None |
Filter Effect User Def 1 | n/a |
Filter Effect User Def 2 | None |
Filter Effect User Def 3 | None |
Firmware | 1.1.0 |
Firmware Version | 1.1.0 |
Flash Activity | 0 |
Flash Bits | (none) |
Flash Compensation | 0 |
Flash Fired | False |
Flash Function | False |
Flash Metering Mode | Off |
Flash Mode | Off |
Flash Red Eye Mode | False |
Flash Return | No return detection |
Flash Sync Speed Av | 1/200-1/60 Auto |
Focal Units | 1/mm |
Focus Distance Lower | 0.65 m |
Focus Distance Upper | 0.71 m |
Focus Mode | One-shot AF |
Focus Range | Not Known |
Format | image/x-canon-cr2 |
Grain Amount | 0 |
Green Hue | 0 |
Green Saturation | 0 |
Has Crop | True |
Has Settings | True |
High ISO Noise Reduction | Off |
Highlight Tone Priority | Disable |
Highlights 2012 | -34 |
Hue Adjustment Aqua | 0 |
Hue Adjustment Blue | 0 |
Hue Adjustment Green | 0 |
Hue Adjustment Magenta | 0 |
Hue Adjustment Orange | 0 |
Hue Adjustment Purple | 0 |
Hue Adjustment Red | 0 |
Hue Adjustment Yellow | 0 |
Hyperfocal Distance | 5.44 m |
ISO | 400 |
ISO Expansion | Off |
Image Number | 0 |
Image Size | 2048x1808 |
LCD Display At Power On | Display |
Lens | 12.0 - 24.0 mm (35 mm equivalent: 19.1 - 38.1 mm) |
Lens ID | Sigma 8-16mm f/4.5-5.6 DC HSM + 1.4x |
Lens Info | 12-24mm f/? |
Lens Manual Distortion Amount | 0 |
Lens Model | 12-24mm |
Lens Profile Enable | 0 |
Lens Profile Setup | LensDefaults |
Lens Type | Canon EF 85mm f/1.2L or Sigma or Tamron Lens |
Light Value | 7.3 |
Long Exposure Noise Reduction | Off |
Luminance Adjustment Aqua | 0 |
Luminance Adjustment Blue | 0 |
Luminance Adjustment Green | 0 |
Luminance Adjustment Magenta | 0 |
Luminance Adjustment Orange | 0 |
Luminance Adjustment Purple | 0 |
Luminance Adjustment Red | 0 |
Luminance Adjustment Yellow | 0 |
Luminance Smoothing | 0 |
Macro Mode | Normal |
Manual Flash Output | n/a |
Max Aperture | 5.7 |
Max Focal Length | 24 mm |
Measured RGGB | 696 1024 1024 610 |
Metering Mode | Center-weighted average |
Min Aperture | 27 |
Min Focal Length | 12 mm |
Mirror Lockup | Disable |
Num AF Points | 9 |
Optical Zoom Code | n/a |
Original Decision Data Offset | 0 |
Original Image Height | 3168 |
Original Image Width | 4752 |
Owner Name | Ingo Krehl |
Parametric Darks | 0 |
Parametric Highlight Split | 75 |
Parametric Highlights | 0 |
Parametric Lights | 0 |
Parametric Midtone Split | 50 |
Parametric Shadow Split | 25 |
Parametric Shadows | 0 |
Peripheral Lighting | Off |
Peripheral Lighting Setting | Off |
Peripheral Lighting Value | 0 |
Perspective Aspect | 0 |
Perspective Horizontal | 0 |
Perspective Rotate | 0.0 |
Perspective Scale | 100 |
Perspective Upright | 0 |
Perspective Vertical | 0 |
Photometric Interpretation | RGB |
Picture Style | Faithful |
Post Crop Vignette Amount | 0 |
Process Version | 6.7 |
Quality | Fine |
Rating | 5 |
Rating Percent | 99 |
Raw File Name | IMG_0249.CR2 |
Raw Measured RGGB | 57927 86813 87604 52044 |
Record Mode | CR2 |
Red Balance | 2.032227 |
Red Hue | 0 |
Red Saturation | 0 |
Rights | Copyright: www.krehl-herz.de |
SRAW Quality | n/a |
Samples Per Pixel | 3 |
Saturation | Normal |
Saturation Adjustment Aqua | 0 |
Saturation Adjustment Blue | 0 |
Saturation Adjustment Green | 0 |
Saturation Adjustment Magenta | 0 |
Saturation Adjustment Orange | 0 |
Saturation Adjustment Purple | 0 |
Saturation Adjustment Red | 0 |
Saturation Adjustment Yellow | 0 |
Saturation Faithful | 0 |
Saturation Landscape | 0 |
Saturation Neutral | 0 |
Saturation Portrait | 0 |
Saturation Standard | 0 |
Saturation User Def 1 | 0 |
Saturation User Def 2 | 0 |
Saturation User Def 3 | 0 |
Scale Factor To 35 mm Equivalent | 1.6 |
Scene Capture Type | Standard |
Self Timer | Off |
Set Button When Shooting | Quick control screen |
Shadow Tint | 0 |
Shadows 2012 | +34 |
Sharpen Detail | 25 |
Sharpen Edge Masking | 0 |
Sharpen Radius | +1.0 |
Sharpness | 25 |
Sharpness Faithful | 0 |
Sharpness Landscape | 4 |
Sharpness Monochrome | 3 |
Sharpness Neutral | 0 |
Sharpness Portrait | 2 |
Sharpness Standard | 3 |
Sharpness User Def 1 | 3 |
Sharpness User Def 2 | 3 |
Sharpness User Def 3 | 3 |
Shooting Mode | Aperture-priority AE |
Shutter-AE Lock | AF/AE lock |
Sidecar For Extension | CR2 |
Split Toning Balance | 0 |
Split Toning Highlight Hue | 0 |
Split Toning Highlight Saturation | 0 |
Split Toning Shadow Hue | 0 |
Split Toning Shadow Saturation | 0 |
Subject Distance | 0.71 m |
Tone Curve Name 2012 | Linear |
Tone Curve PV2012 | 0, 0, 255, 255 |
Tone Curve PV2012 Blue | 0, 0, 255, 255 |
Tone Curve PV2012 Green | 0, 0, 255, 255 |
Tone Curve PV2012 Red | 0, 0, 255, 255 |
Toning Effect Monochrome | None |
Toning Effect User Def 1 | n/a |
Toning Effect User Def 2 | None |
Toning Effect User Def 3 | None |
User Def 1 Picture Style | Standard |
User Def 2 Picture Style | Standard |
User Def 3 Picture Style | Standard |
VRD Offset | 0 |
Valid AF Points | 9 |
Version | 8.0 |
Vibrance | 0 |
Vignette Amount | 0 |
WB RGGB Levels | 2081 1024 1024 1427 |
WB RGGB Levels As Shot | 2081 1024 1024 1427 |
WB RGGB Levels Auto | 2081 1024 1024 1427 |
WB RGGB Levels Cloudy | 2260 1024 1024 1329 |
WB RGGB Levels Daylight | 2118 1024 1024 1442 |
WB RGGB Levels Flash | 2315 1024 1024 1319 |
WB RGGB Levels Fluorescent | 1876 1024 1024 1853 |
WB RGGB Levels Kelvin | 2118 1024 1024 1442 |
WB RGGB Levels Measured | 2078 1026 1021 1425 |
WB RGGB Levels Shade | 2399 1024 1024 1241 |
WB RGGB Levels Tungsten | 1644 1082 1082 2117 |
Whites 2012 | +34 |
Zoom Source Width | 0 |
Zoom Target Width | 0 |
GPS Information |
GPS Version ID | 2.2.0.0 |