Shooting information for this photo
Camera: | NIKON CORPORATION NIKON Z 5 |
Exposure: | 0.0025 sec. (1/400) |
Aperture: | f/7.1 |
Focal Length: | 60.0 mm (35 mm equivalent: 60.0 mm) |
Flash: | No Flash |
Exposure mode: | Aperture-priority AE |
Resolution: | 300 x 300 dpi |
Dimension: | 6016 x 3384 pixels |
Original Date: | 2021:10:11 14:12:05.37 |
Digitized Date: | 2021:10:11 14:12:05+02:00 |
Created on: | 2021:10:11 14:12:05.37 |
Modified on: | 2021:10:11 14:12:05 |
Software: | Adobe Photoshop Elements 18.0 (Windows) |
Copyright: | Gilles PRETET |
Already Applied | True |
Artist | Gilles PRETET |
Authors Position | Mr |
Auto Lateral CA | 0 |
Blacks 2012 | +32 |
Blue Hue | 0 |
Blue Saturation | 0 |
CFA Pattern | [Red,Green][Green,Blue] |
Camera Profile | Camera Standard |
Camera Profiles Aperture Value | 5.655638 |
Camera Profiles Author | Adobe |
Camera Profiles Auto Scale | False |
Camera Profiles Camera Pretty Name | Nikon Z 5 |
Camera Profiles Camera Raw Profile | True |
Camera Profiles Focal Length | 60 |
Camera Profiles Focus Distance | 10000 |
Camera Profiles Lens | 60mm f/2.8G |
Camera Profiles Lens Pretty Name | 60mm f/2.8G |
Camera Profiles Make | NIKON CORPORATION |
Camera Profiles Model | NIKON Z 5 |
Camera Profiles Perspective Model Radial Distort Param 1 | -0.07307 |
Camera Profiles Perspective Model Radial Distort Param 2 | 0.455931 |
Camera Profiles Perspective Model Radial Distort Param 3 | 0.015036 |
Camera Profiles Perspective Model Scale Factor | 0.996762 |
Camera Profiles Perspective Model Version | 2 |
Camera Profiles Perspective Model Vignette Model Vignette Model Param 1 | 1 |
Camera Profiles Profile Name | Camera Settings |
Camera Profiles Sensor Format Factor | 1.056046 |
Camera Profiles Unique Camera Model | Nikon Z 5 |
Caption Writer | Gilles PRETET |
Circle Of Confusion | 0.030 mm |
City | Fréjus |
Clarity 2012 | +25 |
Color Mode | RGB |
Color Noise Reduction | 50 |
Color Noise Reduction Detail | 50 |
Color Noise Reduction Smoothness | 50 |
Color Space | sRGB |
Color Temperature | 4550 |
Contrast | Normal |
Contrast 2012 | 0 |
Convert To Grayscale | False |
Country | France |
Country Code | FRA |
Creator | Gilles PRETET |
Credit | Gilles PRETET |
Custom Rendered | Custom |
Date Created | 20211011 |
Defringe Green Amount | 0 |
Defringe Green Hue Hi | 60 |
Defringe Green Hue Lo | 40 |
Defringe Purple Amount | 0 |
Defringe Purple Hue Hi | 70 |
Defringe Purple Hue Lo | 30 |
Dehaze | 0 |
Exposure 2012 | 0.00 |
Exposure Compensation | 0 |
Exposure Mode | Auto |
Field Of View | 33.4 deg |
Focal Length In 35mm Format | 60 mm |
Format | image/jpeg |
Gain Control | Low gain up |
Grain Amount | 0 |
Green Hue | 0 |
Green Saturation | 0 |
Has Crop | False |
Has Settings | True |
Headline | HUNAWIHR: Jardin des papillons 14 |
Highlights 2012 | 0 |
Hue Adjustment Aqua | 0 |
Hue Adjustment Blue | 0 |
Hue Adjustment Green | 0 |
Hue Adjustment Magenta | 0 |
Hue Adjustment Orange | 0 |
Hue Adjustment Purple | 0 |
Hue Adjustment Red | 0 |
Hue Adjustment Yellow | 0 |
Hyperfocal Distance | 16.88 m |
ICC Profile Name | sRGB IEC61966-2.1 |
ISO | 800 |
Image Number | 2019 |
Image Size | 6016x3384 |
Lateral Chromatic Aberration Correction Already Applied | True |
Lens | 60mm f/2.8G |
Lens Info | 60mm f/2.8 |
Lens Manual Distortion Amount | 0 |
Lens Model | 60mm f/2.8G |
Lens Profile Enable | 0 |
Lens Profile Setup | LensDefaults |
Light Source | Unknown |
Light Value | 11.3 |
Location | Fréjus-Plage |
Luminance Adjustment Aqua | 0 |
Luminance Adjustment Blue | 0 |
Luminance Adjustment Green | 0 |
Luminance Adjustment Magenta | 0 |
Luminance Adjustment Orange | 0 |
Luminance Adjustment Purple | 0 |
Luminance Adjustment Red | 0 |
Luminance Adjustment Yellow | 0 |
Luminance Noise Reduction Contrast | 100 |
Luminance Noise Reduction Detail | 51 |
Luminance Smoothing | 50 |
Metering Mode | Center-weighted average |
Override Look Vignette | False |
Parametric Darks | 0 |
Parametric Highlight Split | 75 |
Parametric Highlights | 0 |
Parametric Lights | 0 |
Parametric Midtone Split | 50 |
Parametric Shadow Split | 25 |
Parametric Shadows | 0 |
Perspective Aspect | 0 |
Perspective Horizontal | 0 |
Perspective Rotate | 0.0 |
Perspective Scale | 100 |
Perspective Upright | 0 |
Perspective Vertical | 0 |
Perspective X | 0.00 |
Perspective Y | 0.00 |
Post Crop Vignette Amount | 0 |
Process Version | 11.0 |
Recommended Exposure Index | 800 |
Red Hue | 0 |
Red Saturation | 0 |
Rights | Gilles PRETET |
Saturation | Normal |
Saturation Adjustment Aqua | 0 |
Saturation Adjustment Blue | 0 |
Saturation Adjustment Green | 0 |
Saturation Adjustment Magenta | 0 |
Saturation Adjustment Orange | 0 |
Saturation Adjustment Purple | 0 |
Saturation Adjustment Red | 0 |
Saturation Adjustment Yellow | 0 |
Scale Factor To 35 mm Equivalent | 1.0 |
Scene Capture Type | Standard |
Scene Type | Directly photographed |
Sensing Method | One-chip color area |
Sensitivity Type | Recommended Exposure Index |
Shadow Tint | 0 |
Shadows 2012 | +61 |
Sharpen Detail | 48 |
Sharpen Edge Masking | 49 |
Sharpen Radius | +1.7 |
Sharpness | Normal |
Split Toning Balance | 0 |
Split Toning Highlight Hue | 0 |
Split Toning Highlight Saturation | 0 |
Split Toning Shadow Hue | 0 |
Split Toning Shadow Saturation | 0 |
State | Provence-Alpes-Côte d'Azur |
Subject | FRA, France, geo:lat=48.18103847, geo:lon=7.32096096, geotagged, Grand Est, Hunawihr, fr, europe, eu, papillon, lépidoptère, NIKON, Z5 |
Subject Distance Range | Unknown |
Texture | 0 |
Time Zone Offset | 2 |
Tint | 0 |
Tone Curve | 0, 0, 32, 22, 64, 56, 128, 128, 192, 196, 255, 255 |
Tone Curve Blue | 0, 0, 255, 255 |
Tone Curve Green | 0, 0, 255, 255 |
Tone Curve Name | Medium Contrast |
Tone Curve Name 2012 | Linear |
Tone Curve PV2012 | 0, 0, 255, 255 |
Tone Curve PV2012 Blue | 0, 0, 255, 255 |
Tone Curve PV2012 Green | 0, 0, 255, 255 |
Tone Curve PV2012 Red | 0, 0, 255, 255 |
Tone Curve Red | 0, 0, 255, 255 |
Tone Map Strength | 0 |
User Comment | IMAGE:Gilles PRETET |
Version | 12.0 |
Vibrance | 0 |
Vignette Amount | 0 |
White Balance | Auto |
Whites 2012 | 0 |
GPS Information |
GPS Altitude | 233 m Above Sea Level |
GPS Altitude Ref | Above Sea Level |
GPS Date Stamp | 2021:10:11 |
GPS Date/Time | 2021:10:11 12:12:05Z |
GPS Latitude | 48 deg 10' 51.74" N |
GPS Latitude Ref | North |
GPS Longitude | 7 deg 19' 15.46" E |
GPS Longitude Ref | East |
GPS Map Datum | WGS-84 |
GPS Position | 48 deg 10' 51.74" N, 7 deg 19' 15.46" E |
GPS Time Stamp | 12:12:05 |
GPS Version ID | 2.2.0.0 |