Shooting information for this photo
Camera: | NIKON CORPORATION NIKON D7500 |
Exposure: | 0.04 sec. (1/25) |
Aperture: | f/5.6 |
Focal Length: | 10.0 mm (35 mm equivalent: 15.0 mm) |
Flash: | Off, Did not fire |
Exposure mode: | Aperture-priority AE |
Max Aperture: | 4.0 |
Resolution: | 240 x 240 dpi |
Dimension: | 5568 x 3712 pixels |
Original Date: | 2018:04:25 16:21:53.28 |
Digitized Date: | 2018:04:25 16:21:53+02:00 |
Created on: | 2018:04:25 16:21:53.28 |
Software: | Adobe Photoshop Elements 11.0 Windows |
Copyright: | Gilles PRETET |
Already Applied | True |
Approximate Focus Distance | 0.89 |
Artist | Gilles PRETET |
Authors Position | GIPE25 |
Auto Lateral CA | 0 |
Blacks 2012 | +44 |
Blue Hue | 0 |
Blue Saturation | 0 |
CFA Pattern | [Red,Green][Green,Blue] |
Camera Profile | Embedded |
Caption Writer | Gilles PRETET |
Circle Of Confusion | 0.020 mm |
City | Nancray |
Clarity 2012 | +20 |
Color Mode | RGB |
Color Noise Reduction | 39 |
Color Noise Reduction Detail | 50 |
Color Space | sRGB |
Color Temperature | 4850 |
Contrast | Normal |
Contrast 2012 | 0 |
Convert To Grayscale | False |
Country | France |
Country Code | FRA |
Creator | GIPE25 |
Credit | GIPE25 |
Custom Rendered | Normal |
Date Created | 20180425 |
Defringe Green Amount | 0 |
Defringe Green Hue Hi | 60 |
Defringe Green Hue Lo | 40 |
Defringe Purple Amount | 0 |
Defringe Purple Hue Hi | 70 |
Defringe Purple Hue Lo | 30 |
Depth Of Field | 68.65 m (0.45 - 69.10) |
Exposure 2012 | 0.00 |
Exposure Compensation | 0 |
Exposure Mode | Auto |
Field Of View | 100.4 deg |
Focal Length In 35mm Format | 15 mm |
Format | image/jpeg |
Gain Control | Low gain up |
Grain Amount | 0 |
Green Hue | 0 |
Green Saturation | 0 |
Has Crop | False |
Has Settings | True |
Headline | NANCRAY: Musée des maisons Contoise. 27 |
Highlights 2012 | +18 |
Hue Adjustment Aqua | 0 |
Hue Adjustment Blue | 0 |
Hue Adjustment Green | 0 |
Hue Adjustment Magenta | 0 |
Hue Adjustment Orange | 0 |
Hue Adjustment Purple | 0 |
Hue Adjustment Red | 0 |
Hue Adjustment Yellow | 0 |
Hyperfocal Distance | 0.89 m |
ICC Profile Name | sRGB IEC61966-2.1 |
ISO | 800 |
Image Number | 1949 |
Image Size | 5568x3712 |
Lens | 10.0-20.0 mm f/4.0-5.6 |
Lens Info | 10-20mm f/4-5.6 |
Lens Manual Distortion Amount | 0 |
Lens Model | 10.0-20.0 mm f/4.0-5.6 |
Lens Profile Enable | 0 |
Lens Profile Setup | LensDefaults |
Light Source | Unknown |
Light Value | 6.6 |
Location | Doubs |
Luminance Adjustment Aqua | 0 |
Luminance Adjustment Blue | 0 |
Luminance Adjustment Green | 0 |
Luminance Adjustment Magenta | 0 |
Luminance Adjustment Orange | 0 |
Luminance Adjustment Purple | 0 |
Luminance Adjustment Red | 0 |
Luminance Adjustment Yellow | 0 |
Luminance Noise Reduction Contrast | 39 |
Luminance Noise Reduction Detail | 50 |
Luminance Smoothing | 41 |
Maker Note Safety | Safe |
Metering Mode | Center-weighted average |
Parametric Darks | 0 |
Parametric Highlight Split | 75 |
Parametric Highlights | 0 |
Parametric Lights | 0 |
Parametric Midtone Split | 50 |
Parametric Shadow Split | 25 |
Parametric Shadows | 0 |
Perspective Horizontal | 0 |
Perspective Rotate | 0.0 |
Perspective Scale | 100 |
Perspective Vertical | 0 |
Post Crop Vignette Amount | 0 |
Process Version | 6.7 |
Raw File Name | GPR_1522_DxO.dng |
Recommended Exposure Index | 800 |
Red Hue | 0 |
Red Saturation | 0 |
Rights | GIPE25 |
Saturation | Normal |
Saturation Adjustment Aqua | 0 |
Saturation Adjustment Blue | 0 |
Saturation Adjustment Green | 0 |
Saturation Adjustment Magenta | 0 |
Saturation Adjustment Orange | 0 |
Saturation Adjustment Purple | 0 |
Saturation Adjustment Red | 0 |
Saturation Adjustment Yellow | 0 |
Scale Factor To 35 mm Equivalent | 1.5 |
Scene Capture Type | Standard |
Scene Type | Directly photographed |
Sensing Method | One-chip color area |
Sensitivity Type | Recommended Exposure Index |
Shadow Tint | 0 |
Shadows 2012 | +48 |
Sharpen Detail | 37 |
Sharpen Edge Masking | 100 |
Sharpen Radius | +1.4 |
Sharpness | Normal |
Source | GIPE25 |
Split Toning Balance | 0 |
Split Toning Highlight Hue | 0 |
Split Toning Highlight Saturation | 0 |
Split Toning Shadow Hue | 0 |
Split Toning Shadow Saturation | 0 |
State | Bourgogne Franche-Comté |
Subject | Bourgogne-Franche-Comté, FRA, France, geo:lat=47.23927558, geo:lon=6.18474483, geotagged, Nancray, douds, franche-comté, fr, europe, eu, patrimoine, comtois, patrimoine comtois, nikon, d7500, sigma, 18-35 mm, 70-200 mm |
Subject Distance | 0.89 m |
Subject Distance Range | Unknown |
Time Zone Offset | 2 |
Tint | +11 |
Tone Curve Name 2012 | Linear |
Tone Curve PV2012 | 0, 0, 255, 255 |
Tone Curve PV2012 Blue | 0, 0, 255, 255 |
Tone Curve PV2012 Green | 0, 0, 255, 255 |
Tone Curve PV2012 Red | 0, 0, 255, 255 |
User Comment | Image: Gilles PRETET |
Version | 7.1 |
Vibrance | 0 |
Vignette Amount | 0 |
White Balance | Auto |
Whites 2012 | 0 |
GPS Information |
GPS Altitude | 442 m Above Sea Level |
GPS Altitude Ref | Above Sea Level |
GPS Date Stamp | 2018:04:25 |
GPS Date/Time | 2018:04:25 14:21:53Z |
GPS Latitude | 47 deg 14' 21.39" N |
GPS Latitude Ref | North |
GPS Longitude | 6 deg 11' 5.08" E |
GPS Longitude Ref | East |
GPS Map Datum | WGS-84 |
GPS Position | 47 deg 14' 21.39" N, 6 deg 11' 5.08" E |
GPS Time Stamp | 14:21:53 |
GPS Version ID | 2.2.0.0 |