Shooting information for this photo
Camera: | Panasonic DMC-LX100 |
Exposure: | 0.008 sec. (1/125) |
Aperture: | f/8.0 |
Focal Length: | 22.0 mm (35 mm equivalent: 49.0 mm) |
Flash: | Off, Did not fire |
Exposure mode: | Aperture-priority AE |
Max Aperture: | 2.7 |
Resolution: | 300 x 300 dpi |
Dimension: | 2856 x 4272 pixels |
Original Date: | 2016:02:09 15:47:30.894 |
Digitized Date: | 2016:02:09 15:47:30+01:00 |
Created on: | 2016:02:09 15:47:30.894 |
Software: | Adobe Photoshop Elements 14.0 (Windows) |
Already Applied | True |
Authors Position | Gilles PRETET |
Auto Lateral CA | 0 |
Auto White Version | 134348800 |
Blacks 2012 | 0 |
Blue Hue | 0 |
Blue Saturation | 0 |
Camera Profile | Adobe Standard |
Caption Writer | Gilles PRETET |
Circle Of Confusion | 0.013 mm |
City | BESANCON |
Clarity 2012 | 0 |
Color Mode | RGB |
Color Noise Reduction | 42 |
Color Noise Reduction Detail | 50 |
Color Noise Reduction Smoothness | 50 |
Color Space | sRGB |
Color Temperature | 5650 |
Contrast | Normal |
Contrast 2012 | 0 |
Convert To Grayscale | False |
Country | France |
Country Code | fra |
Creator | Gilles PRETET |
Credit | Gilles PRETET |
Custom Rendered | Normal |
Date Created | 20160209 |
Defringe Green Amount | 0 |
Defringe Green Hue Hi | 60 |
Defringe Green Hue Lo | 40 |
Defringe Purple Amount | 0 |
Defringe Purple Hue Hi | 70 |
Defringe Purple Hue Lo | 30 |
Dehaze | 0 |
Digital Zoom Ratio | 0 |
Distortion Correction Already Applied | True |
Exposure 2012 | 0.00 |
Exposure Compensation | 0 |
Exposure Mode | Auto |
Field Of View | 40.3 deg |
Focal Length In 35mm Format | 49 mm |
Format | image/jpeg |
Gain Control | None |
Grain Amount | 0 |
Green Hue | 0 |
Green Saturation | 0 |
Has Crop | False |
Has Settings | True |
Headline | BESANCON: La Citadelle 15 |
Highlights 2012 | +4 |
Hue Adjustment Aqua | 0 |
Hue Adjustment Blue | 0 |
Hue Adjustment Green | 0 |
Hue Adjustment Magenta | 0 |
Hue Adjustment Orange | 0 |
Hue Adjustment Purple | 0 |
Hue Adjustment Red | 0 |
Hue Adjustment Yellow | 0 |
Hyperfocal Distance | 4.48 m |
ICC Profile Name | sRGB IEC61966-2.1 |
ISO | 100 |
Image Size | 2856x4272 |
Lateral Chromatic Aberration Correction Already Applied | True |
Lens Manual Distortion Amount | 0 |
Lens Profile Enable | 0 |
Lens Profile Setup | LensDefaults |
Light Source | Unknown |
Light Value | 13.0 |
Location | Citadelle |
Luminance Adjustment Aqua | 0 |
Luminance Adjustment Blue | 0 |
Luminance Adjustment Green | 0 |
Luminance Adjustment Magenta | 0 |
Luminance Adjustment Orange | 0 |
Luminance Adjustment Purple | 0 |
Luminance Adjustment Red | 0 |
Luminance Adjustment Yellow | 0 |
Luminance Noise Reduction Contrast | 39 |
Luminance Noise Reduction Detail | 50 |
Luminance Smoothing | 39 |
Metering Mode | Multi-segment |
Parametric Darks | 0 |
Parametric Highlight Split | 75 |
Parametric Highlights | 0 |
Parametric Lights | 0 |
Parametric Midtone Split | 50 |
Parametric Shadow Split | 25 |
Parametric Shadows | 0 |
Perspective Aspect | 0 |
Perspective Horizontal | 0 |
Perspective Rotate | 0.0 |
Perspective Scale | 100 |
Perspective Upright | 0 |
Perspective Vertical | 0 |
Post Crop Vignette Amount | 0 |
Process Version | 6.7 |
Raw File Name | _1000444.RW2 |
Red Hue | 0 |
Red Saturation | 0 |
Rights | Gilles PRETET |
Saturation | Normal |
Saturation Adjustment Aqua | 0 |
Saturation Adjustment Blue | 0 |
Saturation Adjustment Green | 0 |
Saturation Adjustment Magenta | 0 |
Saturation Adjustment Orange | 0 |
Saturation Adjustment Purple | 0 |
Saturation Adjustment Red | 0 |
Saturation Adjustment Yellow | 0 |
Scale Factor To 35 mm Equivalent | 2.2 |
Scene Capture Type | Standard |
Scene Type | Directly photographed |
Sensing Method | One-chip color area |
Shadow Tint | 0 |
Shadows 2012 | +35 |
Sharpen Detail | 36 |
Sharpen Edge Masking | 100 |
Sharpen Radius | +1.4 |
Sharpness | Hard |
Source | Gilles PRETET |
Split Toning Balance | 0 |
Split Toning Highlight Hue | 0 |
Split Toning Highlight Saturation | 0 |
Split Toning Shadow Hue | 0 |
Split Toning Shadow Saturation | 0 |
State | Bourgogne-fFranche-Comté |
Subject | Besançon, Bourgogne-Franche-Comté, FRA, France, geo:lat=47.22975426, geo:lon=6.03453040, geotagged, doubs, 25, fr, eu, europe, citadelle, vauban, hdr, photomatix, 7 images, panasonic, lx100 |
Time Zone Offset | 1 |
Tint | 0 |
Tone Curve | 0, 0, 32, 22, 64, 56, 128, 128, 192, 196, 255, 255 |
Tone Curve Blue | 0, 0, 255, 255 |
Tone Curve Green | 0, 0, 255, 255 |
Tone Curve Name | Medium Contrast |
Tone Curve Name 2012 | Linear |
Tone Curve PV2012 | 0, 0, 255, 255 |
Tone Curve PV2012 Blue | 0, 0, 255, 255 |
Tone Curve PV2012 Green | 0, 0, 255, 255 |
Tone Curve PV2012 Red | 0, 0, 255, 255 |
Tone Curve Red | 0, 0, 255, 255 |
Tone Map Strength | 0 |
Version | 9.5 |
Vibrance | +30 |
Vignette Amount | 0 |
White Balance | Auto |
Whites 2012 | 0 |
GPS Information |
GPS Altitude | 360 m Above Sea Level |
GPS Altitude Ref | Above Sea Level |
GPS Date Stamp | 2016:02:09 |
GPS Date/Time | 2016:02:09 14:47:30Z |
GPS Latitude | 47 deg 13' 47.12" N |
GPS Latitude Ref | North |
GPS Longitude | 6 deg 2' 4.31" E |
GPS Longitude Ref | East |
GPS Map Datum | WGS-84 |
GPS Position | 47 deg 13' 47.12" N, 6 deg 2' 4.31" E |
GPS Time Stamp | 14:47:30 |
GPS Version ID | 2.2.0.0 |