Shooting information for this photo
Camera: | NIKON CORPORATION NIKON D600 |
Exposure: | 0.0025 sec. (1/400) |
Aperture: | f/10.0 |
Focal Length: | 600.0 mm (35 mm equivalent: 600.0 mm) |
Flash: | Off, Did not fire |
Exposure mode: | Aperture-priority AE |
Max Aperture: | 4.0 |
Resolution: | 240 x 240 dpi |
Dimension: | 6016 x 4016 pixels |
Original Date: | 2015:08:29 21:15:12.40 |
Created on: | 2015:08:29 21:15:12.40 |
Modified on: | 2015:09:14 19:53:15.40 |
Software: | Adobe Photoshop Elements 11.0 Windows |
Copyright: | Gilles PRETET |
Already Applied | True |
Approximate Focus Distance | 4294967295 |
Artist | Gilles PRETET |
Auto Lateral CA | 0 |
Blacks 2012 | +76 |
Blue Hue | 0 |
Blue Saturation | 0 |
CFA Pattern | [Red,Green][Green,Blue] |
Camera Profile | Adobe Standard |
Caption Writer | BELFORT: Fort du Salbert: Pleine lune du 29 Août 2015. 06 |
Circle Of Confusion | 0.030 mm |
City | BELFORT |
Clarity 2012 | +25 |
Color Mode | RGB |
Color Noise Reduction | 42 |
Color Noise Reduction Detail | 50 |
Color Space | sRGB |
Color Temperature | 3850 |
Contrast | Normal |
Contrast 2012 | -36 |
Convert To Grayscale | False |
Country | france |
Country Code | FR |
Creator | Gilles PRETET |
Custom Rendered | Normal |
Date Created | 20150829 |
Defringe Green Amount | 0 |
Defringe Green Hue Hi | 60 |
Defringe Green Hue Lo | 40 |
Defringe Purple Amount | 0 |
Defringe Purple Hue Hi | 70 |
Defringe Purple Hue Lo | 30 |
Digital Zoom Ratio | 1 |
Exposure 2012 | 0.00 |
Exposure Compensation | 0 |
Exposure Mode | Auto |
Field Of View | 3.4 deg |
Focal Length In 35mm Format | 600 mm |
Format | image/jpeg |
Gain Control | Low gain up |
Grain Amount | 0 |
Green Hue | 0 |
Green Saturation | 0 |
Has Crop | False |
Has Settings | True |
Highlights 2012 | -1 |
Hue Adjustment Aqua | 0 |
Hue Adjustment Blue | 0 |
Hue Adjustment Green | 0 |
Hue Adjustment Magenta | 0 |
Hue Adjustment Orange | 0 |
Hue Adjustment Purple | 0 |
Hue Adjustment Red | 0 |
Hue Adjustment Yellow | 0 |
Hyperfocal Distance | 1198.15 m |
ICC Profile Name | sRGB IEC61966-2.1 |
ISO | 400 |
Image Number | 8671 |
Image Size | 6016x4016 |
Lens | 600.0 mm f/4.0 |
Lens ID | AF-S VR Nikkor 600mm f/4G ED |
Lens Info | 600mm f/4 |
Lens Manual Distortion Amount | 0 |
Lens Model | 600.0 mm f/4.0 |
Lens Profile Enable | 0 |
Lens Profile Setup | LensDefaults |
Light Source | Unknown |
Light Value | 13.3 |
Location | Fort de Salbert |
Luminance Adjustment Aqua | 0 |
Luminance Adjustment Blue | 0 |
Luminance Adjustment Green | 0 |
Luminance Adjustment Magenta | 0 |
Luminance Adjustment Orange | 0 |
Luminance Adjustment Purple | 0 |
Luminance Adjustment Red | 0 |
Luminance Adjustment Yellow | 0 |
Luminance Noise Reduction Contrast | 40 |
Luminance Noise Reduction Detail | 50 |
Luminance Smoothing | 39 |
Metering Mode | Spot |
Parametric Darks | 0 |
Parametric Highlight Split | 75 |
Parametric Highlights | 0 |
Parametric Lights | 0 |
Parametric Midtone Split | 50 |
Parametric Shadow Split | 25 |
Parametric Shadows | 0 |
Perspective Horizontal | 0 |
Perspective Rotate | 0.0 |
Perspective Scale | 100 |
Perspective Vertical | 0 |
Photometric Interpretation | RGB |
Post Crop Vignette Amount | 0 |
Process Version | 6.7 |
Raw File Name | _GPR8275.NEF |
Red Hue | 0 |
Red Saturation | 0 |
Rights | Gilles PRETET |
Samples Per Pixel | 3 |
Saturation | Normal |
Saturation Adjustment Aqua | 0 |
Saturation Adjustment Blue | 0 |
Saturation Adjustment Green | 0 |
Saturation Adjustment Magenta | 0 |
Saturation Adjustment Orange | 0 |
Saturation Adjustment Purple | 0 |
Saturation Adjustment Red | 0 |
Saturation Adjustment Yellow | 0 |
Scale Factor To 35 mm Equivalent | 1.0 |
Scene Capture Type | Standard |
Scene Type | Directly photographed |
Sensing Method | One-chip color area |
Sensitivity Type | Recommended Exposure Index |
Shadow Tint | 0 |
Shadows 2012 | 0 |
Sharpen Detail | 35 |
Sharpen Edge Masking | 100 |
Sharpen Radius | +1.3 |
Sharpness | Normal |
Split Toning Balance | 0 |
Split Toning Highlight Hue | 0 |
Split Toning Highlight Saturation | 0 |
Split Toning Shadow Hue | 0 |
Split Toning Shadow Saturation | 0 |
Subject | geo:lat=47.65960669, geo:lon=6.81332588, geotagged, belfort, territoire, 90, franche-comté, france, fr, fra, europe, eu, salbert, nuit, night, lune, éclairage, nikon, d600 |
Subject Distance Range | Unknown |
Time Zone Offset | 0 |
Tint | +12 |
Tone Curve Name 2012 | Linear |
Tone Curve PV2012 | 0, 0, 255, 255 |
Tone Curve PV2012 Blue | 0, 0, 255, 255 |
Tone Curve PV2012 Green | 0, 0, 255, 255 |
Tone Curve PV2012 Red | 0, 0, 255, 255 |
User Comment | Image:Gilles PRETET |
Version | 7.4 |
Vibrance | 0 |
Vignette Amount | 0 |
White Balance | Auto |
Whites 2012 | +18 |
GPS Information |
GPS Date Stamp | 2015:08:29 |
GPS Date/Time | 2015:08:29 21:15:12Z |
GPS Latitude | 47 deg 39' 34.58" N |
GPS Latitude Ref | North |
GPS Longitude | 6 deg 48' 47.97" E |
GPS Longitude Ref | East |
GPS Map Datum | WGS-84 |
GPS Position | 47 deg 39' 34.58" N, 6 deg 48' 47.97" E |
GPS Time Stamp | 21:15:12 |
GPS Version ID | 2.2.0.0 |