Shooting information for this photo
Camera: | NIKON CORPORATION NIKON D600 |
Exposure: | 0.00156 sec. (1/640) |
Aperture: | f/4.0 |
Focal Length: | 200.0 mm (35 mm equivalent: 300.0 mm) |
Flash: | Off, Did not fire |
Exposure mode: | Aperture-priority AE |
Max Aperture: | 4.0 |
Resolution: | 240 x 240 dpi |
Dimension: | 3936 x 2624 pixels |
Original Date: | 2015:08:01 07:20:46.60 |
Digitized Date: | 2015:08:01 07:20:46+02:00 |
Created on: | 2015:08:01 07:20:46.60 |
Software: | Adobe Photoshop Elements 11.0 Windows |
Copyright: | Gilles PRETET |
Already Applied | True |
Approximate Focus Distance | 10 |
Artist | Gilles PRETET |
Authors Position | Gilles PRETET |
Auto Lateral CA | 0 |
Blacks 2012 | 0 |
Blue Hue | 0 |
Blue Saturation | 0 |
CFA Pattern | [Red,Green][Green,Blue] |
Camera Profile | Adobe Standard |
Caption Writer | Gilles PRETET |
Circle Of Confusion | 0.020 mm |
City | Fréjus |
Clarity 2012 | +25 |
Color Mode | RGB |
Color Noise Reduction | 42 |
Color Noise Reduction Detail | 50 |
Color Space | sRGB |
Color Temperature | 5100 |
Contrast | Normal |
Contrast 2012 | 0 |
Convert To Grayscale | False |
Country | France |
Country Code | FRA |
Creator | Gilles PRETET |
Credit | Gilles PRETET |
Custom Rendered | Normal |
Date Created | 2015:08:01 07:20:46+02:00 |
Defringe Green Amount | 0 |
Defringe Green Hue Hi | 60 |
Defringe Green Hue Lo | 40 |
Defringe Purple Amount | 0 |
Defringe Purple Hue Hi | 70 |
Defringe Purple Hue Lo | 30 |
Digital Zoom Ratio | 1.53 |
Exposure 2012 | 0.00 |
Exposure Compensation | 0 |
Exposure Mode | Auto |
Field Of View | 6.9 deg |
Focal Length In 35mm Format | 300 mm |
Format | image/jpeg |
Gain Control | Low gain up |
Grain Amount | 0 |
Green Hue | 0 |
Green Saturation | 0 |
Has Crop | False |
Has Settings | True |
Headline | FREJUS; Un Goéland, ou gabianl.02 |
Highlights 2012 | 0 |
Hue Adjustment Aqua | 0 |
Hue Adjustment Blue | 0 |
Hue Adjustment Green | 0 |
Hue Adjustment Magenta | 0 |
Hue Adjustment Orange | 0 |
Hue Adjustment Purple | 0 |
Hue Adjustment Red | 0 |
Hue Adjustment Yellow | 0 |
Hyperfocal Distance | 499.23 m |
ICC Profile Name | sRGB IEC61966-2.1 |
ISO | 800 |
Image Number | 8248 |
Image Size | 3936x2624 |
Lens | 70.0-200.0 mm f/4.0 |
Lens ID | AF-S Nikkor 70-200mm f/4G ED VR |
Lens Info | 70-200mm f/4 |
Lens Manual Distortion Amount | 0 |
Lens Model | 70.0-200.0 mm f/4.0 |
Lens Profile Enable | 0 |
Lens Profile Setup | LensDefaults |
Light Source | Unknown |
Light Value | 10.3 |
Location | Port-Fréjus |
Luminance Adjustment Aqua | 0 |
Luminance Adjustment Blue | 0 |
Luminance Adjustment Green | 0 |
Luminance Adjustment Magenta | 0 |
Luminance Adjustment Orange | 0 |
Luminance Adjustment Purple | 0 |
Luminance Adjustment Red | 0 |
Luminance Adjustment Yellow | 0 |
Luminance Noise Reduction Contrast | 40 |
Luminance Noise Reduction Detail | 50 |
Luminance Smoothing | 39 |
Metering Mode | Center-weighted average |
Parametric Darks | 0 |
Parametric Highlight Split | 75 |
Parametric Highlights | 0 |
Parametric Lights | 0 |
Parametric Midtone Split | 50 |
Parametric Shadow Split | 25 |
Parametric Shadows | 0 |
Perspective Horizontal | 0 |
Perspective Rotate | 0.0 |
Perspective Scale | 100 |
Perspective Vertical | 0 |
Post Crop Vignette Amount | 0 |
Process Version | 6.7 |
Raw File Name | _GPR7889.NEF |
Red Hue | 0 |
Red Saturation | 0 |
Rights | Gilles PRETET |
Saturation | Normal |
Saturation Adjustment Aqua | 0 |
Saturation Adjustment Blue | 0 |
Saturation Adjustment Green | 0 |
Saturation Adjustment Magenta | 0 |
Saturation Adjustment Orange | 0 |
Saturation Adjustment Purple | 0 |
Saturation Adjustment Red | 0 |
Saturation Adjustment Yellow | 0 |
Scale Factor To 35 mm Equivalent | 1.5 |
Scene Capture Type | Standard |
Scene Type | Directly photographed |
Sensing Method | One-chip color area |
Sensitivity Type | Recommended Exposure Index |
Shadow Tint | 0 |
Shadows 2012 | 0 |
Sharpen Detail | 35 |
Sharpen Edge Masking | 100 |
Sharpen Radius | +1.3 |
Sharpness | Hard |
Source | Gilles PRETET |
Split Toning Balance | 0 |
Split Toning Highlight Hue | 0 |
Split Toning Highlight Saturation | 0 |
Split Toning Shadow Hue | 0 |
Split Toning Shadow Saturation | 0 |
State | PACA |
Subject | FRA, France, Fréjus, geo:lat=43.42407903, geo:lon=6.75889313, PACA, Port-Fréjus, frejus, var, 83, fr, europe, eu, Fréjus-Plage, geotagged, Provence-Alpes-Côte d'Azur, nikon, d600, 70-200mm, mouette, goeland, .Charadriiformes, .Laridae, goéland, larus |
Subject Distance Range | Unknown |
Time Zone Offset | 2 |
Tint | -4 |
Tone Curve Name 2012 | Linear |
Tone Curve PV2012 | 0, 0, 255, 255 |
Tone Curve PV2012 Blue | 0, 0, 255, 255 |
Tone Curve PV2012 Green | 0, 0, 255, 255 |
Tone Curve PV2012 Red | 0, 0, 255, 255 |
User Comment | Image:Gilles PRETET |
Version | 7.4 |
Vibrance | 0 |
Vignette Amount | 0 |
White Balance | Auto |
Whites 2012 | 0 |
GPS Information |
GPS Altitude | 6 m Above Sea Level |
GPS Altitude Ref | Above Sea Level |
GPS Date Stamp | 2015:08:01 |
GPS Date/Time | 2015:08:01 05:20:46Z |
GPS Latitude | 43 deg 25' 26.68" N |
GPS Latitude Ref | North |
GPS Longitude | 6 deg 45' 32.02" E |
GPS Longitude Ref | East |
GPS Map Datum | WGS-84 |
GPS Position | 43 deg 25' 26.68" N, 6 deg 45' 32.02" E |
GPS Time Stamp | 05:20:46 |
GPS Version ID | 2.2.0.0 |