Shooting information for this photo
Camera: | NIKON COOLPIX P7100 |
Resolution: | 240 x 240 dpi |
Created on: | 2014:11:09 07:21:11+01:00 |
Modified on: | 2014:11:11 08:25:40 |
Software: | GraphicsMagick 1.2.5 2008-07-25 Q8 http://www.GraphicsMagick.org/ |
Already Applied | True |
Auto Lateral CA | 0 |
Bits Per Sample | 8 8 8 |
Blacks 2012 | -3 |
Blue Hue | 0 |
Blue Saturation | 0 |
Camera Profile | Adobe Standard |
Clarity 2012 | +28 |
Color Mode | RGB |
Color Noise Reduction | 35 |
Color Noise Reduction Detail | 50 |
Color Temperature | 5650 |
Contrast 2012 | -4 |
Convert To Grayscale | False |
Date Created | 2014:11:09 07:21:11 |
Defringe Green Amount | 0 |
Defringe Green Hue Hi | 60 |
Defringe Green Hue Lo | 40 |
Defringe Purple Amount | 0 |
Defringe Purple Hue Hi | 70 |
Defringe Purple Hue Lo | 30 |
Document Name | C:\Users\GIPE25\AppData\Roamin g\ipernity\Uploader-1.0\Profil es\l2kk74he.default\images\DSC N5313-resize.tif |
Exposure 2012 | -1.60 |
Format | image/tiff |
Grain Amount | 0 |
Green Hue | 0 |
Green Saturation | 0 |
Has Crop | False |
Has Settings | True |
Highlights 2012 | -32 |
Hue Adjustment Aqua | 0 |
Hue Adjustment Blue | 0 |
Hue Adjustment Green | 0 |
Hue Adjustment Magenta | 0 |
Hue Adjustment Orange | 0 |
Hue Adjustment Purple | 0 |
Hue Adjustment Red | 0 |
Hue Adjustment Yellow | 0 |
ICC Profile Name | sRGB IEC61966-2.1 |
Image Height | 1152 |
Image Size | 2048x1152 |
Image Width | 2048 |
Lens Manual Distortion Amount | 0 |
Lens Profile Enable | 0 |
Lens Profile Setup | LensDefaults |
Luminance Adjustment Aqua | 0 |
Luminance Adjustment Blue | 0 |
Luminance Adjustment Green | 0 |
Luminance Adjustment Magenta | 0 |
Luminance Adjustment Orange | 0 |
Luminance Adjustment Purple | 0 |
Luminance Adjustment Red | 0 |
Luminance Adjustment Yellow | 0 |
Luminance Noise Reduction Contrast | 35 |
Luminance Noise Reduction Detail | 50 |
Luminance Smoothing | 35 |
Page Number | 0 1 |
Parametric Darks | 0 |
Parametric Highlight Split | 75 |
Parametric Highlights | 0 |
Parametric Lights | 0 |
Parametric Midtone Split | 50 |
Parametric Shadow Split | 25 |
Parametric Shadows | 0 |
Perspective Horizontal | 0 |
Perspective Rotate | 0.0 |
Perspective Scale | 100 |
Perspective Vertical | 0 |
Photometric Interpretation | RGB |
Planar Configuration | Chunky |
Post Crop Vignette Amount | 0 |
Process Version | 6.7 |
Rating | 0 |
Raw File Name | DSCN5313.NRW |
Red Hue | 0 |
Red Saturation | 0 |
Rows Per Strip | 1 |
Sample Format | Unsigned; Unsigned; Unsigned |
Samples Per Pixel | 3 |
Saturation | 0 |
Saturation Adjustment Aqua | 0 |
Saturation Adjustment Blue | 0 |
Saturation Adjustment Green | 0 |
Saturation Adjustment Magenta | 0 |
Saturation Adjustment Orange | 0 |
Saturation Adjustment Purple | 0 |
Saturation Adjustment Red | 0 |
Saturation Adjustment Yellow | 0 |
Shadow Tint | 0 |
Shadows 2012 | +6 |
Sharpen Detail | 35 |
Sharpen Edge Masking | 100 |
Sharpen Radius | +1.4 |
Sharpness | 51 |
Split Toning Balance | 0 |
Split Toning Highlight Hue | 0 |
Split Toning Highlight Saturation | 0 |
Split Toning Shadow Hue | 0 |
Split Toning Shadow Saturation | 0 |
Tint | +4 |
Tone Curve Name 2012 | Linear |
Tone Curve PV2012 | 0, 0, 255, 255 |
Tone Curve PV2012 Blue | 0, 0, 255, 255 |
Tone Curve PV2012 Green | 0, 0, 255, 255 |
Tone Curve PV2012 Red | 0, 0, 255, 255 |
Version | 7.4 |
Vibrance | 0 |
Vignette Amount | 0 |
White Balance | As Shot |
Whites 2012 | -53 |