Shooting information for this photo
Camera: | NIKON CORPORATION NIKON D600 |
Exposure: | 0.00125 sec. (1/800) |
Aperture: | f/8.0 |
Focal Length: | 180.0 mm (35 mm equivalent: 180.0 mm) |
Flash: | Off, Did not fire |
Exposure mode: | Aperture-priority AE |
Max Aperture: | 2.8 |
Resolution: | 300 x 300 dpi |
Dimension: | 6016 x 3384 pixels |
Original Date: | 2014:04:07 14:57:39.50 |
Digitized Date: | 2014:04:07 14:57:39+00:00 |
Created on: | 2014:04:07 14:57:39.50 |
Software: | Adobe Photoshop Elements 11.0 Windows |
Copyright: | Gilles PRETET |
Already Applied | True |
Approximate Focus Distance | 0.03 |
Artist | Gilles PRETET |
Authors Position | GIPE25 |
Auto Lateral CA | 0 |
Blacks 2012 | -16 |
Blue Hue | 0 |
Blue Saturation | 0 |
CFA Pattern | [Red,Green][Green,Blue] |
Camera Profile | Adobe Standard |
Caption Writer | Gilles PRETET |
Circle Of Confusion | 0.030 mm |
Clarity 2012 | +40 |
Color Mode | RGB |
Color Noise Reduction | 47 |
Color Noise Reduction Detail | 50 |
Color Space | sRGB |
Color Temperature | 4500 |
Contrast | Normal |
Contrast 2012 | +25 |
Convert To Grayscale | False |
Creator | GIPE25 |
Credit | GIPE25 |
Custom Rendered | Normal |
Date Created | 20140407 |
Defringe Green Amount | 0 |
Defringe Green Hue Hi | 60 |
Defringe Green Hue Lo | 40 |
Defringe Purple Amount | 0 |
Defringe Purple Hue Hi | 70 |
Defringe Purple Hue Lo | 30 |
Digital Zoom Ratio | 1 |
Exposure 2012 | +0.15 |
Exposure Compensation | 0 |
Exposure Mode | Auto |
Field Of View | 11.4 deg |
Focal Length In 35mm Format | 180 mm |
Format | image/jpeg |
Gain Control | None |
Grain Amount | 0 |
Green Hue | 0 |
Green Saturation | 0 |
Has Crop | False |
Has Settings | True |
Headline | BESANCON: Citadelle: Un flamant rose. (Phoenicopterus roseus). |
Highlights 2012 | -100 |
Hue Adjustment Aqua | 0 |
Hue Adjustment Blue | 0 |
Hue Adjustment Green | 0 |
Hue Adjustment Magenta | 0 |
Hue Adjustment Orange | 0 |
Hue Adjustment Purple | 0 |
Hue Adjustment Red | 0 |
Hue Adjustment Yellow | 0 |
Hyperfocal Distance | 134.79 m |
ICC Profile Name | sRGB IEC61966-2.1 |
ISO | 200 |
Image Number | 2021 |
Image Size | 6016x3384 |
Lens | 180.0 mm f/2.8 |
Lens ID | AF Nikkor 180mm f/2.8 IF-ED |
Lens Info | 180mm f/2.8 |
Lens Manual Distortion Amount | 0 |
Lens Model | 180.0 mm f/2.8 |
Lens Profile Enable | 0 |
Lens Profile Setup | LensDefaults |
Light Source | Unknown |
Light Value | 14.6 |
Luminance Adjustment Aqua | 0 |
Luminance Adjustment Blue | 0 |
Luminance Adjustment Green | 0 |
Luminance Adjustment Magenta | 0 |
Luminance Adjustment Orange | 0 |
Luminance Adjustment Purple | 0 |
Luminance Adjustment Red | 0 |
Luminance Adjustment Yellow | 0 |
Luminance Noise Reduction Contrast | 47 |
Luminance Noise Reduction Detail | 50 |
Luminance Smoothing | 47 |
Metering Mode | Multi-segment |
Parametric Darks | 0 |
Parametric Highlight Split | 75 |
Parametric Highlights | 0 |
Parametric Lights | 0 |
Parametric Midtone Split | 50 |
Parametric Shadow Split | 25 |
Parametric Shadows | 0 |
Perspective Horizontal | 0 |
Perspective Rotate | 0.0 |
Perspective Scale | 100 |
Perspective Vertical | 0 |
Photometric Interpretation | RGB |
Planar Configuration | Chunky |
Post Crop Vignette Amount | 0 |
Process Version | 6.7 |
Raw File Name | DSC_1357.NEF |
Red Hue | 0 |
Red Saturation | 0 |
Rights | GIPE25 |
Samples Per Pixel | 3 |
Saturation | Normal |
Saturation Adjustment Aqua | 0 |
Saturation Adjustment Blue | 0 |
Saturation Adjustment Green | 0 |
Saturation Adjustment Magenta | 0 |
Saturation Adjustment Orange | 0 |
Saturation Adjustment Purple | 0 |
Saturation Adjustment Red | 0 |
Saturation Adjustment Yellow | 0 |
Scale Factor To 35 mm Equivalent | 1.0 |
Scene Capture Type | Standard |
Scene Type | Directly photographed |
Sensing Method | One-chip color area |
Sensitivity Type | Recommended Exposure Index |
Shadow Tint | 0 |
Shadows 2012 | 0 |
Sharpen Detail | 63 |
Sharpen Edge Masking | 56 |
Sharpen Radius | +1.4 |
Sharpness | Normal |
Source | GIPE25 |
Split Toning Balance | 0 |
Split Toning Highlight Hue | 0 |
Split Toning Highlight Saturation | 0 |
Split Toning Shadow Hue | 0 |
Split Toning Shadow Saturation | 0 |
Subject | besancon, besançon, doubs, 25, franche-comté, france, fr, fra, europe, citadelle, vauban, geo:lon=6.03185892, geotagged, geo:lat=47.23173223, geo:lat=47.23172730, geo:lon=6.03185787, animal, flamant, rose, flamant rose, Phoenicopterus, roseus, Phoenicopterus roseus, .Aves, .Phoenicopteridae, boket, nikon, d600, 180 mm |
Subject Distance Range | Unknown |
Time Zone Offset | 0 |
Tint | -7 |
Tone Curve Name 2012 | Linear |
Tone Curve PV2012 | 0, 0, 255, 255 |
Tone Curve PV2012 Blue | 0, 0, 255, 255 |
Tone Curve PV2012 Green | 0, 0, 255, 255 |
Tone Curve PV2012 Red | 0, 0, 255, 255 |
User Comment | Image:Gilles PRETET |
Version | 7.4 |
Vibrance | 0 |
Vignette Amount | 0 |
White Balance | Auto |
Whites 2012 | -94 |
GPS Information |
GPS Date Stamp | 2014:04:07 |
GPS Date/Time | 2014:04:07 14:57:39Z |
GPS Latitude | 47 deg 13' 54.22" N |
GPS Latitude Ref | North |
GPS Longitude | 6 deg 1' 54.69" E |
GPS Longitude Ref | East |
GPS Map Datum | WGS-84 |
GPS Position | 47 deg 13' 54.22" N, 6 deg 1' 54.69" E |
GPS Time Stamp | 14:57:39 |
GPS Version ID | 2.2.0.0 |