Shooting information for this photo
Camera: | Canon EOS-1D X |
Exposure: | 0.025 sec. (1/40) |
Aperture: | f/3.2 |
Focal Length: | 21.0 mm (35 mm equivalent: 21.0 mm) |
Flash: | Off, Did not fire |
Exposure mode: | Manual |
Max Aperture: | 2.8 |
Resolution: | 300 x 300 dpi |
Dimension: | 5184 x 3456 pixels |
Original Date: | 2014:03:08 14:20:45.50 |
Created on: | 2014:03:08 14:20:45.50 |
Modified on: | 2018:09:17 22:27:15.50 |
Software: | Adobe Photoshop CC 2017 (Windows) |
Copyright: | Non_pubblicare_senza_autorizzazione_dell'autore |
Already Applied | True |
Approximate Focus Distance | 4294967295 |
Artist | Giancarlo_Amadio |
Auto Lateral CA | 0 |
Auto White Version | 134348800 |
Blacks 2012 | -3 |
Blue Hue | 0 |
Blue Saturation | 0 |
Camera Profile | Adobe Standard |
Circle Of Confusion | 0.030 mm |
Clarity 2012 | +18 |
Color Mode | RGB |
Color Noise Reduction | 25 |
Color Noise Reduction Detail | 50 |
Color Noise Reduction Smoothness | 50 |
Color Space | Uncalibrated |
Color Temperature | 2700 |
Contrast 2012 | +9 |
Convert To Grayscale | False |
Creator | Giancarlo_Amadio |
Custom Rendered | Normal |
Date Created | 2014:03:08 14:20:45.005 |
Defringe Green Amount | 0 |
Defringe Green Hue Hi | 60 |
Defringe Green Hue Lo | 40 |
Defringe Purple Amount | 0 |
Defringe Purple Hue Hi | 70 |
Defringe Purple Hue Lo | 30 |
Dehaze | 0 |
Exposure 2012 | +1.05 |
Exposure Compensation | 0 |
Exposure Mode | Manual |
Field Of View | 81.2 deg |
Firmware | 1.2.4 |
Flash Compensation | 0 |
Format | image/jpeg |
Grain Amount | 0 |
Green Hue | 0 |
Green Saturation | 0 |
Has Crop | False |
Has Settings | True |
Highlights 2012 | -34 |
Hue Adjustment Aqua | 0 |
Hue Adjustment Blue | 0 |
Hue Adjustment Green | 0 |
Hue Adjustment Magenta | 0 |
Hue Adjustment Orange | 0 |
Hue Adjustment Purple | 0 |
Hue Adjustment Red | 0 |
Hue Adjustment Yellow | 0 |
Hyperfocal Distance | 4.59 m |
ICC Profile Name | Adobe RGB (1998) |
ISO | 5000 |
Image Number | 0 |
Image Size | 5184x3456 |
Lens | EF16-35mm f/2.8L II USM |
Lens ID | Canon EF 16-35mm f/2.8L II |
Lens Info | 16-35mm f/? |
Lens Manual Distortion Amount | 0 |
Lens Model | EF16-35mm f/2.8L II USM |
Lens Profile Enable | 0 |
Lens Profile Setup | LensDefaults |
Light Value | 3.0 |
Luminance Adjustment Aqua | 0 |
Luminance Adjustment Blue | 0 |
Luminance Adjustment Green | 0 |
Luminance Adjustment Magenta | 0 |
Luminance Adjustment Orange | 0 |
Luminance Adjustment Purple | 0 |
Luminance Adjustment Red | 0 |
Luminance Adjustment Yellow | 0 |
Luminance Smoothing | 0 |
Metering Mode | Partial |
Parametric Darks | 0 |
Parametric Highlight Split | 75 |
Parametric Highlights | 0 |
Parametric Lights | 0 |
Parametric Midtone Split | 50 |
Parametric Shadow Split | 25 |
Parametric Shadows | 0 |
Perspective Aspect | 0 |
Perspective Horizontal | 0 |
Perspective Rotate | 0.0 |
Perspective Scale | 100 |
Perspective Upright | 0 |
Perspective Vertical | 0 |
Perspective X | 0.00 |
Perspective Y | 0.00 |
Post Crop Vignette Amount | 0 |
Process Version | 6.7 |
Rating | 0 |
Raw File Name | _25P0780.CR2 |
Recommended Exposure Index | 5000 |
Red Hue | 0 |
Red Saturation | 0 |
Rights | Non_pubblicare_senza_autorizza zione_dell'autore |
Saturation | 0 |
Saturation Adjustment Aqua | 0 |
Saturation Adjustment Blue | 0 |
Saturation Adjustment Green | 0 |
Saturation Adjustment Magenta | 0 |
Saturation Adjustment Orange | 0 |
Saturation Adjustment Purple | 0 |
Saturation Adjustment Red | 0 |
Saturation Adjustment Yellow | 0 |
Scale Factor To 35 mm Equivalent | 1.0 |
Scene Capture Type | Standard |
Sensitivity Type | Recommended Exposure Index |
Shadow Tint | 0 |
Shadows 2012 | +26 |
Sharpen Detail | 25 |
Sharpen Edge Masking | 0 |
Sharpen Radius | +1.0 |
Sharpness | 25 |
Split Toning Balance | 0 |
Split Toning Highlight Hue | 0 |
Split Toning Highlight Saturation | 0 |
Split Toning Shadow Hue | 0 |
Split Toning Shadow Saturation | 0 |
Tint | +6 |
Tone Curve | 0, 0, 32, 22, 64, 56, 128, 128, 192, 196, 255, 255 |
Tone Curve Blue | 0, 0, 255, 255 |
Tone Curve Green | 0, 0, 255, 255 |
Tone Curve Name | Medium Contrast |
Tone Curve Name 2012 | Linear |
Tone Curve PV2012 | 0, 0, 255, 255 |
Tone Curve PV2012 Blue | 0, 0, 255, 255 |
Tone Curve PV2012 Green | 0, 0, 255, 255 |
Tone Curve PV2012 Red | 0, 0, 255, 255 |
Tone Curve Red | 0, 0, 255, 255 |
Tone Map Strength | 0 |
Version | 9.9 |
Vibrance | 0 |
Vignette Amount | 0 |
White Balance | Auto |
Whites 2012 | +2 |
GPS Information |
GPS Altitude | 49.3 m Above Sea Level |
GPS Altitude Ref | Above Sea Level |
GPS Date Stamp | 2014:03:08 |
GPS Date/Time | 2014:03:08 13:20:36Z |
GPS Dest Bearing | 0 |
GPS Dest Distance | 0 |
GPS Differential | No Correction |
GPS Dilution Of Precision | 3.1 |
GPS Latitude | 45 deg 14' 50.06" N |
GPS Latitude Ref | North |
GPS Longitude | 10 deg 12' 20.68" E |
GPS Longitude Ref | East |
GPS Map Datum | WGS-84 |
GPS Measure Mode | 3-Dimensional Measurement |
GPS Position | 45 deg 14' 50.06" N, 10 deg 12' 20.68" E |
GPS Satellites | 12 |
GPS Speed | 0 |
GPS Status | Measurement Active |
GPS Time Stamp | 13:20:36 |
GPS Track | 0 |
GPS Version ID | 2.3.0.0 |