Shooting information for this photo
Camera: | Canon EOS-1D X Mark II |
Exposure: | 0.00156 sec. (1/640) |
Aperture: | f/8.0 |
Focal Length: | 16.0 mm (35 mm equivalent: 16.0 mm) |
Flash: | Off, Did not fire |
Exposure mode: | Manual |
Max Aperture: | 2.8 |
Resolution: | 300 x 300 dpi |
Dimension: | 5472 x 3648 pixels |
Original Date: | 2016:09:01 10:22:18.33 |
Created on: | 2016:09:01 10:22:18.33 |
Modified on: | 2016:09:05 17:45:09.33 |
Software: | Adobe Photoshop CC (Windows) |
Copyright: | Non pubblicare senza consenso dell'autore |
Already Applied | True |
Approximate Focus Distance | 4294967295 |
Artist | Giancarlo Amadio |
Auto Lateral CA | 0 |
Auto White Version | 134348800 |
Blacks 2012 | -24 |
Blue Hue | 0 |
Blue Saturation | 0 |
Camera Profile | Adobe Standard |
Circle Of Confusion | 0.030 mm |
Clarity 2012 | +36 |
Color Mode | RGB |
Color Noise Reduction | 25 |
Color Noise Reduction Detail | 50 |
Color Noise Reduction Smoothness | 50 |
Color Space | Uncalibrated |
Color Temperature | 5400 |
Contrast 2012 | +1 |
Convert To Grayscale | False |
Creator | Giancarlo Amadio |
Custom Rendered | Normal |
Date Created | 2016:09:01 10:22:18.033 |
Defringe Green Amount | 0 |
Defringe Green Hue Hi | 60 |
Defringe Green Hue Lo | 40 |
Defringe Purple Amount | 0 |
Defringe Purple Hue Hi | 70 |
Defringe Purple Hue Lo | 30 |
Dehaze | 0 |
Distortion Correction Already Applied | True |
Exposure 2012 | +0.20 |
Exposure Compensation | 0 |
Exposure Mode | Manual |
Field Of View | 96.7 deg |
Firmware | 1.0.2 |
Flash Compensation | 0 |
Format | image/jpeg |
Grain Amount | 0 |
Green Hue | 0 |
Green Saturation | 0 |
Has Crop | False |
Has Settings | True |
Highlights 2012 | -22 |
Hue Adjustment Aqua | 0 |
Hue Adjustment Blue | 0 |
Hue Adjustment Green | 0 |
Hue Adjustment Magenta | 0 |
Hue Adjustment Orange | 0 |
Hue Adjustment Purple | 0 |
Hue Adjustment Red | 0 |
Hue Adjustment Yellow | 0 |
Hyperfocal Distance | 1.07 m |
ICC Profile Name | Adobe RGB (1998) |
ISO | 1000 |
Image Number | 0 |
Image Size | 5472x3648 |
Lens | EF16-35mm f/2.8L II USM |
Lens ID | Canon EF 16-35mm f/2.8L II |
Lens Info | 16-35mm f/? |
Lens Manual Distortion Amount | 0 |
Lens Model | EF16-35mm f/2.8L II USM |
Lens Profile Chromatic Aberration Scale | 100 |
Lens Profile Distortion Scale | 100 |
Lens Profile Enable | 1 |
Lens Profile Filename | Canon EOS 5D Mark II (Canon EF 16-35mm f2.8 L II USM) - RAW.lcp |
Lens Profile Name | Adobe (Canon EF 16-35mm f/2.8 L II USM) |
Lens Profile Setup | LensDefaults |
Lens Profile Vignetting Scale | 100 |
Light Value | 12.0 |
Luminance Adjustment Aqua | 0 |
Luminance Adjustment Blue | 0 |
Luminance Adjustment Green | 0 |
Luminance Adjustment Magenta | 0 |
Luminance Adjustment Orange | 0 |
Luminance Adjustment Purple | 0 |
Luminance Adjustment Red | 0 |
Luminance Adjustment Yellow | 0 |
Luminance Smoothing | 0 |
Metering Mode | Partial |
Parametric Darks | 0 |
Parametric Highlight Split | 75 |
Parametric Highlights | 0 |
Parametric Lights | 0 |
Parametric Midtone Split | 50 |
Parametric Shadow Split | 25 |
Parametric Shadows | 0 |
Perspective Aspect | 0 |
Perspective Horizontal | 0 |
Perspective Rotate | 0.0 |
Perspective Scale | 100 |
Perspective Upright | 0 |
Perspective Vertical | 0 |
Post Crop Vignette Amount | 0 |
Process Version | 6.7 |
Rating | 0 |
Raw File Name | _17I0602.CR2 |
Recommended Exposure Index | 1000 |
Red Hue | 0 |
Red Saturation | 0 |
Rights | Non pubblicare senza consenso dell'autore |
Saturation | 0 |
Saturation Adjustment Aqua | 0 |
Saturation Adjustment Blue | 0 |
Saturation Adjustment Green | 0 |
Saturation Adjustment Magenta | 0 |
Saturation Adjustment Orange | 0 |
Saturation Adjustment Purple | 0 |
Saturation Adjustment Red | 0 |
Saturation Adjustment Yellow | 0 |
Scale Factor To 35 mm Equivalent | 1.0 |
Scene Capture Type | Standard |
Sensitivity Type | Recommended Exposure Index |
Shadow Tint | 0 |
Shadows 2012 | +43 |
Sharpen Detail | 25 |
Sharpen Edge Masking | 0 |
Sharpen Radius | +1.0 |
Sharpness | 25 |
Split Toning Balance | 0 |
Split Toning Highlight Hue | 0 |
Split Toning Highlight Saturation | 0 |
Split Toning Shadow Hue | 0 |
Split Toning Shadow Saturation | 0 |
Tint | +7 |
Tone Curve | 0, 0, 32, 22, 64, 56, 128, 128, 192, 196, 255, 255 |
Tone Curve Blue | 0, 0, 255, 255 |
Tone Curve Green | 0, 0, 255, 255 |
Tone Curve Name | Medium Contrast |
Tone Curve Name 2012 | Linear |
Tone Curve PV2012 | 0, 0, 255, 255 |
Tone Curve PV2012 Blue | 0, 0, 255, 255 |
Tone Curve PV2012 Green | 0, 0, 255, 255 |
Tone Curve PV2012 Red | 0, 0, 255, 255 |
Tone Curve Red | 0, 0, 255, 255 |
Tone Map Strength | 0 |
Version | 9.5 |
Vibrance | 0 |
Vignette Amount | 0 |
Vignette Correction Already Applied | True |
White Balance | Auto |
Whites 2012 | -30 |
GPS Information |
GPS Altitude | 25.3 m Above Sea Level |
GPS Altitude Ref | Above Sea Level |
GPS Date Stamp | 2016:09:01 |
GPS Date/Time | 2016:09:01 09:22:18.99Z |
GPS Dilution Of Precision | 2.8 |
GPS Latitude | 45 deg 13' 14.34" N |
GPS Latitude Ref | North |
GPS Longitude | 10 deg 45' 23.93" E |
GPS Longitude Ref | East |
GPS Map Datum | WGS-84 |
GPS Measure Mode | 3-Dimensional Measurement |
GPS Position | 45 deg 13' 14.34" N, 10 deg 45' 23.93" E |
GPS Satellites | 6 |
GPS Status | Measurement Active |
GPS Time Stamp | 09:22:18.99 |
GPS Version ID | 2.3.0.0 |