Shooting information for this photo
Camera: | DJI FC300S |
Exposure: | 0.0002 sec. (1/5000) |
Aperture: | f/2.8 |
Focal Length: | 3.6 mm (35 mm equivalent: 20.0 mm) |
Flash: | No flash function |
Exposure mode: | Unknown (8176) |
Max Aperture: | 2.0 |
Resolution: | 240 x 240 dpi |
Dimension: | 3992 x 2992 pixels |
Original Date: | 2016:03:01 16:20:21 |
Created on: | 2016:03:01 16:20:21 |
Modified on: | 2016:03:03 18:13:30 |
Software: | Adobe Photoshop CC (Windows) |
Already Applied | True |
Approximate Focus Distance | 0 |
Auto Lateral CA | 0 |
Blacks 2012 | -3 |
Blue Hue | 0 |
Blue Saturation | 0 |
Camera Profile | Embedded |
Circle Of Confusion | 0.005 mm |
Clarity 2012 | +42 |
Color Mode | RGB |
Color Noise Reduction | 25 |
Color Noise Reduction Detail | 50 |
Color Space | Uncalibrated |
Color Temperature | 4250 |
Contrast | Normal |
Contrast 2012 | +18 |
Convert To Grayscale | False |
Custom Rendered | Normal |
Date Created | 2016:03:01 16:20:21 |
Defringe Green Amount | 0 |
Defringe Green Hue Hi | 60 |
Defringe Green Hue Lo | 40 |
Defringe Purple Amount | 0 |
Defringe Purple Hue Hi | 70 |
Defringe Purple Hue Lo | 30 |
Digital Zoom Ratio | 0 |
Exposure 2012 | +0.40 |
Exposure Compensation | 0 |
Exposure Mode | Manual |
Field Of View | 84.0 deg |
Focal Length In 35mm Format | 20 mm |
Format | image/jpeg |
Gain Control | None |
Grain Amount | 0 |
Green Hue | 0 |
Green Saturation | 0 |
Has Crop | False |
Has Settings | True |
Highlights 2012 | -81 |
Hue Adjustment Aqua | 0 |
Hue Adjustment Blue | 0 |
Hue Adjustment Green | 0 |
Hue Adjustment Magenta | 0 |
Hue Adjustment Orange | 0 |
Hue Adjustment Purple | 0 |
Hue Adjustment Red | 0 |
Hue Adjustment Yellow | 0 |
Hyperfocal Distance | 0.86 m |
ICC Profile Name | Adobe RGB (1998) |
ISO | 1600 |
Image Size | 3992x2992 |
Lens | 20.7 mm |
Lens Info | 20.7mm f/? |
Lens Manual Distortion Amount | 0 |
Lens Model | 20.7 mm |
Lens Profile Enable | 0 |
Lens Profile Setup | LensDefaults |
Light Source | Unknown |
Light Value | 11.3 |
Luminance Adjustment Aqua | 0 |
Luminance Adjustment Blue | 0 |
Luminance Adjustment Green | 0 |
Luminance Adjustment Magenta | 0 |
Luminance Adjustment Orange | 0 |
Luminance Adjustment Purple | 0 |
Luminance Adjustment Red | 0 |
Luminance Adjustment Yellow | 0 |
Luminance Smoothing | 0 |
Metering Mode | Center-weighted average |
Parametric Darks | 0 |
Parametric Highlight Split | 75 |
Parametric Highlights | 0 |
Parametric Lights | 0 |
Parametric Midtone Split | 50 |
Parametric Shadow Split | 25 |
Parametric Shadows | 0 |
Perspective Aspect | 0 |
Perspective Horizontal | 0 |
Perspective Rotate | 0.0 |
Perspective Scale | 100 |
Perspective Upright | 0 |
Perspective Vertical | 0 |
Post Crop Vignette Amount | 0 |
Process Version | 6.7 |
Rating | 0 |
Raw File Name | DJI_0021.DNG |
Red Hue | 0 |
Red Saturation | 0 |
Saturation | Normal |
Saturation Adjustment Aqua | 0 |
Saturation Adjustment Blue | 0 |
Saturation Adjustment Green | 0 |
Saturation Adjustment Magenta | 0 |
Saturation Adjustment Orange | 0 |
Saturation Adjustment Purple | 0 |
Saturation Adjustment Red | 0 |
Saturation Adjustment Yellow | 0 |
Scale Factor To 35 mm Equivalent | 5.5 |
Scene Capture Type | Standard |
Scene Type | Directly photographed |
Shadow Tint | 0 |
Shadows 2012 | +95 |
Sharpen Detail | 25 |
Sharpen Edge Masking | 0 |
Sharpen Radius | +1.0 |
Sharpness | Normal |
Split Toning Balance | 0 |
Split Toning Highlight Hue | 0 |
Split Toning Highlight Saturation | 0 |
Split Toning Shadow Hue | 0 |
Split Toning Shadow Saturation | 0 |
Subject Distance | 0 m |
Subject Distance Range | Unknown |
Tint | -2 |
Tone Curve Name 2012 | Linear |
Tone Curve PV2012 | 0, 0, 255, 255 |
Tone Curve PV2012 Blue | 0, 0, 255, 255 |
Tone Curve PV2012 Green | 0, 0, 255, 255 |
Tone Curve PV2012 Red | 0, 0, 255, 255 |
Version | 8.0 |
Vibrance | 0 |
Vignette Amount | 0 |
White Balance | Auto |
Whites 2012 | +30 |
GPS Information |
GPS Altitude | 15.6 m Above Sea Level |
GPS Altitude Ref | Above Sea Level |
GPS Latitude | 45 deg 21' 30.72" N |
GPS Latitude Ref | North |
GPS Longitude | 9 deg 59' 32.10" E |
GPS Longitude Ref | East |
GPS Position | 45 deg 21' 30.72" N, 9 deg 59' 32.10" E |
GPS Version ID | 2.3.0.0 |