Shooting information for this photo
Camera: | Canon EOS-1D Mark IV |
Exposure: | 0.01667 sec. (1/60) |
Aperture: | f/3.5 |
Focal Length: | 70.0 mm (35 mm equivalent: 77.6 mm) |
Flash: | No Flash |
Exposure mode: | Aperture-priority AE |
Max Aperture: | 2.8 |
Resolution: | 240 x 240 dpi |
Dimension: | 4896 x 3264 pixels |
Original Date: | 2011:03:07 15:24:55.41 |
Created on: | 2011:03:07 15:24:55.41 |
Modified on: | 2015:03:11 20:58:05 |
Software: | Adobe Photoshop CC (Windows) |
Copyright: | Non pubblicare senza l'autorizzazione dell'autore Amadio Gianca |
Already Applied | True |
Approximate Focus Distance | 1.22 |
Artist | Amadio Giancarlo |
Blue Hue | 0 |
Blue Saturation | 0 |
Brightness | -10 |
Camera Profile | Adobe Standard |
Chromatic Aberration B | 0 |
Chromatic Aberration R | 0 |
Circle Of Confusion | 0.027 mm |
Clarity | +20 |
Color Mode | RGB |
Color Noise Reduction | 25 |
Color Noise Reduction Detail | 50 |
Color Space | Uncalibrated |
Color Temperature | 4450 |
Contrast | +58 |
Convert To Grayscale | False |
Creator | Amadio Giancarlo |
Custom Rendered | Normal |
Date Created | 2011:03:07 15:24:55.041+01:00 |
Defringe | 0 |
Depth Of Field | 0.05 m (1.19 - 1.25) |
Exposure | +0.55 |
Exposure Compensation | 0 |
Exposure Mode | Auto |
Field Of View | 26.1 deg |
Fill Light | 46 |
Firmware | 1.0.8 |
Flash Compensation | 0 |
Format | image/jpeg |
Grain Amount | 0 |
Green Hue | 0 |
Green Saturation | 0 |
Has Crop | False |
Has Settings | True |
Highlight Recovery | 50 |
Hue Adjustment Aqua | 0 |
Hue Adjustment Blue | 0 |
Hue Adjustment Green | 0 |
Hue Adjustment Magenta | 0 |
Hue Adjustment Orange | 0 |
Hue Adjustment Purple | 0 |
Hue Adjustment Red | 0 |
Hue Adjustment Yellow | 0 |
Hyperfocal Distance | 51.63 m |
ICC Profile Name | Adobe RGB (1998) |
ISO | 200 |
Image Number | 0 |
Image Size | 4896x3264 |
Lens | EF24-70mm f/2.8L USM |
Lens ID | Canon EF 24-70mm f/2.8L |
Lens Info | 24-70mm f/? |
Lens Manual Distortion Amount | 0 |
Lens Model | EF24-70mm f/2.8L USM |
Lens Profile Enable | 0 |
Lens Profile Setup | LensDefaults |
Light Value | 8.5 |
Luminance Adjustment Aqua | 0 |
Luminance Adjustment Blue | +9 |
Luminance Adjustment Green | +2 |
Luminance Adjustment Magenta | +68 |
Luminance Adjustment Orange | +52 |
Luminance Adjustment Purple | +23 |
Luminance Adjustment Red | 0 |
Luminance Adjustment Yellow | +3 |
Luminance Smoothing | 0 |
Metering Mode | Partial |
Owner Name | Amadio Giancarlo |
Parametric Darks | 0 |
Parametric Highlight Split | 75 |
Parametric Highlights | 0 |
Parametric Lights | 0 |
Parametric Midtone Split | 50 |
Parametric Shadow Split | 25 |
Parametric Shadows | 0 |
Perspective Horizontal | 0 |
Perspective Rotate | 0.0 |
Perspective Scale | 100 |
Perspective Vertical | 0 |
Photometric Interpretation | RGB |
Post Crop Vignette Amount | 0 |
Process Version | 5.7 |
Rating | 0 |
Raw File Name | _G8D5489.CR2 |
Red Hue | 0 |
Red Saturation | 0 |
Rights | Non pubblicare senza l'autorizzazione dell'autore Amadio Gianca |
Samples Per Pixel | 3 |
Saturation | 0 |
Saturation Adjustment Aqua | 0 |
Saturation Adjustment Blue | 0 |
Saturation Adjustment Green | 0 |
Saturation Adjustment Magenta | 0 |
Saturation Adjustment Orange | 0 |
Saturation Adjustment Purple | 0 |
Saturation Adjustment Red | 0 |
Saturation Adjustment Yellow | 0 |
Scale Factor To 35 mm Equivalent | 1.1 |
Scene Capture Type | Standard |
Sensitivity Type | Unknown |
Shadow Tint | 0 |
Shadows | 5 |
Sharpen Detail | 25 |
Sharpen Edge Masking | 0 |
Sharpen Radius | +1.0 |
Sharpness | 25 |
Split Toning Balance | 0 |
Split Toning Highlight Hue | 0 |
Split Toning Highlight Saturation | 0 |
Split Toning Shadow Hue | 0 |
Split Toning Shadow Saturation | 0 |
Subject Distance | 1.22 m |
Tint | +11 |
Tone Curve | 0, 0, 32, 22, 64, 56, 128, 128, 192, 196, 255, 255 |
Tone Curve Name | Medium Contrast |
Version | 6.3 |
Vibrance | 0 |
Vignette Amount | 0 |
White Balance | Auto |