Shooting information for this photo
Camera: | PENTAX K-30 |
Exposure: | 0.008 sec. (1/125) |
Aperture: | f/8.0 |
Focal Length: | 50.0 mm (35 mm equivalent: 75.0 mm) |
Flash: | Off, Did not fire |
Exposure mode: | Manual |
Resolution: | 320 x 320 dpi |
Original Date: | 2014:09:12 20:15:01 |
Created on: | 2014:09:12 20:15:01 |
Modified on: | 2014:09:12 23:31:43 |
Software: | Adobe Photoshop Lightroom 4.4 (Windows) |
Copyright: | G Elliot Photos |
Additional Model Information | Reveille |
Already Applied | True |
Approximate Focus Distance | 2 |
Artist | Geoffrey_Vining |
Auto Lateral CA | 0 |
Blacks 2012 | +5 |
Blue Hue | 0 |
Blue Saturation | 0 |
Camera Profile | Adobe Standard |
Circle Of Confusion | 0.020 mm |
Clarity 2012 | +5 |
Color Noise Reduction | 25 |
Color Noise Reduction Detail | 50 |
Color Temperature | 6100 |
Contrast | Normal |
Contrast 2012 | +12 |
Convert To Grayscale | True |
Creator | Geoffrey_Vining |
Crop Angle | 4.37064 |
Crop Bottom | 0.657923 |
Crop Constrain To Warp | 0 |
Crop Height | 1548 |
Crop Left | 0.368017 |
Crop Right | 0.900829 |
Crop Top | 0.120852 |
Crop Unit | pixels |
Crop Width | 2752 |
Custom Rendered | Normal |
Date Created | 2014:09:12 20:15:01 |
Exposure 2012 | +1.31 |
Exposure Compensation | 0 |
Exposure Mode | Manual |
Field Of View | 27.0 deg |
Focal Length In 35mm Format | 75 mm |
Format | image/jpeg |
Grain Amount | 0 |
Gray Mixer Aqua | -18 |
Gray Mixer Blue | -49 |
Gray Mixer Green | -16 |
Gray Mixer Magenta | +9 |
Gray Mixer Orange | -2 |
Gray Mixer Purple | -76 |
Gray Mixer Red | +40 |
Gray Mixer Yellow | +2 |
Green Hue | 0 |
Green Saturation | 0 |
Has Crop | True |
Has Settings | True |
Highlights 2012 | -40 |
Hyperfocal Distance | 15.60 m |
ISO | 100 |
Image Size | 2752x1548 |
Lens | smc PENTAX-DA 50mm F1.8 |
Lens ID | smc Pentax-DA 50mm F1.8 |
Lens Info | 50mm f/1.8 |
Lens Manual Distortion Amount | 0 |
Lens Model | smc PENTAX-DA 50mm F1.8 |
Lens Profile Enable | 0 |
Lens Profile Setup | LensDefaults |
Light Value | 13.0 |
Luminance Noise Reduction Contrast | 30 |
Luminance Noise Reduction Detail | 39 |
Luminance Smoothing | 27 |
Metering Mode | Spot |
Model Age | 21 |
Model Release ID | 20130714 |
Model Release Status | Unlimited Model Releases |
PLUS Version | 1.2.0 |
Parametric Darks | 0 |
Parametric Highlight Split | 75 |
Parametric Highlights | 0 |
Parametric Lights | 0 |
Parametric Midtone Split | 50 |
Parametric Shadow Split | 25 |
Parametric Shadows | 0 |
Perspective Horizontal | 0 |
Perspective Rotate | 0.0 |
Perspective Scale | 100 |
Perspective Vertical | 0 |
Post Crop Vignette Amount | 0 |
Process Version | 6.7 |
Red Hue | 0 |
Red Saturation | 0 |
Rights | G Elliot Photos |
Saturation | Normal |
Scale Factor To 35 mm Equivalent | 1.5 |
Scene Capture Type | Standard |
Sensing Method | One-chip color area |
Shadow Tint | 0 |
Shadows 2012 | -5 |
Sharpen Detail | 25 |
Sharpen Edge Masking | 0 |
Sharpen Radius | +1.0 |
Sharpness | Normal |
Split Toning Balance | 0 |
Split Toning Highlight Hue | 0 |
Split Toning Highlight Saturation | 0 |
Split Toning Shadow Hue | 0 |
Split Toning Shadow Saturation | 0 |
Subject Distance Range | Close |
Tint | +10 |
Tone Curve Name 2012 | Linear |
Tone Curve PV2012 | 0, 0, 255, 255 |
Tone Curve PV2012 Blue | 0, 0, 255, 255 |
Tone Curve PV2012 Green | 0, 0, 255, 255 |
Tone Curve PV2012 Red | 0, 0, 255, 255 |
Version | 7.4 |
Vignette Amount | 0 |
White Balance | Auto |
Whites 2012 | +10 |