Shooting information for this photo
Camera: | Canon EOS 650D |
Exposure: | 0.04 sec. (1/25) |
Aperture: | f/3.5 |
Focal Length: | 18.0 mm (35 mm equivalent: 28.5 mm) |
Flash: | Off, Did not fire |
Exposure mode: | Program AE |
Max Aperture: | 3.5 |
Resolution: | 96 x 96 dpi |
Dimension: | 1600 x 1112 pixels |
Original Date: | 2013:11:08 12:09:36 |
Created on: | 2013:11:08 12:09:36.00 |
Modified on: | 2023:01:14 17:25:36 |
Software: | DxO PhotoLab 6.2 |
Copyright: | presse-rudolph@gmx.de / Tel.: +49 177 5389119 |
AF Area Mode | Multi-point AF or AI AF |
AF Assist Beam | Emits |
AF Image Height | 3456 |
AF Image Width | 5184 |
AF Micro Adj Mode | Disable |
AF Micro Adj Value | 0 |
AF Points In Focus | 4,6 |
AF Points Selected | 0,1,2,3,4,5,6,7,8 |
Already Applied | True |
Ambience Selection | Standard |
Approximate Focus Distance | 1.45 |
Artist | Steffen Rudolph |
Aspect Ratio | 3:2 |
Auto Lateral CA | 0 |
Auto Lighting Optimizer | Standard |
Auto White Version | 134348800 |
Blacks 2012 | -3 |
Blue Balance | 1.825195 |
Blue Hue | 0 |
Blue Saturation | 0 |
Camera Orientation | Horizontal (normal) |
Camera Profile | Adobe Standard |
Camera Temperature | 29 C |
Camera Type | EOS High-end |
Canon Exposure Mode | Program AE |
Canon Firmware Version | Firmware Version 1.0.1 |
Canon Flash Mode | Off |
Canon Image Size | Large |
Canon Model ID | EOS Rebel T4i / 650D / Kiss X6i |
Chromatic Aberration Corr | Off |
Chromatic Aberration Setting | Off |
Circle Of Confusion | 0.019 mm |
Clarity 2012 | +16 |
Color Data Version | 10 (1DX/5DmkIII/650D) |
Color Noise Reduction | 25 |
Color Noise Reduction Detail | 50 |
Color Noise Reduction Smoothness | 50 |
Color Space | sRGB |
Color Temp As Shot | 4450 |
Color Temp Auto | 4450 |
Color Temp Cloudy | 4450 |
Color Temp Daylight | 4450 |
Color Temp Flash | 7000 |
Color Temp Fluorescent | 4459 |
Color Temp Kelvin | 5200 |
Color Temp Measured | 4450 |
Color Temp Shade | 4450 |
Color Temp Tungsten | 4450 |
Color Temperature | 4550 |
Color Tone | Normal |
Color Tone Faithful | 0 |
Color Tone Landscape | 0 |
Color Tone Neutral | 0 |
Color Tone Portrait | 0 |
Color Tone Standard | 0 |
Color Tone User Def 1 | 0 |
Color Tone User Def 2 | 0 |
Color Tone User Def 3 | 0 |
Continuous Drive | Single |
Contrast | Normal |
Contrast 2012 | 0 |
Contrast Faithful | 0 |
Contrast Landscape | 0 |
Contrast Monochrome | 0 |
Contrast Neutral | 0 |
Contrast Portrait | 0 |
Contrast Standard | 0 |
Contrast User Def 1 | 0 |
Contrast User Def 2 | 0 |
Contrast User Def 3 | 0 |
Convert To Grayscale | False |
Creator | Steffen Rudolph |
Crop Bottom Margin | 0 |
Crop Left Margin | 0 |
Crop Right Margin | 0 |
Crop Top Margin | 0 |
Cropped Image Height | 3456 |
Cropped Image Left | 0 |
Cropped Image Top | 0 |
Cropped Image Width | 5184 |
Custom Rendered | Normal |
Date Created | 2013:11:08 12:09:36 |
Defringe Green Amount | 0 |
Defringe Green Hue Hi | 60 |
Defringe Green Hue Lo | 40 |
Defringe Purple Amount | 0 |
Defringe Purple Hue Hi | 70 |
Defringe Purple Hue Lo | 30 |
Dehaze | +24 |
Depth Of Field | 1.56 m (1.33 - 2.88) |
Digital Zoom | None |
Drive Mode | Single-frame Shooting |
Easy Mode | Manual |
Exposure 2012 | 0.00 |
Exposure Level Increments | 1/3 Stop |
Exposure Mode | Auto |
Field Of View | 64.5 deg |
File Number | 101-0104 |
Filter Effect Monochrome | None |
Filter Effect User Def 1 | None |
Filter Effect User Def 2 | None |
Filter Effect User Def 3 | None |
Firmware | 1.0.1 |
Firmware Version | 1.0.1 |
Flash Activity | 0 |
Flash Bits | (none) |
Flash Compensation | 0 |
Flash Fired | False |
Flash Function | False |
Flash Mode | Off |
Flash Red Eye Mode | False |
Flash Return | No return detection |
Focal Units | 1/mm |
Focus Distance Lower | 1.13 m |
Focus Distance Upper | 1.82 m |
Focus Mode | One-shot AF |
Focus Range | Not Known |
Format | image/x-canon-cr2 |
Grain Amount | 0 |
Green Hue | 0 |
Green Saturation | 0 |
Has Crop | False |
Has Settings | True |
Highlight Tone Priority | Disable |
Highlights 2012 | -22 |
Hue Adjustment Aqua | 0 |
Hue Adjustment Blue | 0 |
Hue Adjustment Green | 0 |
Hue Adjustment Magenta | 0 |
Hue Adjustment Orange | 0 |
Hue Adjustment Purple | 0 |
Hue Adjustment Red | 0 |
Hue Adjustment Yellow | 0 |
Hyperfocal Distance | 4.88 m |
ISO | 800 |
ISO Expansion | Off |
Image Number | 0 |
Image Size | 1600x1112 |
LCD Display At Power On | Retain power off status |
Lens | 18.0 - 55.0 mm (35 mm equivalent: 28.5 - 87.2 mm) |
Lens ID | Canon EF-S 18-55mm f/3.5-5.6 IS II |
Lens Info | 18-55mm f/0 |
Lens Manual Distortion Amount | 0 |
Lens Model | EF-S18-55mm f/3.5-5.6 IS II |
Lens Profile Enable | 0 |
Lens Profile Setup | LensDefaults |
Lens Type | Canon EF-S 18-55mm f/3.5-5.6 IS II |
Light Value | 5.3 |
Luminance Adjustment Aqua | 0 |
Luminance Adjustment Blue | 0 |
Luminance Adjustment Green | 0 |
Luminance Adjustment Magenta | 0 |
Luminance Adjustment Orange | 0 |
Luminance Adjustment Purple | 0 |
Luminance Adjustment Red | 0 |
Luminance Adjustment Yellow | 0 |
Luminance Smoothing | 0 |
Macro Mode | Normal |
Manual Flash Output | n/a |
Max Aperture | 3.6 |
Max Focal Length | 55 mm |
Measured RGGB | 574 1024 1024 533 |
Metering Mode | Evaluative |
Min Aperture | 23 |
Min Focal Length | 18 mm |
Mirror Lockup | Disable |
Num AF Points | 31 |
Optical Zoom Code | n/a |
Original Image Height | 3456 |
Original Image Width | 5184 |
Owner Name | Steffen Rudolph |
Parametric Darks | 0 |
Parametric Highlight Split | 75 |
Parametric Highlights | 0 |
Parametric Lights | 0 |
Parametric Midtone Split | 50 |
Parametric Shadow Split | 25 |
Parametric Shadows | 0 |
Peripheral Lighting | On |
Peripheral Lighting Setting | On |
Peripheral Lighting Value | 60 |
Perspective Aspect | 0 |
Perspective Horizontal | 0 |
Perspective Rotate | 0.0 |
Perspective Scale | 100 |
Perspective Upright | 4 |
Perspective Vertical | 0 |
Perspective X | 0.00 |
Perspective Y | 0.00 |
Picture Style | Auto |
Post Crop Vignette Amount | 0 |
Process Version | 6.7 |
Quality | Fine |
Rating | 0 |
Rating Percent | 0 |
Raw File Name | IMG_0104.CR2 |
Raw Measured RGGB | 71313 125764 125791 63429 |
Recommended Exposure Index | 800 |
Record Mode | CR2 |
Red Balance | 1.920898 |
Red Hue | 0 |
Red Saturation | 0 |
Rights | presse-rudolph@gmx.de / Tel.: +49 177 5389119 |
SRAW Quality | n/a |
Saturation | Normal |
Saturation Adjustment Aqua | 0 |
Saturation Adjustment Blue | 0 |
Saturation Adjustment Green | 0 |
Saturation Adjustment Magenta | 0 |
Saturation Adjustment Orange | 0 |
Saturation Adjustment Purple | 0 |
Saturation Adjustment Red | 0 |
Saturation Adjustment Yellow | 0 |
Saturation Faithful | 0 |
Saturation Landscape | 0 |
Saturation Neutral | 0 |
Saturation Portrait | 0 |
Saturation Standard | 0 |
Saturation User Def 1 | 0 |
Saturation User Def 2 | 0 |
Saturation User Def 3 | 0 |
Scale Factor To 35 mm Equivalent | 1.6 |
Scene Capture Type | Standard |
Self Timer | Off |
Sensitivity Type | Recommended Exposure Index |
Set Button When Shooting | Normal (disabled) |
Shadow Tint | 0 |
Shadows 2012 | -13 |
Sharpen Detail | 57 |
Sharpen Edge Masking | 0 |
Sharpen Radius | +1.0 |
Sharpness | 56 |
Sharpness Faithful | 0 |
Sharpness Landscape | 4 |
Sharpness Monochrome | 3 |
Sharpness Neutral | 0 |
Sharpness Portrait | 2 |
Sharpness Standard | 3 |
Sharpness User Def 1 | 3 |
Sharpness User Def 2 | 3 |
Sharpness User Def 3 | 3 |
Shooting Mode | Program AE |
Shutter Button AF On Button | Metering + AF start |
Sidecar For Extension | CR2 |
Split Toning Balance | 0 |
Split Toning Highlight Hue | 0 |
Split Toning Highlight Saturation | 0 |
Split Toning Shadow Hue | 0 |
Split Toning Shadow Saturation | 0 |
Subject Distance | 1.82 m |
Tint | +9 |
Tone Curve | 0, 0, 32, 22, 64, 56, 128, 128, 192, 196, 255, 255 |
Tone Curve Blue | 0, 0, 255, 255 |
Tone Curve Green | 0, 0, 255, 255 |
Tone Curve Name | Medium Contrast |
Tone Curve Name 2012 | Linear |
Tone Curve PV2012 | 0, 0, 255, 255 |
Tone Curve PV2012 Blue | 0, 0, 255, 255 |
Tone Curve PV2012 Green | 0, 0, 255, 255 |
Tone Curve PV2012 Red | 0, 0, 255, 255 |
Tone Curve Red | 0, 0, 255, 255 |
Tone Map Strength | 0 |
Toning Effect Monochrome | None |
Toning Effect User Def 1 | None |
Toning Effect User Def 2 | None |
Toning Effect User Def 3 | None |
User Def 1 Picture Style | Auto |
User Def 2 Picture Style | Auto |
User Def 3 Picture Style | Auto |
VRD Offset | 0 |
Valid AF Points | 9 |
Version | 9.6 |
Vibrance | +36 |
Vignette Amount | 0 |
WB RGGB Levels | 1967 1024 1024 1869 |
WB RGGB Levels As Shot | 1967 1024 1024 1869 |
WB RGGB Levels Auto | 1967 1024 1024 1869 |
WB RGGB Levels Cloudy | 1967 1024 1024 1869 |
WB RGGB Levels Daylight | 1967 1024 1024 1869 |
WB RGGB Levels Flash | 2450 1024 1024 1423 |
WB RGGB Levels Fluorescent | 609 1170 1170 642 |
WB RGGB Levels Kelvin | 2131 1024 1024 1659 |
WB RGGB Levels Measured | 1967 1024 1024 1869 |
WB RGGB Levels Shade | 1967 1024 1024 1869 |
WB RGGB Levels Tungsten | 1965 1025 1022 1867 |
Whites 2012 | -28 |
Zoom Source Width | 0 |
Zoom Target Width | 0 |
GPS Information |
GPS Version ID | 2.3.0.0 |