Shooting information for this photo
Camera: | Canon EOS 650D |
Exposure: | 0.00313 sec. (1/320) |
Aperture: | f/13.0 |
Focal Length: | 47.0 mm (35 mm equivalent: 74.5 mm) |
Flash: | Off, Did not fire |
Exposure mode: | Program AE |
Max Aperture: | 5.4 |
Resolution: | 96 x 96 dpi |
Dimension: | 1600 x 1067 pixels |
Original Date: | 2016:08:28 15:21:17.00 |
Created on: | 2016:08:28 15:21:17.00 |
Modified on: | 2017:03:13 17:10:45.00 |
Software: | Adobe Photoshop CC 2017 (Windows) |
Copyright: | presse-rudolph@gmx.de / Tel.: +49 177 5389119 |
Already Applied | True |
Approximate Focus Distance | 4294967295 |
Artist | Steffen Rudolph |
Auto Lateral CA | 0 |
Auto White Version | 134348800 |
Blacks 2012 | -3 |
Blue Hue | 0 |
Blue Saturation | 0 |
Camera Profile | Adobe Standard |
Circle Of Confusion | 0.019 mm |
Clarity 2012 | +53 |
Color Mode | RGB |
Color Noise Reduction | 25 |
Color Noise Reduction Detail | 50 |
Color Noise Reduction Smoothness | 50 |
Color Space | sRGB |
Color Temperature | 4900 |
Contrast 2012 | -7 |
Convert To Grayscale | False |
Creator | Steffen Rudolph |
Custom Rendered | Normal |
Date Created | 2016:08:28 15:21:17 |
Defringe Green Amount | 0 |
Defringe Green Hue Hi | 60 |
Defringe Green Hue Lo | 40 |
Defringe Purple Amount | 0 |
Defringe Purple Hue Hi | 70 |
Defringe Purple Hue Lo | 30 |
Dehaze | +2 |
Exposure 2012 | +1.00 |
Exposure Compensation | 0 |
Exposure Mode | Auto |
Field Of View | 27.2 deg |
Firmware | 1.0.4 |
Flash Compensation | 0 |
Format | image/jpeg |
Grain Amount | 0 |
Green Hue | 0 |
Green Saturation | 0 |
Has Crop | False |
Has Settings | True |
Highlights 2012 | -44 |
Hue Adjustment Aqua | 0 |
Hue Adjustment Blue | 0 |
Hue Adjustment Green | 0 |
Hue Adjustment Magenta | 0 |
Hue Adjustment Orange | 0 |
Hue Adjustment Purple | 0 |
Hue Adjustment Red | 0 |
Hue Adjustment Yellow | 0 |
Hyperfocal Distance | 8.96 m |
ICC Profile Name | sRGB IEC61966-2.1 |
ISO | 200 |
Image Number | 0 |
Image Size | 1600x1067 |
Lens | EF-S18-55mm f/3.5-5.6 IS II |
Lens ID | Canon EF-S 18-55mm f/3.5-5.6 IS II |
Lens Info | 18-55mm f/? |
Lens Manual Distortion Amount | 0 |
Lens Model | EF-S18-55mm f/3.5-5.6 IS II |
Lens Profile Enable | 0 |
Lens Profile Setup | LensDefaults |
Light Value | 14.7 |
Luminance Adjustment Aqua | 0 |
Luminance Adjustment Blue | 0 |
Luminance Adjustment Green | 0 |
Luminance Adjustment Magenta | 0 |
Luminance Adjustment Orange | 0 |
Luminance Adjustment Purple | 0 |
Luminance Adjustment Red | 0 |
Luminance Adjustment Yellow | 0 |
Luminance Smoothing | 0 |
Metering Mode | Multi-segment |
Owner Name | Steffen Rudolph |
Parametric Darks | -27 |
Parametric Highlight Split | 75 |
Parametric Highlights | -54 |
Parametric Lights | -31 |
Parametric Midtone Split | 50 |
Parametric Shadow Split | 25 |
Parametric Shadows | +15 |
Perspective Aspect | 0 |
Perspective Horizontal | 0 |
Perspective Rotate | 0.0 |
Perspective Scale | 100 |
Perspective Upright | 4 |
Perspective Vertical | 0 |
Perspective X | 0.00 |
Perspective Y | 0.00 |
Post Crop Vignette Amount | 0 |
Process Version | 6.7 |
Rating | 0 |
Raw File Name | IMG_0035.CR2 |
Recommended Exposure Index | 200 |
Red Hue | 0 |
Red Saturation | 0 |
Rights | presse-rudolph@gmx.de / Tel.: +49 177 5389119 |
Saturation | 0 |
Saturation Adjustment Aqua | 0 |
Saturation Adjustment Blue | 0 |
Saturation Adjustment Green | 0 |
Saturation Adjustment Magenta | 0 |
Saturation Adjustment Orange | 0 |
Saturation Adjustment Purple | 0 |
Saturation Adjustment Red | 0 |
Saturation Adjustment Yellow | 0 |
Scale Factor To 35 mm Equivalent | 1.6 |
Scene Capture Type | Standard |
Sensitivity Type | Recommended Exposure Index |
Shadow Tint | 0 |
Shadows 2012 | +44 |
Sharpen Detail | 53 |
Sharpen Edge Masking | 0 |
Sharpen Radius | +1.0 |
Sharpness | 25 |
Split Toning Balance | 0 |
Split Toning Highlight Hue | 0 |
Split Toning Highlight Saturation | 0 |
Split Toning Shadow Hue | 0 |
Split Toning Shadow Saturation | 0 |
Tint | 0 |
Tone Curve | 0, 0, 32, 22, 64, 56, 128, 128, 192, 196, 255, 255 |
Tone Curve Blue | 0, 0, 255, 255 |
Tone Curve Green | 0, 0, 255, 255 |
Tone Curve Name | Medium Contrast |
Tone Curve Name 2012 | Linear |
Tone Curve PV2012 | 0, 0, 255, 255 |
Tone Curve PV2012 Blue | 0, 0, 255, 255 |
Tone Curve PV2012 Green | 0, 0, 255, 255 |
Tone Curve PV2012 Red | 0, 0, 255, 255 |
Tone Curve Red | 0, 0, 255, 255 |
Tone Map Strength | 0 |
Version | 9.9 |
Vibrance | +39 |
Vignette Amount | 0 |
White Balance | Auto |
Whites 2012 | +29 |