Shooting information for this photo
Camera: | Canon PowerShot SX620 HS |
Exposure: | 0.002 sec. (1/500) |
Aperture: | f/4.0 |
Focal Length: | 7.7 mm (35 mm equivalent: 42.8 mm) |
Flash: | Off, Did not fire |
Max Aperture: | 4.0 |
Resolution: | 240 x 240 dpi |
Original Date: | 2020:10:15 14:37:52 |
Created on: | 2020:10:15 14:37:52 |
Modified on: | 2020:11:01 13:56:43 |
Software: | Adobe Photoshop Lightroom 4.4 (Windows) |
Already Applied | True |
Approximate Focus Distance | 1.01 |
Auto Lateral CA | 0 |
Blacks 2012 | +1 |
Blue Hue | 0 |
Blue Saturation | 0 |
Camera Profile | Embedded |
Circle Of Confusion | 0.005 mm |
Clarity 2012 | 0 |
Color Noise Reduction | 0 |
Contrast 2012 | -3 |
Convert To Grayscale | False |
Crop Angle | 1.6 |
Crop Bottom | 0.950711 |
Crop Constrain To Warp | 0 |
Crop Height | 1939 |
Crop Left | 0.025873 |
Crop Right | 0.980841 |
Crop Top | 0.103959 |
Crop Unit | pixels |
Crop Width | 3100 |
Custom Rendered | Normal |
Date Created | 2020:10:15 14:37:52-07:00 |
Defringe Green Amount | 0 |
Defringe Green Hue Hi | 60 |
Defringe Green Hue Lo | 40 |
Defringe Purple Amount | 0 |
Defringe Purple Hue Hi | 70 |
Defringe Purple Hue Lo | 30 |
Description | <i>Not a great picture, I had to take it from the car while (luckily) stopped in traffic.</i>..A poster on Harrison St., a major route for getting on the expressway headed out of downtown. “I saved his a**.” An actual Trump statement about protecting Saudi Crown Prince Mohammed bin Salman from being charged with the murder of Jamal Khashoggi...Source: https://www.businessinsider.co m/trump-woodward-i-saved-his-a ss-mbs-khashoggi-rage-2020-9?o p=1 |
Digital Zoom Ratio | 1 |
Exposure 2012 | -0.40 |
Exposure Compensation | 0 |
Exposure Mode | Auto |
Field Of View | 45.7 deg |
Firmware | 1.00 |
Flash Compensation | 0 |
Format | image/jpeg |
Grain Amount | 0 |
Green Hue | 0 |
Green Saturation | 0 |
Has Crop | True |
Has Settings | True |
Highlights 2012 | -44 |
Hue Adjustment Aqua | 0 |
Hue Adjustment Blue | 0 |
Hue Adjustment Green | 0 |
Hue Adjustment Magenta | 0 |
Hue Adjustment Orange | 0 |
Hue Adjustment Purple | 0 |
Hue Adjustment Red | 0 |
Hue Adjustment Yellow | 0 |
Hyperfocal Distance | 2.74 m |
ISO | 80 |
Image Description | <i>Not a great picture, I had to take it from the car while (luckily) stopped in traffic.</i>..A poster on Harrison St., a major route for getting on the expressway headed out of downtown. “I saved his a**.” An actual Trump statement about protecting Saudi Crown Prince Mohammed bin Salman from being charged with the murder of Jamal Khashoggi...Source: https://www.businessinsider.co m/trump-woodward-i-saved-his-a ss-mbs-khashoggi-rage-2020-9?o p=1 |
Image Size | 3100x1939 |
Incremental Temperature | 0 |
Incremental Tint | 0 |
Lens | 4.5-112.5 mm |
Lens Info | 4.5-112.5mm f/? |
Lens Manual Distortion Amount | 0 |
Lens Model | 4.5-112.5 mm |
Lens Profile Enable | 0 |
Lens Profile Setup | LensDefaults |
Light Value | 13.3 |
Luminance Adjustment Aqua | 0 |
Luminance Adjustment Blue | 0 |
Luminance Adjustment Green | 0 |
Luminance Adjustment Magenta | 0 |
Luminance Adjustment Orange | 0 |
Luminance Adjustment Purple | 0 |
Luminance Adjustment Red | 0 |
Luminance Adjustment Yellow | 0 |
Luminance Smoothing | 0 |
Metering Mode | Multi-segment |
Parametric Darks | 0 |
Parametric Highlight Split | 75 |
Parametric Highlights | 0 |
Parametric Lights | 0 |
Parametric Midtone Split | 50 |
Parametric Shadow Split | 25 |
Parametric Shadows | 0 |
Perspective Horizontal | 0 |
Perspective Rotate | 0.0 |
Perspective Scale | 100 |
Perspective Vertical | 0 |
Post Crop Vignette Amount | 0 |
Process Version | 6.7 |
Rating | 1 |
Red Hue | 0 |
Red Saturation | 0 |
Saturation | 0 |
Saturation Adjustment Aqua | 0 |
Saturation Adjustment Blue | 0 |
Saturation Adjustment Green | 0 |
Saturation Adjustment Magenta | 0 |
Saturation Adjustment Orange | 0 |
Saturation Adjustment Purple | 0 |
Saturation Adjustment Red | 0 |
Saturation Adjustment Yellow | 0 |
Scale Factor To 35 mm Equivalent | 5.6 |
Scene Capture Type | Standard |
Sensing Method | One-chip color area |
Sensitivity Type | Standard Output Sensitivity and Recommended Exposure Index |
Shadow Tint | 0 |
Shadows 2012 | +44 |
Sharpen Detail | 25 |
Sharpen Edge Masking | 0 |
Sharpen Radius | +1.0 |
Sharpness | 0 |
Split Toning Balance | 0 |
Split Toning Highlight Hue | 0 |
Split Toning Highlight Saturation | 0 |
Split Toning Shadow Hue | 0 |
Split Toning Shadow Saturation | 0 |
Subject | California, SF1020, San Francisco, pandemic |
Title | San Francisco anti-Trump poster (# 0225). |
Tone Curve Name 2012 | Linear |
Tone Curve PV2012 | 0, 0, 255, 255 |
Tone Curve PV2012 Blue | 0, 0, 255, 255 |
Tone Curve PV2012 Green | 0, 0, 255, 255 |
Tone Curve PV2012 Red | 0, 0, 255, 255 |
Version | 7.4 |
Vibrance | 0 |
Vignette Amount | 0 |
White Balance | Auto |
Whites 2012 | +17 |
GPS Information |
GPS Date Stamp | 2020:10:15 |
GPS Date/Time | 2020:10:15 21:37:52Z |
GPS Latitude | 37 deg 46' 58.20" N |
GPS Latitude Ref | North |
GPS Longitude | 122 deg 23' 48.10" W |
GPS Longitude Ref | West |
GPS Map Datum | WGS-84 |
GPS Position | 37 deg 46' 58.20" N, 122 deg 23' 48.10" W |
GPS Time Stamp | 21:37:52 |
GPS Version ID | 2.2.0.0 |