Shooting information for this photo
Camera: | NIKON CORPORATION NIKON D5600 |
Exposure: | 0.002 sec. (1/500) |
Aperture: | f/11.0 |
Focal Length: | 18.0 mm (35 mm equivalent: 27.0 mm) |
Flash: | Off, Did not fire |
Exposure mode: | Not Defined |
Max Aperture: | 3.6 |
Resolution: | 240 x 240 dpi |
Original Date: | 2019:08:10 10:30:47 |
Created on: | 2019:08:10 08:30:47.66 |
Modified on: | 2019:09:01 23:49:28 |
Software: | Adobe Photoshop Lightroom 4.4 (Windows) |
Already Applied | True |
Approximate Focus Distance | 4294967295 |
Auto Lateral CA | 0 |
Blacks 2012 | -6 |
Blue Hue | 0 |
Blue Saturation | 0 |
CFA Pattern | [Red,Green][Green,Blue] |
Camera Profile | Adobe Standard |
Circle Of Confusion | 0.020 mm |
Clarity 2012 | 0 |
Color Noise Reduction | 25 |
Color Noise Reduction Detail | 50 |
Color Temperature | 4800 |
Contrast | Normal |
Contrast 2012 | +2 |
Convert To Grayscale | False |
Crop Angle | 0 |
Crop Bottom | 0.76 |
Crop Constrain To Warp | 0 |
Crop Height | 1950 |
Crop Left | 0.106614 |
Crop Right | 0.686081 |
Crop Top | 0.213333 |
Crop Unit | pixels |
Crop Width | 3100 |
Custom Rendered | Normal |
Date Created | 2019:08:10 10:30:47-04:00 |
Defringe Green Amount | 0 |
Defringe Green Hue Hi | 60 |
Defringe Green Hue Lo | 40 |
Defringe Purple Amount | 0 |
Defringe Purple Hue Hi | 70 |
Defringe Purple Hue Lo | 30 |
Description | In a central plaza in downtown South Bend, a statue of Martin Luther King joining hands with Theodore M. Hesburgh, the former president of the University of Notre Dame. The statue is based on a famous photograph of their joining hands at a rally in Soldier Field in Chicago in 1964...Source: https://www.southbendtribune.c om/news/education/sculpture-ho noring-mlk-and-father-hesburgh -is-unveiled-in-downtown/artic le_7d1ece24-7af2-558c-a708-3fa 1c49daa24.html |
Digital Zoom Ratio | 1 |
Exposure 2012 | +0.40 |
Exposure Compensation | 0 |
Exposure Mode | Auto |
Field Of View | 67.4 deg |
Focal Length In 35mm Format | 27 mm |
Format | image/jpeg |
Gain Control | Low gain up |
Grain Amount | 0 |
Green Hue | 0 |
Green Saturation | 0 |
Has Crop | True |
Has Settings | True |
Highlights 2012 | -16 |
Hue Adjustment Aqua | 0 |
Hue Adjustment Blue | 0 |
Hue Adjustment Green | 0 |
Hue Adjustment Magenta | 0 |
Hue Adjustment Orange | 0 |
Hue Adjustment Purple | 0 |
Hue Adjustment Red | 0 |
Hue Adjustment Yellow | 0 |
Hyperfocal Distance | 1.47 m |
ISO | 400 |
Image Description | In a central plaza in downtown South Bend, a statue of Martin Luther King joining hands with Theodore M. Hesburgh, the former president of the University of Notre Dame. The statue is based on a famous photograph of their joining hands at a rally in Soldier Field in Chicago in 1964...Source: https://www.southbendtribune.c om/news/education/sculpture-ho noring-mlk-and-father-hesburgh -is-unveiled-in-downtown/artic le_7d1ece24-7af2-558c-a708-3fa 1c49daa24.html |
Image Number | 2643 |
Image Size | 3100x1950 |
Lens | 18.0-55.0 mm f/3.5-5.6 |
Lens ID | AF-S DX VR Zoom-Nikkor 18-55mm f/3.5-5.6G |
Lens Info | 18-55mm f/3.5-5.6 |
Lens Manual Distortion Amount | 0 |
Lens Model | 18.0-55.0 mm f/3.5-5.6 |
Lens Profile Enable | 0 |
Lens Profile Setup | LensDefaults |
Light Source | Unknown |
Light Value | 13.9 |
Luminance Adjustment Aqua | 0 |
Luminance Adjustment Blue | 0 |
Luminance Adjustment Green | 0 |
Luminance Adjustment Magenta | 0 |
Luminance Adjustment Orange | 0 |
Luminance Adjustment Purple | 0 |
Luminance Adjustment Red | 0 |
Luminance Adjustment Yellow | 0 |
Luminance Smoothing | 0 |
Metering Mode | Multi-segment |
Parametric Darks | 0 |
Parametric Highlight Split | 75 |
Parametric Highlights | 0 |
Parametric Lights | 0 |
Parametric Midtone Split | 50 |
Parametric Shadow Split | 25 |
Parametric Shadows | 0 |
Perspective Horizontal | 0 |
Perspective Rotate | 0.0 |
Perspective Scale | 100 |
Perspective Vertical | 0 |
Post Crop Vignette Amount | 0 |
Process Version | 6.7 |
Rating | 1 |
Recommended Exposure Index | 400 |
Red Hue | 0 |
Red Saturation | 0 |
Saturation | Normal |
Saturation Adjustment Aqua | 0 |
Saturation Adjustment Blue | 0 |
Saturation Adjustment Green | 0 |
Saturation Adjustment Magenta | 0 |
Saturation Adjustment Orange | 0 |
Saturation Adjustment Purple | 0 |
Saturation Adjustment Red | 0 |
Saturation Adjustment Yellow | 0 |
Scale Factor To 35 mm Equivalent | 1.5 |
Scene Capture Type | Landscape |
Scene Type | Directly photographed |
Sensing Method | One-chip color area |
Sensitivity Type | Recommended Exposure Index |
Shadow Tint | 0 |
Shadows 2012 | +16 |
Sharpen Detail | 25 |
Sharpen Edge Masking | 0 |
Sharpen Radius | +1.0 |
Sharpness | Normal |
Split Toning Balance | 0 |
Split Toning Highlight Hue | 0 |
Split Toning Highlight Saturation | 0 |
Split Toning Shadow Hue | 0 |
Split Toning Shadow Saturation | 0 |
Subject | Indiana, MidWest0819, South Bend, statue |
Subject Distance Range | Unknown |
Tint | +3 |
Title | South Bend Martin Luther King statue (#0195). |
Tone Curve Name 2012 | Linear |
Tone Curve PV2012 | 0, 0, 255, 255 |
Tone Curve PV2012 Blue | 0, 0, 255, 255 |
Tone Curve PV2012 Green | 0, 0, 255, 255 |
Tone Curve PV2012 Red | 0, 0, 255, 255 |
Version | 7.4 |
Vibrance | 0 |
Vignette Amount | 0 |
White Balance | Auto |
Whites 2012 | +36 |
GPS Information |
GPS Date Stamp | 2019:08:10 |
GPS Date/Time | 2019:08:10 12:30:47Z |
GPS Latitude | 41 deg 40' 31.80" N |
GPS Latitude Ref | North |
GPS Longitude | 86 deg 15' 6.40" W |
GPS Longitude Ref | West |
GPS Map Datum | WGS-84 |
GPS Position | 41 deg 40' 31.80" N, 86 deg 15' 6.40" W |
GPS Time Stamp | 12:30:47 |
GPS Version ID | 2.2.0.0 |