Shooting information for this photo
Camera: | NIKON CORPORATION NIKON D3100 |
Exposure: | 0.004 sec. (1/250) |
Aperture: | f/8.0 |
Focal Length: | 18.0 mm (35 mm equivalent: 27.0 mm) |
Flash: | Off, Did not fire |
Exposure mode: | Not Defined |
Max Aperture: | 3.5 |
Resolution: | 240 x 240 dpi |
Original Date: | 2015:07:24 13:39:39.50 |
Created on: | 2015:07:24 13:39:39.50 |
Modified on: | 2015:08:19 01:03:41 |
Software: | Adobe Photoshop Lightroom 4.4 (Windows) |
Already Applied | True |
Approximate Focus Distance | 4294967295 |
Auto Lateral CA | 0 |
Blacks 2012 | -10 |
Blue Hue | 0 |
Blue Saturation | 0 |
CFA Pattern | [Green,Blue][Red,Green] |
Camera Profile | Adobe Standard |
Circle Of Confusion | 0.020 mm |
Clarity 2012 | 0 |
Color Noise Reduction | 25 |
Color Noise Reduction Detail | 50 |
Color Space | sRGB |
Color Temperature | 4750 |
Contrast | Normal |
Contrast 2012 | -8 |
Convert To Grayscale | False |
Crop Angle | 0 |
Crop Bottom | 0.827751 |
Crop Constrain To Warp | 0 |
Crop Height | 1739 |
Crop Left | 0.051037 |
Crop Right | 0.992026 |
Crop Top | 0.035885 |
Crop Unit | pixels |
Crop Width | 3100 |
Custom Rendered | Normal |
Date Created | 2015:07:24 13:39:39.50 |
Defringe Green Amount | 0 |
Defringe Green Hue Hi | 60 |
Defringe Green Hue Lo | 40 |
Defringe Purple Amount | 0 |
Defringe Purple Hue Hi | 70 |
Defringe Purple Hue Lo | 30 |
Description | B-24 Liberator bomber, used extensively during WWII, there were over 16,000 B-24's built. See: http://www.castleairmuseum.org /consolidatedb24m |
Digital Zoom Ratio | 1 |
Exposure 2012 | -0.80 |
Exposure Compensation | 0 |
Exposure Mode | Auto |
Field Of View | 67.4 deg |
Focal Length In 35mm Format | 27 mm |
Format | image/jpeg |
Gain Control | None |
Grain Amount | 0 |
Green Hue | 0 |
Green Saturation | 0 |
Has Crop | True |
Has Settings | True |
Highlights 2012 | 0 |
Hue Adjustment Aqua | 0 |
Hue Adjustment Blue | 0 |
Hue Adjustment Green | 0 |
Hue Adjustment Magenta | 0 |
Hue Adjustment Orange | 0 |
Hue Adjustment Purple | 0 |
Hue Adjustment Red | 0 |
Hue Adjustment Yellow | 0 |
Hyperfocal Distance | 2.02 m |
ISO | 100 |
Image Description | B-24 Liberator bomber, used extensively during WWII, there were over 16,000 B-24's built. See: http://www.castleairmuseum.org /consolidatedb24m |
Image Number | 7505 |
Image Size | 3100x1739 |
Lens | 18.0-55.0 mm f/3.5-5.6 |
Lens ID | AF-S DX VR Zoom-Nikkor 18-55mm f/3.5-5.6G |
Lens Info | 18-55mm f/3.5-5.6 |
Lens Manual Distortion Amount | 0 |
Lens Model | 18.0-55.0 mm f/3.5-5.6 |
Lens Profile Enable | 0 |
Lens Profile Setup | LensDefaults |
Light Source | Unknown |
Light Value | 14.0 |
Luminance Adjustment Aqua | 0 |
Luminance Adjustment Blue | 0 |
Luminance Adjustment Green | 0 |
Luminance Adjustment Magenta | 0 |
Luminance Adjustment Orange | 0 |
Luminance Adjustment Purple | 0 |
Luminance Adjustment Red | 0 |
Luminance Adjustment Yellow | 0 |
Luminance Smoothing | 0 |
Metering Mode | Multi-segment |
Parametric Darks | 0 |
Parametric Highlight Split | 75 |
Parametric Highlights | 0 |
Parametric Lights | 0 |
Parametric Midtone Split | 50 |
Parametric Shadow Split | 25 |
Parametric Shadows | 0 |
Perspective Horizontal | 0 |
Perspective Rotate | 0.0 |
Perspective Scale | 100 |
Perspective Vertical | 0 |
Post Crop Vignette Amount | 0 |
Process Version | 6.7 |
Red Hue | 0 |
Red Saturation | 0 |
Saturation | Normal |
Saturation Adjustment Aqua | 0 |
Saturation Adjustment Blue | 0 |
Saturation Adjustment Green | 0 |
Saturation Adjustment Magenta | 0 |
Saturation Adjustment Orange | 0 |
Saturation Adjustment Purple | 0 |
Saturation Adjustment Red | 0 |
Saturation Adjustment Yellow | 0 |
Scale Factor To 35 mm Equivalent | 1.5 |
Scene Capture Type | Standard |
Scene Type | Directly photographed |
Sensing Method | One-chip color area |
Shadow Tint | 0 |
Shadows 2012 | 0 |
Sharpen Detail | 25 |
Sharpen Edge Masking | 0 |
Sharpen Radius | +1.0 |
Sharpness | Normal |
Split Toning Balance | 0 |
Split Toning Highlight Hue | 0 |
Split Toning Highlight Saturation | 0 |
Split Toning Shadow Hue | 0 |
Split Toning Shadow Saturation | 0 |
Subject | California, Central Valley, airplanes, military |
Subject Distance Range | Unknown |
Tint | +9 |
Title | Atwater CA Castle Air Museum B-24M (#0005) |
Tone Curve Name 2012 | Linear |
Tone Curve PV2012 | 0, 0, 255, 255 |
Tone Curve PV2012 Blue | 0, 0, 255, 255 |
Tone Curve PV2012 Green | 0, 0, 255, 255 |
Tone Curve PV2012 Red | 0, 0, 255, 255 |
Version | 7.4 |
Vibrance | 0 |
Vignette Amount | 0 |
White Balance | Auto |
Whites 2012 | +15 |
GPS Information |
GPS Latitude | 37 deg 21' 52.86" N |
GPS Latitude Ref | North |
GPS Longitude | 120 deg 34' 41.57" W |
GPS Longitude Ref | West |
GPS Position | 37 deg 21' 52.86" N, 120 deg 34' 41.57" W |
GPS Version ID | 2.2.0.0 |