Shooting information for this photo
Camera: | NIKON CORPORATION NIKON D3100 |
Exposure: | 0.00313 sec. (1/320) |
Aperture: | f/9.0 |
Focal Length: | 38.0 mm (35 mm equivalent: 57.0 mm) |
Flash: | No Flash |
Exposure mode: | Program AE |
Max Aperture: | 5.1 |
Resolution: | 240 x 240 dpi |
Original Date: | 2013:07:30 11:10:52.30 |
Created on: | 2013:07:30 11:10:52.30 |
Modified on: | 2013:08:13 00:27:56 |
Software: | Adobe Photoshop Lightroom 4.4 (Windows) |
Already Applied | True |
Approximate Focus Distance | 4294967295 |
Auto Lateral CA | 0 |
Blacks 2012 | -39 |
Blue Hue | 0 |
Blue Saturation | 0 |
CFA Pattern | [Green,Blue][Red,Green] |
Camera Profile | Adobe Standard |
Circle Of Confusion | 0.020 mm |
Clarity 2012 | +5 |
Color Noise Reduction | 25 |
Color Noise Reduction Detail | 50 |
Color Temperature | 4900 |
Contrast | Normal |
Contrast 2012 | -17 |
Convert To Grayscale | False |
Crop Angle | -0.5 |
Crop Bottom | 0.76469 |
Crop Constrain To Warp | 0 |
Crop Height | 1631 |
Crop Left | 0.176257 |
Crop Right | 0.778111 |
Crop Top | 0.162633 |
Crop Unit | pixels |
Crop Width | 2400 |
Custom Rendered | Normal |
Date Created | 2013:07:30 11:10:52.30 |
Defringe Green Amount | 0 |
Defringe Green Hue Hi | 60 |
Defringe Green Hue Lo | 40 |
Defringe Purple Amount | 0 |
Defringe Purple Hue Hi | 70 |
Defringe Purple Hue Lo | 30 |
Description | A very surprising structure to find on the edge of a small, rural, farming town in the eastern portion of the California Central Valley. I searched and could not find any information as to what this was going to be. It seems to combine Muslim, Hindu, and Christian styles in the architecture (maybe it is Bahai?) |
Digital Zoom Ratio | 1 |
Exposure 2012 | +0.05 |
Exposure Compensation | 0 |
Exposure Mode | Auto |
Field Of View | 35.1 deg |
Focal Length In 35mm Format | 57 mm |
Format | image/jpeg |
Gain Control | None |
Grain Amount | 0 |
Green Hue | 0 |
Green Saturation | 0 |
Has Crop | True |
Has Settings | True |
Highlights 2012 | 0 |
Hue Adjustment Aqua | 0 |
Hue Adjustment Blue | 0 |
Hue Adjustment Green | 0 |
Hue Adjustment Magenta | 0 |
Hue Adjustment Orange | 0 |
Hue Adjustment Purple | 0 |
Hue Adjustment Red | 0 |
Hue Adjustment Yellow | 0 |
Hyperfocal Distance | 8.01 m |
ISO | 100 |
Image Description | A very surprising structure to find on the edge of a small, rural, farming town in the eastern portion of the California Central Valley. I searched and could not find any information as to what this was going to be. It seems to combine Muslim, Hindu, and Christian styles in the architecture (maybe it is Bahai?) |
Image Number | 1379 |
Image Size | 2400x1631 |
Lens | 18.0-55.0 mm f/3.5-5.6 |
Lens ID | AF-S DX VR Zoom-Nikkor 18-55mm f/3.5-5.6G |
Lens Info | 18-55mm f/3.5-5.6 |
Lens Manual Distortion Amount | 0 |
Lens Model | 18.0-55.0 mm f/3.5-5.6 |
Lens Profile Enable | 0 |
Lens Profile Setup | LensDefaults |
Light Source | Unknown |
Light Value | 14.7 |
Luminance Adjustment Aqua | 0 |
Luminance Adjustment Blue | 0 |
Luminance Adjustment Green | 0 |
Luminance Adjustment Magenta | 0 |
Luminance Adjustment Orange | 0 |
Luminance Adjustment Purple | 0 |
Luminance Adjustment Red | 0 |
Luminance Adjustment Yellow | 0 |
Luminance Smoothing | 0 |
Metering Mode | Center-weighted average |
Parametric Darks | 0 |
Parametric Highlight Split | 75 |
Parametric Highlights | 0 |
Parametric Lights | 0 |
Parametric Midtone Split | 50 |
Parametric Shadow Split | 25 |
Parametric Shadows | 0 |
Perspective Horizontal | 0 |
Perspective Rotate | 0.0 |
Perspective Scale | 100 |
Perspective Vertical | 0 |
Post Crop Vignette Amount | 0 |
Process Version | 6.7 |
Red Hue | 0 |
Red Saturation | 0 |
Saturation | Normal |
Saturation Adjustment Aqua | 0 |
Saturation Adjustment Blue | 0 |
Saturation Adjustment Green | 0 |
Saturation Adjustment Magenta | 0 |
Saturation Adjustment Orange | 0 |
Saturation Adjustment Purple | 0 |
Saturation Adjustment Red | 0 |
Saturation Adjustment Yellow | 0 |
Scale Factor To 35 mm Equivalent | 1.5 |
Scene Capture Type | Standard |
Scene Type | Directly photographed |
Sensing Method | One-chip color area |
Shadow Tint | 0 |
Shadows 2012 | 0 |
Sharpen Detail | 25 |
Sharpen Edge Masking | 0 |
Sharpen Radius | +1.0 |
Sharpness | Normal |
Split Toning Balance | 0 |
Split Toning Highlight Hue | 0 |
Split Toning Highlight Saturation | 0 |
Split Toning Shadow Hue | 0 |
Split Toning Shadow Saturation | 0 |
Subject | California, Central Valley, architecture, church, rural |
Subject Distance Range | Unknown |
Tint | +8 |
Title | Orosi temple / mosque? (0610) |
Tone Curve Name 2012 | Linear |
Tone Curve PV2012 | 0, 0, 255, 255 |
Tone Curve PV2012 Blue | 0, 0, 255, 255 |
Tone Curve PV2012 Green | 0, 0, 255, 255 |
Tone Curve PV2012 Red | 0, 0, 255, 255 |
Version | 7.4 |
Vibrance | 0 |
Vignette Amount | 0 |
White Balance | Auto |
Whites 2012 | +42 |
GPS Information |
GPS Altitude | 111.89 m |
GPS Latitude | 36 deg 32' 41.30" N |
GPS Latitude Ref | North |
GPS Longitude | 119 deg 18' 1.73" W |
GPS Longitude Ref | West |
GPS Position | 36 deg 32' 41.30" N, 119 deg 18' 1.73" W |
GPS Version ID | 2.2.0.0 |